BEGIN:VCALENDAR
VERSION:2.0
PRODID:-//Stateline Kids - ECPv6.5.1.3//NONSGML v1.0//EN
CALSCALE:GREGORIAN
METHOD:PUBLISH
X-ORIGINAL-URL:https://statelinekids.com
X-WR-CALDESC:Events for Stateline Kids
REFRESH-INTERVAL;VALUE=DURATION:PT1H
X-Robots-Tag:noindex
X-PUBLISHED-TTL:PT1H
BEGIN:VTIMEZONE
TZID:America/Chicago
BEGIN:DAYLIGHT
TZOFFSETFROM:-0600
TZOFFSETTO:-0500
TZNAME:CDT
DTSTART:20190310T080000
END:DAYLIGHT
BEGIN:STANDARD
TZOFFSETFROM:-0500
TZOFFSETTO:-0600
TZNAME:CST
DTSTART:20191103T070000
END:STANDARD
BEGIN:DAYLIGHT
TZOFFSETFROM:-0600
TZOFFSETTO:-0500
TZNAME:CDT
DTSTART:20200308T080000
END:DAYLIGHT
BEGIN:STANDARD
TZOFFSETFROM:-0500
TZOFFSETTO:-0600
TZNAME:CST
DTSTART:20201101T070000
END:STANDARD
BEGIN:DAYLIGHT
TZOFFSETFROM:-0600
TZOFFSETTO:-0500
TZNAME:CDT
DTSTART:20210314T080000
END:DAYLIGHT
BEGIN:STANDARD
TZOFFSETFROM:-0500
TZOFFSETTO:-0600
TZNAME:CST
DTSTART:20211107T070000
END:STANDARD
BEGIN:DAYLIGHT
TZOFFSETFROM:-0600
TZOFFSETTO:-0500
TZNAME:CDT
DTSTART:20220313T080000
END:DAYLIGHT
BEGIN:STANDARD
TZOFFSETFROM:-0500
TZOFFSETTO:-0600
TZNAME:CST
DTSTART:20221106T070000
END:STANDARD
BEGIN:DAYLIGHT
TZOFFSETFROM:-0600
TZOFFSETTO:-0500
TZNAME:CDT
DTSTART:20230312T080000
END:DAYLIGHT
BEGIN:STANDARD
TZOFFSETFROM:-0500
TZOFFSETTO:-0600
TZNAME:CST
DTSTART:20231105T070000
END:STANDARD
BEGIN:DAYLIGHT
TZOFFSETFROM:-0600
TZOFFSETTO:-0500
TZNAME:CDT
DTSTART:20240310T080000
END:DAYLIGHT
BEGIN:STANDARD
TZOFFSETFROM:-0500
TZOFFSETTO:-0600
TZNAME:CST
DTSTART:20241103T070000
END:STANDARD
BEGIN:DAYLIGHT
TZOFFSETFROM:-0600
TZOFFSETTO:-0500
TZNAME:CDT
DTSTART:20250309T080000
END:DAYLIGHT
BEGIN:STANDARD
TZOFFSETFROM:-0500
TZOFFSETTO:-0600
TZNAME:CST
DTSTART:20251102T070000
END:STANDARD
END:VTIMEZONE
BEGIN:VEVENT
DTSTART;TZID=America/Chicago:20190428T100000
DTEND;TZID=America/Chicago:20190428T160000
DTSTAMP:20260420T164241
CREATED:20190423T145302Z
LAST-MODIFIED:20190423T164009Z
UID:5458-1556445600-1556467200@statelinekids.com
SUMMARY:Rockford Youth Expo
DESCRIPTION:Come out for a fun-filled day designed for the youth and families of the Rockford area! \nThe Rockford Youth expo gives youth and their families the chance to connect with Rockford area service providers and businesses whose primary goal is to provide education\, experiences\, products\, and services to children from birth through high school and beyond. \nFrom music classes and books to toys and yoga demonstrations\, they want to create an unforgettable experience for the youth of Rockford. \nStateline Kids will have a booth with animal masks\, a photobooth\, animal tattoos\, stickers\, and a chance to win tickets to a not-yet-announced family show at the BMO Harris Bank Center!
URL:https://statelinekids.com/event/rockford-youth-expo/
LOCATION:Rockford University\, 5050 E State St.\, Rockford\, IL\, United States
CATEGORIES:Rockford
ATTACH;FMTTYPE=image/jpeg:https://statelinekids.com/wp-content/uploads/2019/04/HighResPageSizeFlyer-1.jpg
END:VEVENT
BEGIN:VEVENT
DTSTART;TZID=America/Chicago:20190817T100000
DTEND;TZID=America/Chicago:20190817T140000
DTSTAMP:20260420T164241
CREATED:20190810T185133Z
LAST-MODIFIED:20190810T185142Z
UID:6952-1566036000-1566050400@statelinekids.com
SUMMARY:MommaPalooza
DESCRIPTION:Expo with information on pregnancy\, birth\, prenatal care\, cloth diapering\, baby wearing\, breastfeeding and more. Pickles the Clown will be there. Click here to get free tickets.
URL:https://statelinekids.com/event/mommapalooza/
LOCATION:Loves Park VFW\, 2018 Windsor Rd\, Loves Park\, IL\, United States
CATEGORIES:Loves Park
END:VEVENT
BEGIN:VEVENT
DTSTART;TZID=America/Chicago:20200112T100000
DTEND;TZID=America/Chicago:20200112T150000
DTSTAMP:20260420T164242
CREATED:20200104T185057Z
LAST-MODIFIED:20200104T185057Z
UID:9336-1578823200-1578841200@statelinekids.com
SUMMARY:Wisconsin Exotic Pet and Reptile Expo
DESCRIPTION:View thousands of reptiles and accessories as well as educational and interactive displays. \nCost is $5 per person\, kids 12 and under are free
URL:https://statelinekids.com/event/wisconsin-exotic-pet-and-reptile-expo/
LOCATION:Holiday Inn Express\, 3100 Wellington Pl.\, Janesville\, WI\, United States
CATEGORIES:Janesville
END:VEVENT
BEGIN:VEVENT
DTSTART;TZID=America/Chicago:20210213T120000
DTEND;TZID=America/Chicago:20210213T170000
DTSTAMP:20260420T164242
CREATED:20210207T190719Z
LAST-MODIFIED:20210207T190719Z
UID:14763-1613217600-1613235600@statelinekids.com
SUMMARY:Black Women in Business Expo Beloit
DESCRIPTION:Shop from over 40 local Black Women vendors. There will be food for sale and live music. \nCost: $1 admission
URL:https://statelinekids.com/event/black-women-in-business-expo-beloit/
LOCATION:Eclipse Event Center\, 3 Eclipse Blvd\, Beloit\, WI\, United States
CATEGORIES:Beloit
END:VEVENT
BEGIN:VEVENT
DTSTART;TZID=America/Chicago:20210821T100000
DTEND;TZID=America/Chicago:20210821T130000
DTSTAMP:20260420T164242
CREATED:20210815T175347Z
LAST-MODIFIED:20210815T175347Z
UID:17098-1629540000-1629550800@statelinekids.com
SUMMARY:MommaPalooza 2021
DESCRIPTION:Explore natural parenting resources at this local expo. \nCost: Free admission / $2 donation to Miss Carly’s requested
URL:https://statelinekids.com/event/mommapalooza-2021/
LOCATION:Massage Innovations\, 435 N. Mulford Rd.\, Rockford\, IL\, United States
CATEGORIES:Rockford
END:VEVENT
BEGIN:VEVENT
DTSTART;TZID=America/Chicago:20220326T090000
DTEND;TZID=America/Chicago:20220326T160000
DTSTAMP:20260420T164242
CREATED:20220320T174245Z
LAST-MODIFIED:20220320T174245Z
UID:19489-1648285200-1648310400@statelinekids.com
SUMMARY:Stateline Business Expo
DESCRIPTION:Check out over 100 local businesses and their services. This event continues Sunday.
URL:https://statelinekids.com/event/stateline-business-expo/2022-03-26/
LOCATION:Hononegah Performing Art Center\, 307 Salem St.\, Rockton\, IL\, United States
CATEGORIES:Rockton
END:VEVENT
BEGIN:VEVENT
DTSTART;TZID=America/Chicago:20220528T120000
DTEND;TZID=America/Chicago:20220528T180000
DTSTAMP:20260420T164242
CREATED:20220522T182041Z
LAST-MODIFIED:20220522T182041Z
UID:20407-1653739200-1653760800@statelinekids.com
SUMMARY:The Gemini Black Business Expo
DESCRIPTION:Shop from and support Black men and women-owned businesses in the Stateline. More than 50 businesses will be in attendance. 
URL:https://statelinekids.com/event/the-gemini-black-business-expo/
LOCATION:Eclipse Event Center\, 3 Eclipse Blvd\, Beloit\, WI\, United States
CATEGORIES:Beloit
END:VEVENT
BEGIN:VEVENT
DTSTART;TZID=America/Chicago:20230304T090000
DTEND;TZID=America/Chicago:20230304T153000
DTSTAMP:20260420T164242
CREATED:20230225T192138Z
LAST-MODIFIED:20230225T192138Z
UID:26639-1677920400-1677943800@statelinekids.com
SUMMARY:Wisconsin Reptile Expo
DESCRIPTION:See a variety of reptiles\, amphibians\, and exotic mammals. Get tickets here. \nCost: $7 per person / kids 12 and under are free
URL:https://statelinekids.com/event/wisconsin-reptile-expo/2023-03-04/
LOCATION:Holiday Inn Express\, 3100 Wellington Pl.\, Janesville\, WI\, United States
CATEGORIES:Janesville
END:VEVENT
BEGIN:VEVENT
DTSTART;TZID=America/Chicago:20230422T100000
DTEND;TZID=America/Chicago:20230422T160000
DTSTAMP:20260420T164242
CREATED:20230416T192949Z
LAST-MODIFIED:20230416T192949Z
UID:27494-1682157600-1682179200@statelinekids.com
SUMMARY:SPROUT: Earth Day Market and Expo
DESCRIPTION:Visit with local vendors selling eco-friendly products\, handmade items\, and artwork.
URL:https://statelinekids.com/event/sprout-earth-day-market-and-expo/
LOCATION:Byron Forest Preserve\, 7993 N River Rd\, Byron\, IL\, United States
CATEGORIES:Byron
END:VEVENT
BEGIN:VEVENT
DTSTART;TZID=America/Chicago:20230429T100000
DTEND;TZID=America/Chicago:20230429T160000
DTSTAMP:20260420T164242
CREATED:20230421T165011Z
LAST-MODIFIED:20230421T165011Z
UID:27572-1682762400-1682784000@statelinekids.com
SUMMARY:SELF-CARE: Access SOUL: Mind Body Spirit Expo
DESCRIPTION:Shop from over 60+ vendors focusing on holistic health\, spiritual growth\, and mind-body healing. See a list of vendors here.
URL:https://statelinekids.com/event/self-care-access-soul-mind-body-spirit-expo/
LOCATION:IBEW Henry Mill Hall\, 6820 Mill Rd.\, Rockford\, IL\, United States
CATEGORIES:Rockford
END:VEVENT
BEGIN:VEVENT
DTSTART;TZID=America/Chicago:20230430T130000
DTEND;TZID=America/Chicago:20230430T160000
DTSTAMP:20260420T164242
CREATED:20230421T160903Z
LAST-MODIFIED:20230421T160903Z
UID:27555-1682859600-1682870400@statelinekids.com
SUMMARY:Dia de Nino
DESCRIPTION:Attend an international celebration of families of children with local businesses and organizations in one location. There will be raffles\, fun\, games\, and more.
URL:https://statelinekids.com/event/dia-de-nino/
LOCATION:Community Building Complex of Boone County\, 111 W. 1st St.\, Belvidere\, IL\, United States
CATEGORIES:Belvidere
END:VEVENT
BEGIN:VEVENT
DTSTART;TZID=America/Chicago:20230524T100000
DTEND;TZID=America/Chicago:20230524T130000
DTSTAMP:20260420T164242
CREATED:20230521T202017Z
LAST-MODIFIED:20230521T202018Z
UID:28090-1684922400-1684933200@statelinekids.com
SUMMARY:Homeschool Expo
DESCRIPTION:Stop by Stateline STEM Academy to learn about homeschooling and the resources in the Stateline to support it.
URL:https://statelinekids.com/event/homeschool-expo/
LOCATION:Stateline STEM Academy\, 9461 N. 2nd St.\, Roscoe\, IL\, United States
CATEGORIES:Roscoe
ATTACH;FMTTYPE=image/jpeg:https://statelinekids.com/wp-content/uploads/2023/05/Stateline-STEM.jpeg
END:VEVENT
BEGIN:VEVENT
DTSTART;TZID=America/Chicago:20230716T090000
DTEND;TZID=America/Chicago:20230716T153000
DTSTAMP:20260420T164242
CREATED:20230709T194658Z
LAST-MODIFIED:20230709T194658Z
UID:29366-1689498000-1689521400@statelinekids.com
SUMMARY:Wisconsin Reptile Expo
DESCRIPTION:Check out reptiles and supplies. Get tickets here. \nCost: $10 per person / free for kids 12 and under
URL:https://statelinekids.com/event/wisconsin-reptile-expo-3/
LOCATION:Holiday Inn Express\, 3100 Wellington Pl.\, Janesville\, WI\, United States
CATEGORIES:Janesville
END:VEVENT
BEGIN:VEVENT
DTSTART;TZID=America/Chicago:20230805T100000
DTEND;TZID=America/Chicago:20230805T170000
DTSTAMP:20260420T164242
CREATED:20230730T162309Z
LAST-MODIFIED:20230730T162309Z
UID:29679-1691229600-1691254800@statelinekids.com
SUMMARY:2023 Think Big Entrepreneur Expo
DESCRIPTION:Learn more about minority-owned businesses in the Stateline at this networking event and trade show. Register to attend here.
URL:https://statelinekids.com/event/2023-think-big-entrepreneur-expo/
LOCATION:UW Health Sports Factory\, 305 S. Madison Street\, Rockford\, IL\, United States
CATEGORIES:Rockford
END:VEVENT
BEGIN:VEVENT
DTSTART;TZID=America/Chicago:20230816T170000
DTEND;TZID=America/Chicago:20230816T190000
DTSTAMP:20260420T164242
CREATED:20230812T225804Z
LAST-MODIFIED:20230812T225804Z
UID:29959-1692205200-1692212400@statelinekids.com
SUMMARY:Healthy Body\, Healthy Mind Expo
DESCRIPTION:Families can participate in kids’ activities\, cooking demonstrations\, making their own trail mix\, and learning about stress management.
URL:https://statelinekids.com/event/healthy-body-healthy-mind-expo/
LOCATION:Mercyhealth Rockford\, 2300 N Rockton Ave\, Rockford\, IL\, United States
CATEGORIES:Rockford
END:VEVENT
BEGIN:VEVENT
DTSTART;TZID=America/Chicago:20240609T110000
DTEND;TZID=America/Chicago:20240609T170000
DTSTAMP:20260420T164242
CREATED:20240601T182531Z
LAST-MODIFIED:20240601T182531Z
UID:35222-1717930800-1717952400@statelinekids.com
SUMMARY:Holistic Living Expo
DESCRIPTION:Shop from holistic health\, wellness\, and spiritual healing vendors. There will be a children’s play area as well.
URL:https://statelinekids.com/event/holistic-living-expo/
LOCATION:Rockford Crunchy Ladies\, 3303 20th St.\, Rockford\, IL\, United States
END:VEVENT
BEGIN:VEVENT
DTSTART;TZID=America/Chicago:20250608T110000
DTEND;TZID=America/Chicago:20250608T170000
DTSTAMP:20260420T164242
CREATED:20250530T225031Z
LAST-MODIFIED:20250530T225031Z
UID:40811-1749380400-1749402000@statelinekids.com
SUMMARY:Holistic Living Expo
DESCRIPTION:Shop and learn from holistic vendors\, have tea at the Tea Party\, and check out the kids’ market and playful activity area.
URL:https://statelinekids.com/event/holistic-living-expo-2/
LOCATION:Rockford Crunchy Ladies\, 3303 20th St.\, Rockford\, IL\, United States
CATEGORIES:Rockford
END:VEVENT
END:VCALENDAR