BEGIN:VCALENDAR
VERSION:2.0
PRODID:-//Stateline Kids - ECPv6.5.1.3//NONSGML v1.0//EN
CALSCALE:GREGORIAN
METHOD:PUBLISH
X-ORIGINAL-URL:https://statelinekids.com
X-WR-CALDESC:Events for Stateline Kids
REFRESH-INTERVAL;VALUE=DURATION:PT1H
X-Robots-Tag:noindex
X-PUBLISHED-TTL:PT1H
BEGIN:VTIMEZONE
TZID:America/Chicago
BEGIN:DAYLIGHT
TZOFFSETFROM:-0600
TZOFFSETTO:-0500
TZNAME:CDT
DTSTART:20240310T080000
END:DAYLIGHT
BEGIN:STANDARD
TZOFFSETFROM:-0500
TZOFFSETTO:-0600
TZNAME:CST
DTSTART:20241103T070000
END:STANDARD
END:VTIMEZONE
BEGIN:VEVENT
DTSTART;TZID=America/Chicago:20241019T140000
DTEND;TZID=America/Chicago:20241019T160000
DTSTAMP:20260425T114033
CREATED:20241013T201503Z
LAST-MODIFIED:20241013T201503Z
UID:38233-1729346400-1729353600@statelinekids.com
SUMMARY:Bee in Beloit
DESCRIPTION:Learn about bees\, see a bee hive demonstration\, sample honey and do bee crafts.
URL:https://statelinekids.com/event/bee-in-beloit/
LOCATION:Welty Environmental Center\, 1201 Big Hill Ct\, Beloit\, WI\, United States
CATEGORIES:Beloit
END:VEVENT
END:VCALENDAR