BEGIN:VCALENDAR
VERSION:2.0
PRODID:-//Stateline Kids - ECPv6.5.1.3//NONSGML v1.0//EN
CALSCALE:GREGORIAN
METHOD:PUBLISH
X-ORIGINAL-URL:https://statelinekids.com
X-WR-CALDESC:Events for Stateline Kids
REFRESH-INTERVAL;VALUE=DURATION:PT1H
X-Robots-Tag:noindex
X-PUBLISHED-TTL:PT1H
BEGIN:VTIMEZONE
TZID:America/Chicago
BEGIN:DAYLIGHT
TZOFFSETFROM:-0600
TZOFFSETTO:-0500
TZNAME:CDT
DTSTART:20180311T080000
END:DAYLIGHT
BEGIN:STANDARD
TZOFFSETFROM:-0500
TZOFFSETTO:-0600
TZNAME:CST
DTSTART:20181104T070000
END:STANDARD
END:VTIMEZONE
BEGIN:VEVENT
DTSTART;TZID=America/Chicago:20180726T100000
DTEND;TZID=America/Chicago:20180726T170000
DTSTAMP:20260419T084621
CREATED:20180723T031520Z
LAST-MODIFIED:20180723T031520Z
UID:1241-1532599200-1532624400@statelinekids.com
SUMMARY:Donation Day at Burpee!
DESCRIPTION:Check out the Reptiles and Amphibians exhibit at the museum until September 1st.
URL:https://statelinekids.com/event/donation-day-at-burpee/
LOCATION:Burpee Natural History Museum\, 737 N. Main St\, Rockford\, IL\, United States
CATEGORIES:Rockford
END:VEVENT
BEGIN:VEVENT
DTSTART;TZID=America/Chicago:20180807T090000
DTEND;TZID=America/Chicago:20180807T200000
DTSTAMP:20260419T084621
CREATED:20180729T231512Z
LAST-MODIFIED:20180729T231512Z
UID:1394-1533632400-1533672000@statelinekids.com
SUMMARY:Donation Day at Klehm!
DESCRIPTION:Donation Day at Klehm from 9 am – 8 pm.
URL:https://statelinekids.com/event/donation-day-at-klehm/
LOCATION:Klehm Arboretum and Botanic Garden\, 2715 S Main St\,\, Rockford\, IL\, United States
CATEGORIES:Rockford
END:VEVENT
BEGIN:VEVENT
DTSTART;TZID=America/Chicago:20180814T090000
DTEND;TZID=America/Chicago:20180814T200000
DTSTAMP:20260419T084621
CREATED:20180813T141302Z
LAST-MODIFIED:20180813T141302Z
UID:1755-1534237200-1534276800@statelinekids.com
SUMMARY:Community Appreciation Day at Rotary Gardens
DESCRIPTION:Enjoy the beautiful gardens! Meal trucks and children’s activities begin at 11 am.
URL:https://statelinekids.com/event/community-appreciation-day-at-rotary-gardens/
LOCATION:Rotary Botanical Gardens\, 1455 Palmer Dr\, Janesville\, WI\, United States
CATEGORIES:Janesville
END:VEVENT
BEGIN:VEVENT
DTSTART;TZID=America/Chicago:20180816T090000
DTEND;TZID=America/Chicago:20180816T180000
DTSTAMP:20260419T084621
CREATED:20180814T141733Z
LAST-MODIFIED:20180814T141733Z
UID:1793-1534410000-1534442400@statelinekids.com
SUMMARY:Donation Day at Anderson Gardens
DESCRIPTION:Donation Day @ Anderson Japanese Gardens\n318 Spring Creek Rd\, Rockford\, IL\n9:00 am – 6:00 pm\nCost: Free\nEnjoy the beautiful gardens!
URL:https://statelinekids.com/event/donation-day-at-anderson-gardens/
LOCATION:Anderson Japanese Gardens\, 318 Spring Creek Rd\, Rockford\, IL\, United States
CATEGORIES:Rockford
END:VEVENT
BEGIN:VEVENT
DTSTART;TZID=America/Chicago:20180822T130000
DTEND;TZID=America/Chicago:20180822T150000
DTSTAMP:20260419T084621
CREATED:20180821T201704Z
LAST-MODIFIED:20180821T201704Z
UID:2002-1534942800-1534950000@statelinekids.com
SUMMARY:Free Day for IL Residents at Tinker Swiss Cottage!
DESCRIPTION:You must go on a guided tour to visit the Cottage. Spaces are limited to 15 people per tour. You may want to call before you go 815-964-2424.
URL:https://statelinekids.com/event/free-day-for-il-residents-at-tinker-swiss-cottage/
LOCATION:Tinker Swiss Cottage\, 411 Kent St\, Rockford\, IL\, United States
CATEGORIES:Rockford
END:VEVENT
BEGIN:VEVENT
DTSTART;TZID=America/Chicago:20180822T130000
DTEND;TZID=America/Chicago:20180822T170000
DTSTAMP:20260419T084621
CREATED:20180821T201801Z
LAST-MODIFIED:20180821T201801Z
UID:2005-1534942800-1534957200@statelinekids.com
SUMMARY:Free Day for IL Residents at Discovery Center Museum!
DESCRIPTION:Check out the award-winning children’s museum!
URL:https://statelinekids.com/event/free-day-for-il-residents-at-discovery-center-museum/
LOCATION:Discovery Center\, 711 N Main St\, Rockford\, IL\, 61103\, United States
CATEGORIES:Rockford
END:VEVENT
BEGIN:VEVENT
DTSTART;TZID=America/Chicago:20180828T100000
DTEND;TZID=America/Chicago:20180828T170000
DTSTAMP:20260419T084621
CREATED:20180828T145045Z
LAST-MODIFIED:20180828T145045Z
UID:2207-1535450400-1535475600@statelinekids.com
SUMMARY:Free Day at Rockford Art Museum!
DESCRIPTION:Free Day at Rockford Art Museum!\n711 N. Main St\, Rockford\, IL\n10:00 am – 5:00 pm\nCurrent exhibits include The Rockford Midwestern Biennial\, Dan Ramirez\, Warrington Colescott: Satire\, Form\, and Terttu Uibopuu: ESE (East South East).
URL:https://statelinekids.com/event/free-day-at-rockford-art-museum/
LOCATION:Rockford Art Museum\, 711 N Main St\, Rockford\, IL\, United States
CATEGORIES:Rockford
END:VEVENT
BEGIN:VEVENT
DTSTART;TZID=America/Chicago:20180829T130000
DTEND;TZID=America/Chicago:20180829T170000
DTSTAMP:20260419T084621
CREATED:20180828T145239Z
LAST-MODIFIED:20180828T145239Z
UID:2210-1535547600-1535562000@statelinekids.com
SUMMARY:Free Day for IL Residents at Discovery Center Museum!
DESCRIPTION:Check out the award-winning children’s museum!
URL:https://statelinekids.com/event/free-day-for-il-residents-at-discovery-center-museum-2/
LOCATION:Discovery Center\, 711 N Main St\, Rockford\, IL\, 61103\, United States
CATEGORIES:Rockford
END:VEVENT
BEGIN:VEVENT
DTSTART;TZID=America/Chicago:20180830T130000
DTEND;TZID=America/Chicago:20180830T170000
DTSTAMP:20260419T084621
CREATED:20180828T145710Z
LAST-MODIFIED:20180828T145710Z
UID:2218-1535634000-1535648400@statelinekids.com
SUMMARY:Free Day for IL Residents at Discovery Center Museum!
DESCRIPTION:Check out the award-winning children’s museum!
URL:https://statelinekids.com/event/free-day-for-il-residents-at-discovery-center-museum-3/
LOCATION:Discovery Center\, 711 N Main St\, Rockford\, IL\, 61103\, United States
CATEGORIES:Rockford
END:VEVENT
BEGIN:VEVENT
DTSTART;TZID=America/Chicago:20180904T090000
DTEND;TZID=America/Chicago:20180904T200000
DTSTAMP:20260419T084621
CREATED:20180903T022121Z
LAST-MODIFIED:20180903T022121Z
UID:2351-1536051600-1536091200@statelinekids.com
SUMMARY:Donation Day at Klehm Arboretum!
DESCRIPTION:Enjoy the beautiful gardens at Klehm.
URL:https://statelinekids.com/event/donation-day-at-klehm-arboretum/
LOCATION:Klehm Arboretum and Botanic Garden\, 2715 S Main St\,\, Rockford\, IL\, United States
CATEGORIES:Rockford
END:VEVENT
BEGIN:VEVENT
DTSTART;TZID=America/Chicago:20180906T130000
DTEND;TZID=America/Chicago:20180906T170000
DTSTAMP:20260419T084621
CREATED:20180904T033720Z
LAST-MODIFIED:20180904T033720Z
UID:2397-1536238800-1536253200@statelinekids.com
SUMMARY:Donation Day for IL Residents at Discovery Center Museum!
DESCRIPTION:Check out the award-winning children’s museum!
URL:https://statelinekids.com/event/donation-day-for-il-residents-at-discovery-center-museum-2/
LOCATION:Discovery Center\, 711 N Main St\, Rockford\, IL\, 61103\, United States
CATEGORIES:Rockford
END:VEVENT
BEGIN:VEVENT
DTSTART;TZID=America/Chicago:20180912T130000
DTEND;TZID=America/Chicago:20180912T170000
DTSTAMP:20260419T084621
CREATED:20180910T132035Z
LAST-MODIFIED:20180910T132035Z
UID:2508-1536757200-1536771600@statelinekids.com
SUMMARY:Donation Day for IL Residents at Discovery Center Museum!
DESCRIPTION:Check out the award-winning children’s museum!
URL:https://statelinekids.com/event/donation-day-for-il-residents-at-discovery-center-museum-3/
LOCATION:Discovery Center\, 711 N Main St\, Rockford\, IL\, 61103\, United States
CATEGORIES:Rockford
END:VEVENT
BEGIN:VEVENT
DTSTART;TZID=America/Chicago:20180913T130000
DTEND;TZID=America/Chicago:20180913T170000
DTSTAMP:20260419T084621
CREATED:20180910T132905Z
LAST-MODIFIED:20180910T132905Z
UID:2520-1536843600-1536858000@statelinekids.com
SUMMARY:Donation Day for IL Residents at Discovery Center Museum!
DESCRIPTION:Check out the award-winning children’s museum!
URL:https://statelinekids.com/event/donation-day-for-il-residents-at-discovery-center-museum-4/
LOCATION:Discovery Center\, 711 N Main St\, Rockford\, IL\, 61103\, United States
CATEGORIES:Rockford
END:VEVENT
BEGIN:VEVENT
DTSTART;TZID=America/Chicago:20180918T130000
DTEND;TZID=America/Chicago:20180918T150000
DTSTAMP:20260419T084621
CREATED:20180916T190603Z
LAST-MODIFIED:20180916T190603Z
UID:2639-1537275600-1537282800@statelinekids.com
SUMMARY:Donation Day at Tinker Swiss Cottage!
DESCRIPTION:Tours at 1:00 pm and 3:00 pm \nYou must go on a guided tour to visit the Cottage. Spaces are limited to 15 people per tour. You may want to call before you go 815-964-2424.
URL:https://statelinekids.com/event/donation-day-at-tinker-swiss-cottage-3/
LOCATION:Tinker Swiss Cottage\, 411 Kent St\, Rockford\, IL\, United States
CATEGORIES:Rockford
END:VEVENT
BEGIN:VEVENT
DTSTART;TZID=America/Chicago:20180919T100000
DTEND;TZID=America/Chicago:20180919T170000
DTSTAMP:20260419T084621
CREATED:20180916T190932Z
LAST-MODIFIED:20180916T190932Z
UID:2645-1537351200-1537376400@statelinekids.com
SUMMARY:Donation Day at Burpee Museum!
DESCRIPTION:Check out this natural history museum and new Sprouts children’s room.
URL:https://statelinekids.com/event/donation-day-at-burpee-museum-3/
LOCATION:Burpee Natural History Museum\, 737 N. Main St\, Rockford\, IL\, United States
CATEGORIES:Rockford
END:VEVENT
BEGIN:VEVENT
DTSTART;TZID=America/Chicago:20180919T130000
DTEND;TZID=America/Chicago:20180919T170000
DTSTAMP:20260419T084621
CREATED:20180916T191031Z
LAST-MODIFIED:20180916T191031Z
UID:2647-1537362000-1537376400@statelinekids.com
SUMMARY:Donation Day for IL Residents at Discovery Center Museum!
DESCRIPTION:Check out the award-winning children’s museum!
URL:https://statelinekids.com/event/donation-day-for-il-residents-at-discovery-center-museum-5/
LOCATION:Discovery Center\, 711 N Main St\, Rockford\, IL\, 61103\, United States
CATEGORIES:Rockford
END:VEVENT
BEGIN:VEVENT
DTSTART;TZID=America/Chicago:20180920T130000
DTEND;TZID=America/Chicago:20180920T170000
DTSTAMP:20260419T084621
CREATED:20180916T191438Z
LAST-MODIFIED:20180916T191438Z
UID:2655-1537448400-1537462800@statelinekids.com
SUMMARY:Donation Day for IL Residents at Discovery Center Museum!
DESCRIPTION:Check out the award-winning children’s museum!
URL:https://statelinekids.com/event/donation-day-for-il-residents-at-discovery-center-museum-6/
LOCATION:Discovery Center\, 711 N Main St\, Rockford\, IL\, 61103\, United States
CATEGORIES:Rockford
END:VEVENT
BEGIN:VEVENT
DTSTART;TZID=America/Chicago:20180925T130000
DTEND;TZID=America/Chicago:20180925T150000
DTSTAMP:20260419T084621
CREATED:20180923T150915Z
LAST-MODIFIED:20180923T150915Z
UID:2747-1537880400-1537887600@statelinekids.com
SUMMARY:Donation Day at Tinker Swiss Cottage!
DESCRIPTION:You must go on a guided tour to visit the Cottage. Spaces are limited to 15 people per tour. You may want to call before you go 815-964-2424. Tours at 1:00 pm and 3:00 pm
URL:https://statelinekids.com/event/donation-day-at-tinker-swiss-cottage-4/
LOCATION:Tinker Swiss Cottage\, 411 Kent St\, Rockford\, IL\, United States
CATEGORIES:Rockford
END:VEVENT
BEGIN:VEVENT
DTSTART;TZID=America/Chicago:20180926T100000
DTEND;TZID=America/Chicago:20180926T170000
DTSTAMP:20260419T084621
CREATED:20180923T151419Z
LAST-MODIFIED:20180923T151419Z
UID:2754-1537956000-1537981200@statelinekids.com
SUMMARY:Donation Day at Burpee Museum!
DESCRIPTION:Check out this natural history museum and new Sprouts children’s room.
URL:https://statelinekids.com/event/donation-day-at-burpee-museum-4/
LOCATION:Burpee Natural History Museum\, 737 N. Main St\, Rockford\, IL\, United States
CATEGORIES:Rockford
END:VEVENT
BEGIN:VEVENT
DTSTART;TZID=America/Chicago:20180926T130000
DTEND;TZID=America/Chicago:20180926T170000
DTSTAMP:20260419T084621
CREATED:20180923T151531Z
LAST-MODIFIED:20180923T151531Z
UID:2756-1537966800-1537981200@statelinekids.com
SUMMARY:Donation Day for IL Residents at Discovery Center Museum!
DESCRIPTION:Check out the award-winning children’s museum!
URL:https://statelinekids.com/event/donation-day-for-il-residents-at-discovery-center-museum-7/
LOCATION:Discovery Center\, 711 N Main St\, Rockford\, IL\, 61103\, United States
CATEGORIES:Rockford
END:VEVENT
BEGIN:VEVENT
DTSTART;TZID=America/Chicago:20181001T130000
DTEND;TZID=America/Chicago:20181001T150000
DTSTAMP:20260419T084621
CREATED:20181001T125259Z
LAST-MODIFIED:20181001T125259Z
UID:2940-1538398800-1538406000@statelinekids.com
SUMMARY:Donation Day at Tinker Swiss Cottage!
DESCRIPTION:You must go on a guided tour to visit the Cottage. Spaces are limited to 15 people per tour. You may want to call before you go 815-964-2424.
URL:https://statelinekids.com/event/donation-day-at-tinker-swiss-cottage-5/
LOCATION:Tinker Swiss Cottage\, 411 Kent St\, Rockford\, IL\, United States
CATEGORIES:Rockford
END:VEVENT
BEGIN:VEVENT
DTSTART;TZID=America/Chicago:20181002T090000
DTEND;TZID=America/Chicago:20181002T200000
DTSTAMP:20260419T084621
CREATED:20181001T125356Z
LAST-MODIFIED:20181001T125356Z
UID:2942-1538470800-1538510400@statelinekids.com
SUMMARY:Donation Day at Klehm Arboretum and Botanic Garden!
DESCRIPTION:Enjoy the beautiful gardens at Klehm and take your kids through the Children’s Garden.
URL:https://statelinekids.com/event/donation-day-at-klehm-arboretum-and-botanic-garden/
LOCATION:Klehm Arboretum and Botanic Garden\, 2715 S Main St\,\, Rockford\, IL\, United States
CATEGORIES:Rockford
END:VEVENT
BEGIN:VEVENT
DTSTART;TZID=America/Chicago:20181003T130000
DTEND;TZID=America/Chicago:20181003T170000
DTSTAMP:20260419T084621
CREATED:20181001T130527Z
LAST-MODIFIED:20181001T130527Z
UID:2947-1538571600-1538586000@statelinekids.com
SUMMARY:Donation Day for IL Residents at Discovery Center Museum!
DESCRIPTION:Check out the award-winning children’s museum!
URL:https://statelinekids.com/event/donation-day-for-il-residents-at-discovery-center-museum-9/
LOCATION:Discovery Center\, 711 N Main St\, Rockford\, IL\, 61103\, United States
END:VEVENT
BEGIN:VEVENT
DTSTART;TZID=America/Chicago:20181004T100000
DTEND;TZID=America/Chicago:20181004T170000
DTSTAMP:20260419T084621
CREATED:20181001T132539Z
LAST-MODIFIED:20181001T132539Z
UID:2959-1538647200-1538672400@statelinekids.com
SUMMARY:Donation Day at Burpee Museum!
DESCRIPTION:Check out this natural history museum and new Sprouts children’s room.
URL:https://statelinekids.com/event/donation-day-at-burpee-museum-5/
LOCATION:Burpee Natural History Museum\, 737 N. Main St\, Rockford\, IL\, United States
CATEGORIES:Rockford
END:VEVENT
BEGIN:VEVENT
DTSTART;TZID=America/Chicago:20181004T130000
DTEND;TZID=America/Chicago:20181004T170000
DTSTAMP:20260419T084621
CREATED:20181001T132640Z
LAST-MODIFIED:20181001T132640Z
UID:2961-1538658000-1538672400@statelinekids.com
SUMMARY:Donation Day for IL Residents at Discovery Center Museum!
DESCRIPTION:Check out the award-winning children’s museum!
URL:https://statelinekids.com/event/donation-day-for-il-residents-at-discovery-center-museum-10/
LOCATION:Discovery Center\, 711 N Main St\, Rockford\, IL\, 61103\, United States
CATEGORIES:Rockford
END:VEVENT
BEGIN:VEVENT
DTSTART;TZID=America/Chicago:20181009T100000
DTEND;TZID=America/Chicago:20181009T170000
DTSTAMP:20260419T084621
CREATED:20181008T145533Z
LAST-MODIFIED:20181008T145533Z
UID:3119-1539079200-1539104400@statelinekids.com
SUMMARY:Donation Day at Burpee Museum!
DESCRIPTION:Check out this natural history museum and new Sprouts children’s room.
URL:https://statelinekids.com/event/donation-day-at-burpee-museum-6/
LOCATION:Burpee Natural History Museum\, 737 N. Main St\, Rockford\, IL\, United States
END:VEVENT
BEGIN:VEVENT
DTSTART;TZID=America/Chicago:20181009T130000
DTEND;TZID=America/Chicago:20181009T150000
DTSTAMP:20260419T084621
CREATED:20181008T145737Z
LAST-MODIFIED:20181008T145737Z
UID:3121-1539090000-1539097200@statelinekids.com
SUMMARY:Donation Day at Tinker Swiss Cottage!
DESCRIPTION:You must go on a guided tour to visit the Cottage. Spaces are limited to 15 people per tour. You may want to call before you go 815-964-2424.
URL:https://statelinekids.com/event/donation-day-at-tinker-swiss-cottage-6/
LOCATION:Tinker Swiss Cottage\, 411 Kent St\, Rockford\, IL\, United States
CATEGORIES:Rockford
END:VEVENT
BEGIN:VEVENT
DTSTART;TZID=America/Chicago:20181010T130000
DTEND;TZID=America/Chicago:20181010T170000
DTSTAMP:20260419T084621
CREATED:20181008T150337Z
LAST-MODIFIED:20181008T150435Z
UID:3125-1539176400-1539190800@statelinekids.com
SUMMARY:Donation Day for IL Residents at Discovery Center Museum!
DESCRIPTION:Check out the award-winning children’s museum!
URL:https://statelinekids.com/event/donation-day-for-il-residents-at-discovery-center-museum-11/
LOCATION:Discovery Center\, 711 N Main St\, Rockford\, IL\, 61103\, United States
CATEGORIES:Rockford
END:VEVENT
BEGIN:VEVENT
DTSTART;TZID=America/Chicago:20181011T130000
DTEND;TZID=America/Chicago:20181011T170000
DTSTAMP:20260419T084621
CREATED:20181009T033635Z
LAST-MODIFIED:20181009T033635Z
UID:3151-1539262800-1539277200@statelinekids.com
SUMMARY:Donation Day for IL Residents at Discovery Center Museum!
DESCRIPTION:Check out the award-winning children’s museum!
URL:https://statelinekids.com/event/donation-day-for-il-residents-at-discovery-center-museum-12/
LOCATION:Discovery Center\, 711 N Main St\, Rockford\, IL\, 61103\, United States
CATEGORIES:Rockford
END:VEVENT
BEGIN:VEVENT
DTSTART;TZID=America/Chicago:20181016T130000
DTEND;TZID=America/Chicago:20181016T150000
DTSTAMP:20260419T084621
CREATED:20181015T013940Z
LAST-MODIFIED:20181015T013940Z
UID:3341-1539694800-1539702000@statelinekids.com
SUMMARY:Donation Day at Tinker Swiss Cottage!
DESCRIPTION:You must go on a guided tour to visit the Cottage. Spaces are limited to 15 people per tour. You may want to call before you go 815-964-2424. \nTours at 1:00 pm and 3:00 pm
URL:https://statelinekids.com/event/donation-day-at-tinker-swiss-cottage-7/
LOCATION:Tinker Swiss Cottage\, 411 Kent St\, Rockford\, IL\, United States
CATEGORIES:Rockford
END:VEVENT
END:VCALENDAR