BEGIN:VCALENDAR
VERSION:2.0
PRODID:-//Stateline Kids - ECPv6.5.1.3//NONSGML v1.0//EN
CALSCALE:GREGORIAN
METHOD:PUBLISH
X-WR-CALNAME:Stateline Kids
X-ORIGINAL-URL:https://statelinekids.com
X-WR-CALDESC:Events for Stateline Kids
REFRESH-INTERVAL;VALUE=DURATION:PT1H
X-Robots-Tag:noindex
X-PUBLISHED-TTL:PT1H
BEGIN:VTIMEZONE
TZID:America/Chicago
BEGIN:DAYLIGHT
TZOFFSETFROM:-0600
TZOFFSETTO:-0500
TZNAME:CDT
DTSTART:20180311T080000
END:DAYLIGHT
BEGIN:STANDARD
TZOFFSETFROM:-0500
TZOFFSETTO:-0600
TZNAME:CST
DTSTART:20181104T070000
END:STANDARD
BEGIN:DAYLIGHT
TZOFFSETFROM:-0600
TZOFFSETTO:-0500
TZNAME:CDT
DTSTART:20190310T080000
END:DAYLIGHT
BEGIN:STANDARD
TZOFFSETFROM:-0500
TZOFFSETTO:-0600
TZNAME:CST
DTSTART:20191103T070000
END:STANDARD
BEGIN:DAYLIGHT
TZOFFSETFROM:-0600
TZOFFSETTO:-0500
TZNAME:CDT
DTSTART:20200308T080000
END:DAYLIGHT
BEGIN:STANDARD
TZOFFSETFROM:-0500
TZOFFSETTO:-0600
TZNAME:CST
DTSTART:20201101T070000
END:STANDARD
BEGIN:DAYLIGHT
TZOFFSETFROM:-0600
TZOFFSETTO:-0500
TZNAME:CDT
DTSTART:20210314T080000
END:DAYLIGHT
BEGIN:STANDARD
TZOFFSETFROM:-0500
TZOFFSETTO:-0600
TZNAME:CST
DTSTART:20211107T070000
END:STANDARD
END:VTIMEZONE
BEGIN:VEVENT
DTSTART;TZID=America/Chicago:20181213T190000
DTEND;TZID=America/Chicago:20181213T210000
DTSTAMP:20260421T160200
CREATED:20181211T041149Z
LAST-MODIFIED:20181211T041149Z
UID:4132-1544727600-1544734800@statelinekids.com
SUMMARY:A Holiday Extravaganza Dress Rehearsal
DESCRIPTION:Dress rehearsal is open to the public with a special guest\, Santa Claus!
URL:https://statelinekids.com/event/a-holiday-extravaganza-dress-rehearsal/
LOCATION:Eaton Chapel\, 700 College St\, Beloit\, WI\, United States
CATEGORIES:Beloit
END:VEVENT
BEGIN:VEVENT
DTSTART;TZID=America/Chicago:20181215T193000
DTEND;TZID=America/Chicago:20181215T210000
DTSTAMP:20260421T160200
CREATED:20181211T043045Z
LAST-MODIFIED:20181211T043045Z
UID:4154-1544902200-1544907600@statelinekids.com
SUMMARY:Holiday Pops
DESCRIPTION:Join us for the most highly anticipated show of the season—Holiday Pops! Lift your spirits with seasonal songs and traditional carols performed by the RSO and the Mendelssohn Chorale. This performance happens on December 15 and 16. Buy tickets here. \nCost: $25 per person
URL:https://statelinekids.com/event/holiday-pops/
LOCATION:Coronado Theater\, 314 N Main Street\, Rockford\, IL\, United States
CATEGORIES:Rockford
END:VEVENT
BEGIN:VEVENT
DTSTART;TZID=America/Chicago:20190116T180000
DTEND;TZID=America/Chicago:20190116T200000
DTSTAMP:20260421T160200
CREATED:20190113T212624Z
LAST-MODIFIED:20190113T212627Z
UID:4531-1547661600-1547668800@statelinekids.com
SUMMARY:Sesame Street Live
DESCRIPTION:Join your favorite Sesame Street friends on this magical adventure when Sesame Street Live! Get tickets here.
URL:https://statelinekids.com/event/sesame-street-live/
LOCATION:Coronado Theater\, 314 N Main Street\, Rockford\, IL\, United States
CATEGORIES:Rockford
END:VEVENT
BEGIN:VEVENT
DTSTART;TZID=America/Chicago:20190602T183000
DTEND;TZID=America/Chicago:20190602T203000
DTSTAMP:20260421T160200
CREATED:20190525T205356Z
LAST-MODIFIED:20190525T205356Z
UID:5818-1559500200-1559507400@statelinekids.com
SUMMARY:Concerts in the Park
DESCRIPTION:Listen to Holmes Productions\, a contemporary folk and rock band.
URL:https://statelinekids.com/event/concerts-in-the-park/
LOCATION:Belvidere Park\, 1006 W. Lincoln Ave.\, Belvidere\, IL\, United States
CATEGORIES:Belvidere
END:VEVENT
BEGIN:VEVENT
DTSTART;TZID=America/Chicago:20190621T180000
DTEND;TZID=America/Chicago:20190621T200000
DTSTAMP:20260421T160200
CREATED:20190617T000719Z
LAST-MODIFIED:20190617T000719Z
UID:6088-1561140000-1561147200@statelinekids.com
SUMMARY:Rock and Roll Institute Camp Concert
DESCRIPTION:Come watch the Rock and Roll Institute kids perform their first concert of the year. Show starts at 6 pm\, doors open at 5:45 pm.
URL:https://statelinekids.com/event/rock-and-roll-institute-camp-concert/
LOCATION:Mendelssohn Performing Arts Center\, 415 N. Church St.\, Rockford\, IL\, United States
CATEGORIES:Rockford
END:VEVENT
BEGIN:VEVENT
DTSTART;TZID=America/Chicago:20190625T190000
DTEND;TZID=America/Chicago:20190625T203000
DTSTAMP:20260421T160200
CREATED:20190624T032108Z
LAST-MODIFIED:20190624T032108Z
UID:6222-1561489200-1561494600@statelinekids.com
SUMMARY:Rockford Concert Band
DESCRIPTION:  \nListen to a free concert in the outdoors.
URL:https://statelinekids.com/event/rockford-concert-band/
LOCATION:Sinnissippi Music Shell\, 1401 N 2nd Street\, Rockford\, IL\, United States
CATEGORIES:Rockford
END:VEVENT
BEGIN:VEVENT
DTSTART;TZID=America/Chicago:20190702T190000
DTEND;TZID=America/Chicago:20190702T203000
DTSTAMP:20260421T160200
CREATED:20190630T204643Z
LAST-MODIFIED:20190630T204643Z
UID:6320-1562094000-1562099400@statelinekids.com
SUMMARY:America by the Rockford Concert Band
DESCRIPTION:Enjoy a concert for the 4th of July. \nCost: $5 suggested donation
URL:https://statelinekids.com/event/america-by-the-rockford-concert-band/
LOCATION:Sinnissippi Music Shell\, 1401 N 2nd Street\, Rockford\, IL\, United States
CATEGORIES:Rockford
END:VEVENT
BEGIN:VEVENT
DTSTART;TZID=America/Chicago:20190703T163000
DTEND;TZID=America/Chicago:20190703T173000
DTSTAMP:20260421T160200
CREATED:20190703T144414Z
LAST-MODIFIED:20190703T144414Z
UID:6378-1562171400-1562175000@statelinekids.com
SUMMARY:Harmonica and Blues for Kids!
DESCRIPTION:FREE concert for kids! Groove Hotel & Joe Filisko Harmonica Workshop.\nGrab a harmonica and learn how to make it sing in this fun interactive class for families. Kids of all ages encouraged! Harmonicas provided FREE for kids. (Harmonicas for adults provided for $5) Enjoy the family fun…and stay for tacos\, drinks\, and Jazz music on the Rock with the Grand Groove Hotel starting at 5:30.\nThis event is rain or shine with indoor locations.
URL:https://statelinekids.com/event/harmonica-and-blues-for-kids/
LOCATION:Burpee Natural History Museum\, 737 N. Main St\, Rockford\, IL\, United States
CATEGORIES:Rockford
END:VEVENT
BEGIN:VEVENT
DTSTART;TZID=America/Chicago:20190718T150000
DTEND;TZID=America/Chicago:20190718T160000
DTSTAMP:20260421T160200
CREATED:20190714T200628Z
LAST-MODIFIED:20190714T200638Z
UID:6606-1563462000-1563465600@statelinekids.com
SUMMARY:Tom Pease Free Kids Concert
DESCRIPTION:Listen to a kids concert from Tom Pease that will leave kids laughing and singing.
URL:https://statelinekids.com/event/tom-pease-free-kids-concert/
LOCATION:Beloit Public Library\, 605 Eclipse Blvd\, Beloit\, WI\, United States
CATEGORIES:Beloit
END:VEVENT
BEGIN:VEVENT
DTSTART;TZID=America/Chicago:20190721T180000
DTEND;TZID=America/Chicago:20190721T200000
DTSTAMP:20260421T160200
CREATED:20190714T193711Z
LAST-MODIFIED:20190714T193711Z
UID:6582-1563732000-1563739200@statelinekids.com
SUMMARY:Woodsong Concert - The Groove Hotel
DESCRIPTION:Pack your blanket\, a picnic dinner and a bottle of wine and sit back and enjoy the show in the midst of our fragrant Fountain Garden! \nPurchase all 3 concerts in advance: $12 members | $24 non-members | Children 12 & under FREE \nIndividual concerts: $5 members | $10 non-members | Children 12 & under FREE \nThe Groove Hotel sprang from the roots of the Dean Moriarty Jazz Band when Dean alums Dan Kasten\, Jeff Layng\, and Phil Pilcher teamed up with Bob Rub and Dave Timmcke to form Groove Hotel\, with the idea of adding guest musicians on a regular basis. The band’s continually evolving repertoire emphasizes rhythmic variety. You’ll hear swing\, bossa nova\, funk\, rock\, samba\, gospel\, and Cuban son; sometimes several of these appear in the same tune. Audiences may also be treated to a world premiere of one of the band’s original compositions. \nNOTE: Klehm will close at 3:00 pm and reopen at 4:00 pm for Woodsong attendees to enjoy the grounds before the show starts at 6:00 pm
URL:https://statelinekids.com/event/woodsong-concert-the-groove-hotel/
LOCATION:Klehm Arboretum and Botanic Garden\, 2715 S Main St\,\, Rockford\, IL\, United States
CATEGORIES:Rockford
END:VEVENT
BEGIN:VEVENT
DTSTART;TZID=America/Chicago:20190721T183000
DTEND;TZID=America/Chicago:20190721T203000
DTSTAMP:20260421T160200
CREATED:20190714T171110Z
LAST-MODIFIED:20190714T171110Z
UID:6548-1563733800-1563741000@statelinekids.com
SUMMARY:Concerts in the Park
DESCRIPTION:Listen to music in the park outdoors. Bring your own blanket and chairs.
URL:https://statelinekids.com/event/concerts-in-the-park-5/
LOCATION:Belvidere Park\, 1006 W. Lincoln Ave.\, Belvidere\, IL\, United States
CATEGORIES:Belvidere
END:VEVENT
BEGIN:VEVENT
DTSTART;TZID=America/Chicago:20190812T180000
DTEND;TZID=America/Chicago:20190812T190000
DTSTAMP:20260421T160200
CREATED:20190810T181034Z
LAST-MODIFIED:20190810T181034Z
UID:6921-1565632800-1565636400@statelinekids.com
SUMMARY:Jim Gill Back to School Concert
DESCRIPTION:Dance\, sing and wiggle to Jim Gill’s music.
URL:https://statelinekids.com/event/jim-gill-back-to-school-concert/
LOCATION:Grace Lutheran Preschool\, 343 Grand Ave\, Loves Park\, IL\, United States
CATEGORIES:Loves Park
END:VEVENT
BEGIN:VEVENT
DTSTART;TZID=America/Chicago:20190818T180000
DTEND;TZID=America/Chicago:20190818T200000
DTSTAMP:20260421T160200
CREATED:20190810T185958Z
LAST-MODIFIED:20190810T185958Z
UID:6966-1566151200-1566158400@statelinekids.com
SUMMARY:Woodsong Concert - Ernie Hendrickson
DESCRIPTION:Pack your blanket\, a picnic dinner and a bottle of wine and sit back and enjoy the show in the midst of Klehm’s fragrant Fountain Garden! \nPurchase all 3 concerts in advance: $12 members | $24 non-members | Children 12 & under FREE \nIndividual concerts: $5 members | $10 non-members | Children 12 & under FREE
URL:https://statelinekids.com/event/woodsong-concert-ernie-hendrickson/
LOCATION:Klehm Arboretum and Botanic Garden\, 2715 S Main St\,\, Rockford\, IL\, United States
CATEGORIES:Rockford
END:VEVENT
BEGIN:VEVENT
DTSTART;TZID=America/Chicago:20190829T170000
DTEND;TZID=America/Chicago:20190829T210000
DTSTAMP:20260421T160200
CREATED:20190825T151226Z
LAST-MODIFIED:20190825T151226Z
UID:7101-1567098000-1567112400@statelinekids.com
SUMMARY:Last Summer Music Concert
DESCRIPTION:Enjoy live music at Davis Park. Performer is Too Deep and So Wavy. Bring your own blankets and chairs. This is the last summer music concert of the year.
URL:https://statelinekids.com/event/last-summer-music-concert/
LOCATION:Davis Park\, 320 S. Wyman Street\, Rockford\, IL\, United States
CATEGORIES:Rockford
END:VEVENT
BEGIN:VEVENT
DTSTART;TZID=America/Chicago:20191010T190000
DTEND;TZID=America/Chicago:20191010T200000
DTSTAMP:20260421T160200
CREATED:20191005T201131Z
LAST-MODIFIED:20191005T201131Z
UID:7855-1570734000-1570737600@statelinekids.com
SUMMARY:Hononegah Community Fall Choir Concert
DESCRIPTION:Listen to the choirs sing pop\, folk\, sacred and secular music.
URL:https://statelinekids.com/event/hononegah-community-fall-choir-concert/
LOCATION:Hononegah Performing Art Center\, 307 Salem St.\, Rockton\, IL\, United States
CATEGORIES:Rockton
END:VEVENT
BEGIN:VEVENT
DTSTART;TZID=America/Chicago:20191206T193000
DTEND;TZID=America/Chicago:20191206T213000
DTSTAMP:20260421T160200
CREATED:20191201T231425Z
LAST-MODIFIED:20191201T231425Z
UID:8851-1575660600-1575667800@statelinekids.com
SUMMARY:Silent Night Holy Night Concert
DESCRIPTION:Enjoy a free will donation concert from the choirs of Rockford University and Rock Valley College. No tickets required.
URL:https://statelinekids.com/event/silent-night-holy-night-concert/
LOCATION:Rockford University\, 5050 E State St.\, Rockford\, IL\, United States
CATEGORIES:Rockford
END:VEVENT
BEGIN:VEVENT
DTSTART;TZID=America/Chicago:20191209T183000
DTEND;TZID=America/Chicago:20191209T200000
DTSTAMP:20260421T160200
CREATED:20191208T190850Z
LAST-MODIFIED:20191208T190850Z
UID:8970-1575916200-1575921600@statelinekids.com
SUMMARY:Holiday Concert
DESCRIPTION:Listen to the bands and choirs of Hononegah High School playing holiday and seasonal music. \nCost: Donation of one paper item (toilet paper\, paper towels\, napkins) for Carpenter’s Place
URL:https://statelinekids.com/event/holiday-concert/
LOCATION:Hononegah Performing Art Center\, 307 Salem St.\, Rockton\, IL\, United States
CATEGORIES:Rockton
END:VEVENT
BEGIN:VEVENT
DTSTART;TZID=America/Chicago:20191221T193000
DTEND;TZID=America/Chicago:20191221T210000
DTSTAMP:20260421T160200
CREATED:20191215T202646Z
LAST-MODIFIED:20191215T202646Z
UID:9074-1576956600-1576962000@statelinekids.com
SUMMARY:Holiday Pops Concert
DESCRIPTION:Enjoy holiday music from the Rockford Symphony Orchestra and chorale. Get tickets here.
URL:https://statelinekids.com/event/holiday-pops-concert/
LOCATION:Coronado Theater\, 314 N Main Street\, Rockford\, IL\, United States
CATEGORIES:Rockford
END:VEVENT
BEGIN:VEVENT
DTSTART;TZID=America/Chicago:20191222T150000
DTEND;TZID=America/Chicago:20191222T170000
DTSTAMP:20260421T160200
CREATED:20191215T202746Z
LAST-MODIFIED:20191215T202746Z
UID:9076-1577026800-1577034000@statelinekids.com
SUMMARY:Holiday Pops Concert
DESCRIPTION:Enjoy holiday music from the Rockford Symphony Orchestra and chorale. Get tickets here.
URL:https://statelinekids.com/event/holiday-pops-concert-2/
LOCATION:Coronado Theater\, 314 N Main Street\, Rockford\, IL\, United States
CATEGORIES:Rockford
END:VEVENT
BEGIN:VEVENT
DTSTART;TZID=America/Chicago:20200826T140000
DTEND;TZID=America/Chicago:20200826T150000
DTSTAMP:20260421T160200
CREATED:20200823T183430Z
LAST-MODIFIED:20200823T184258Z
UID:12695-1598450400-1598454000@statelinekids.com
SUMMARY:End of Summer Celebration with Pint Size Polka
DESCRIPTION:Save goodbye to summer with a free concert with local children’s performer Pint Size Polka in the back parking lot.
URL:https://statelinekids.com/event/end-of-summer-celebration-with-pint-size-polka/
LOCATION:Beloit Public Library\, 605 Eclipse Blvd\, Beloit\, WI\, United States
CATEGORIES:Beloit
ATTACH;FMTTYPE=image/jpeg:https://statelinekids.com/wp-content/uploads/2020/08/Pint-Size-Polka.jpg
END:VEVENT
BEGIN:VEVENT
DTSTART;TZID=America/Chicago:20201009T190000
DTEND;TZID=America/Chicago:20201009T200000
DTSTAMP:20260421T160200
CREATED:20200927T164952Z
LAST-MODIFIED:20201002T142016Z
UID:13089-1602270000-1602273600@statelinekids.com
SUMMARY:**Rescheduled** Fall Fun Concert with Fred and Ginger
DESCRIPTION:Enjoy the music of Fred and Ginger in the parking lot of BPL. Rescheduled to October 9th.
URL:https://statelinekids.com/event/fall-fun-concert-with-fred-and-ginger/
LOCATION:Beloit Public Library\, 605 Eclipse Blvd\, Beloit\, WI\, United States
CATEGORIES:Beloit
END:VEVENT
BEGIN:VEVENT
DTSTART;TZID=America/Chicago:20201211T193000
DTEND;TZID=America/Chicago:20201211T203000
DTSTAMP:20260421T160200
CREATED:20201206T185936Z
LAST-MODIFIED:20201206T190230Z
UID:14083-1607715000-1607718600@statelinekids.com
SUMMARY:(VIRTUAL) Beert Family String Band Holiday Concert
DESCRIPTION:Watch a live holiday concert on YouTube.
URL:https://statelinekids.com/event/virtual-beert-family-string-band-holiday-concert/
LOCATION:Virtual
CATEGORIES:Rockford
END:VEVENT
BEGIN:VEVENT
DTSTART;TZID=America/Chicago:20201213T160000
DTEND;TZID=America/Chicago:20201213T191500
DTSTAMP:20260421T160200
CREATED:20201206T185325Z
LAST-MODIFIED:20201206T185325Z
UID:14079-1607875200-1607886900@statelinekids.com
SUMMARY:Christmas Concert
DESCRIPTION:Listen to a Christmas concert of your favorite Christmas songs. Masks are encouraged.
URL:https://statelinekids.com/event/christmas-concert/
LOCATION:Maywood Free Church\, 3621 Samuelson Rd\, Rockford\, IL\, United States
CATEGORIES:Rockford
END:VEVENT
BEGIN:VEVENT
DTSTART;TZID=America/Chicago:20201218T210000
DTEND;TZID=America/Chicago:20201218T220000
DTSTAMP:20260421T160200
CREATED:20201213T202052Z
LAST-MODIFIED:20201213T202052Z
UID:14223-1608325200-1608328800@statelinekids.com
SUMMARY:Jim Brickman Comfort and Joy at Home (VIRTUAL)
DESCRIPTION:Watch an interactive holiday concert from Jim Brickman. A portion of ticket sales go to the Coronado Performing Arts Center. Get tickets here. \nCost: $40 per household
URL:https://statelinekids.com/event/jim-brickman-comfort-and-joy-at-home-virtual/
LOCATION:Your House
END:VEVENT
BEGIN:VEVENT
DTSTART;TZID=America/Chicago:20210610T190000
DTEND;TZID=America/Chicago:20210610T203000
DTSTAMP:20260421T160200
CREATED:20210605T193950Z
LAST-MODIFIED:20210605T193950Z
UID:16002-1623351600-1623357000@statelinekids.com
SUMMARY:Emily Hurd (LIVE MUSIC)
DESCRIPTION:Summer concerts are back at Sinnissippi Park. This week’s concert is country-soul singer\, Emily Hurd.
URL:https://statelinekids.com/event/emily-hurd-live-music/
LOCATION:Sinnissippi Music Shell\, 1401 N 2nd Street\, Rockford\, IL\, United States
CATEGORIES:Rockford
END:VEVENT
BEGIN:VEVENT
DTSTART;TZID=America/Chicago:20210615T190000
DTEND;TZID=America/Chicago:20210615T203000
DTSTAMP:20260421T160200
CREATED:20210613T195556Z
LAST-MODIFIED:20210613T195556Z
UID:16203-1623783600-1623789000@statelinekids.com
SUMMARY:Rockford Concert Band (LIVE MUSIC)
DESCRIPTION:Summer concerts are back at Sinnissippi Park. This week’s concert is Rockford Concert Band.
URL:https://statelinekids.com/event/rockford-concert-band-live-music/
LOCATION:Sinnissippi Park\, 1401 N. 2nd St.\, Rockford\, IL\, United States
CATEGORIES:Rockford
END:VEVENT
BEGIN:VEVENT
DTSTART;TZID=America/Chicago:20210706T183000
DTEND;TZID=America/Chicago:20210706T203000
DTSTAMP:20260421T160200
CREATED:20210704T180415Z
LAST-MODIFIED:20210704T180415Z
UID:16521-1625596200-1625603400@statelinekids.com
SUMMARY:Music at the Marv: Rainbow Bridge Band
DESCRIPTION:Check out live music outdoors. This week’s concert is the Rainbow Bridge Band.
URL:https://statelinekids.com/event/music-at-the-marv-rainbow-bridge-band/
LOCATION:Courthouse Park\, 51 S. Main St.\, Janesville\, WI\, United States
CATEGORIES:Janesville
END:VEVENT
BEGIN:VEVENT
DTSTART;TZID=America/Chicago:20210709T190000
DTEND;TZID=America/Chicago:20210709T210000
DTSTAMP:20260421T160200
CREATED:20210704T180026Z
LAST-MODIFIED:20210704T180026Z
UID:16519-1625857200-1625864400@statelinekids.com
SUMMARY:Music on the Big Lawn: Cash Box Kings
DESCRIPTION:Listen to live music outdoors. This week’s band is the Cash Box Kings.
URL:https://statelinekids.com/event/music-on-the-big-lawn-cash-box-kings/
LOCATION:Riverside Park Beloit\, 1160 S Riverside Dr\, Beloit\, WI\, United States
CATEGORIES:Beloit
END:VEVENT
BEGIN:VEVENT
DTSTART;TZID=America/Chicago:20210711T170000
DTEND;TZID=America/Chicago:20210711T200000
DTSTAMP:20260421T160200
CREATED:20210704T175809Z
LAST-MODIFIED:20210704T175809Z
UID:16517-1626022800-1626033600@statelinekids.com
SUMMARY:Live at Levings: Blues Night
DESCRIPTION:Check out the sounds of Blues Night featuring the Theo Huff Band and Red Band.
URL:https://statelinekids.com/event/live-at-levings-blues-night/
LOCATION:Levings Park\, 1420 S. Pierpont Ave.\, Rockford\, IL\, United States
CATEGORIES:Rockford
END:VEVENT
BEGIN:VEVENT
DTSTART;TZID=America/Chicago:20210713T190000
DTEND;TZID=America/Chicago:20210713T203000
DTSTAMP:20260421T160200
CREATED:20210711T211049Z
LAST-MODIFIED:20210711T211049Z
UID:16691-1626202800-1626208200@statelinekids.com
SUMMARY:Rockford Concert Band (LIVE MUSIC)
DESCRIPTION:Summer concerts are back at Sinnissippi Park. This week is the Rockford Concert Band.
URL:https://statelinekids.com/event/rockford-concert-band-live-music-3/
LOCATION:Sinnissippi Music Shell\, 1401 N 2nd Street\, Rockford\, IL\, United States
CATEGORIES:Rockford
END:VEVENT
END:VCALENDAR