BEGIN:VCALENDAR
VERSION:2.0
PRODID:-//Stateline Kids - ECPv6.5.1.3//NONSGML v1.0//EN
CALSCALE:GREGORIAN
METHOD:PUBLISH
X-ORIGINAL-URL:https://statelinekids.com
X-WR-CALDESC:Events for Stateline Kids
REFRESH-INTERVAL;VALUE=DURATION:PT1H
X-Robots-Tag:noindex
X-PUBLISHED-TTL:PT1H
BEGIN:VTIMEZONE
TZID:America/Chicago
BEGIN:DAYLIGHT
TZOFFSETFROM:-0600
TZOFFSETTO:-0500
TZNAME:CDT
DTSTART:20180311T080000
END:DAYLIGHT
BEGIN:STANDARD
TZOFFSETFROM:-0500
TZOFFSETTO:-0600
TZNAME:CST
DTSTART:20181104T070000
END:STANDARD
BEGIN:DAYLIGHT
TZOFFSETFROM:-0600
TZOFFSETTO:-0500
TZNAME:CDT
DTSTART:20190310T080000
END:DAYLIGHT
BEGIN:STANDARD
TZOFFSETFROM:-0500
TZOFFSETTO:-0600
TZNAME:CST
DTSTART:20191103T070000
END:STANDARD
BEGIN:DAYLIGHT
TZOFFSETFROM:-0600
TZOFFSETTO:-0500
TZNAME:CDT
DTSTART:20200308T080000
END:DAYLIGHT
BEGIN:STANDARD
TZOFFSETFROM:-0500
TZOFFSETTO:-0600
TZNAME:CST
DTSTART:20201101T070000
END:STANDARD
BEGIN:DAYLIGHT
TZOFFSETFROM:-0600
TZOFFSETTO:-0500
TZNAME:CDT
DTSTART:20210314T080000
END:DAYLIGHT
BEGIN:STANDARD
TZOFFSETFROM:-0500
TZOFFSETTO:-0600
TZNAME:CST
DTSTART:20211107T070000
END:STANDARD
BEGIN:DAYLIGHT
TZOFFSETFROM:-0600
TZOFFSETTO:-0500
TZNAME:CDT
DTSTART:20220313T080000
END:DAYLIGHT
BEGIN:STANDARD
TZOFFSETFROM:-0500
TZOFFSETTO:-0600
TZNAME:CST
DTSTART:20221106T070000
END:STANDARD
BEGIN:DAYLIGHT
TZOFFSETFROM:-0600
TZOFFSETTO:-0500
TZNAME:CDT
DTSTART:20230312T080000
END:DAYLIGHT
BEGIN:STANDARD
TZOFFSETFROM:-0500
TZOFFSETTO:-0600
TZNAME:CST
DTSTART:20231105T070000
END:STANDARD
BEGIN:DAYLIGHT
TZOFFSETFROM:-0600
TZOFFSETTO:-0500
TZNAME:CDT
DTSTART:20240310T080000
END:DAYLIGHT
BEGIN:STANDARD
TZOFFSETFROM:-0500
TZOFFSETTO:-0600
TZNAME:CST
DTSTART:20241103T070000
END:STANDARD
BEGIN:DAYLIGHT
TZOFFSETFROM:-0600
TZOFFSETTO:-0500
TZNAME:CDT
DTSTART:20250309T080000
END:DAYLIGHT
BEGIN:STANDARD
TZOFFSETFROM:-0500
TZOFFSETTO:-0600
TZNAME:CST
DTSTART:20251102T070000
END:STANDARD
END:VTIMEZONE
BEGIN:VEVENT
DTSTART;TZID=America/Chicago:20180728T110000
DTEND;TZID=America/Chicago:20180728T150000
DTSTAMP:20260421T110315
CREATED:20180723T034245Z
LAST-MODIFIED:20180723T034245Z
UID:1265-1532775600-1532790000@statelinekids.com
SUMMARY:Human Library
DESCRIPTION:Designed to challenge stereotypes and prejudices\, real people serve as the “Books on loan”. Have a 15-minute conversation with someone completely different from you. Difficult questions are welcome\, expected\, appreciated\, and answered! \nFor more information on the Human Library concept or movement\, click here: www.humanlibrary.org.
URL:https://statelinekids.com/event/human-library/
LOCATION:Rockford Public Library Hart Interim Library\, 214 N Church St\, Rockford\, IL\, United States
CATEGORIES:Rockford
END:VEVENT
BEGIN:VEVENT
DTSTART;TZID=America/Chicago:20180807T170000
DTEND;TZID=America/Chicago:20180807T200000
DTSTAMP:20260421T110315
CREATED:20180803T020541Z
LAST-MODIFIED:20180803T020541Z
UID:1544-1533661200-1533672000@statelinekids.com
SUMMARY:National Night Out - Rockford
DESCRIPTION:Come out to Levings Lake\, 1420 S. Pierpont Avenue\, on Tuesday\, August 7\, from 5 to 8 p.m. for National Night Out\, hosted by the Rockford Police Department and the Rockford Park District Police Department. This family-friendly event will feature free entertainment\, games\, prizes and refreshments!
URL:https://statelinekids.com/event/national-night-out-rockford/
LOCATION:Levings Lake\, 420 S. Pierpont Avenue\, Rockford\, IL\, United States
CATEGORIES:Rockford
END:VEVENT
BEGIN:VEVENT
DTSTART;TZID=America/Chicago:20180812T100000
DTEND;TZID=America/Chicago:20180812T180000
DTSTAMP:20260421T110315
CREATED:20180806T021135Z
LAST-MODIFIED:20180806T021135Z
UID:1605-1534068000-1534096800@statelinekids.com
SUMMARY:3rd Annual Rock River Anything That Floats Race
DESCRIPTION:The race course is 1.65 miles in length and ends in a grand finish at Prairie Street Brewhouse. The scenic course offers a variety of viewing options for the thousands of spectators who will attend: Auburn Street Bridge\, the Whitman Street Bridge\, and along the Rock River Recreation Path. \nBring your picnic baskets or enjoy concession served by local City Market vendors at the Symbol parking lot just south of the Auburns Street bridge\, the Nicholas Conservatory and on the grounds of the Prairie Street Brewhouse all day long. \nA festive post-race party will follow race award ceremonies on the docks at Prairie Street Brewhouse and indoors\, as well.
URL:https://statelinekids.com/event/3rd-annual-rock-river-anything-that-floats-race/
LOCATION:Prairie Street Brewing Company\, 200 Prairie St\, Rockford\, IL\, United States
CATEGORIES:Rockford
END:VEVENT
BEGIN:VEVENT
DTSTART;VALUE=DATE:20200323
DTEND;VALUE=DATE:20200330
DTSTAMP:20260421T110315
CREATED:20200324T134026Z
LAST-MODIFIED:20200324T134026Z
UID:10617-1584921600-1585526399@statelinekids.com
SUMMARY:#SpreadLove815
DESCRIPTION:Let’s show our Rockford area community that we’re unified even we can’t be together. This week we’re spreading love to our neighbors! \nStateline Kids invites you to draw\, color or cut a heart shape out of paper and put it in your window during the week of March 23 – 29. Take a picture of the heart in your window and share it in this event! \nWhen you’re walking around your neighborhood\, look for other hearts in the windows and know that you are not alone. We’re all in this together! \nOther cities are doing this activity as a #HappyHeartHunt!
URL:https://statelinekids.com/event/spreadlove815/
LOCATION:Your House
ATTACH;FMTTYPE=image/jpeg:https://statelinekids.com/wp-content/uploads/2020/03/SL.jpg
END:VEVENT
BEGIN:VEVENT
DTSTART;TZID=America/Chicago:20210317T180000
DTEND;TZID=America/Chicago:20210317T183000
DTSTAMP:20260421T110315
CREATED:20210314T170138Z
LAST-MODIFIED:20210314T170138Z
UID:15071-1616004000-1616005800@statelinekids.com
SUMMARY:Grab\, Go\, and Give
DESCRIPTION:Pick up a kit to make no-sew pet toys for the Boone County Animal Shelter. Make it at home and return it to Ida. 
URL:https://statelinekids.com/event/grab-go-and-give/
LOCATION:Ida Public Library\, 320 N State Street\, Belvidere\, IL\, United States
CATEGORIES:Belvidere
END:VEVENT
BEGIN:VEVENT
DTSTART;VALUE=DATE:20210803
DTEND;VALUE=DATE:20210804
DTSTAMP:20260421T110315
CREATED:20210801T180555Z
LAST-MODIFIED:20210801T180555Z
UID:16959-1627948800-1628035199@statelinekids.com
SUMMARY:National Night Out
DESCRIPTION:It’s National Night Out! Check out what events your city is doing here.
URL:https://statelinekids.com/event/national-night-out-3/
LOCATION:IL
END:VEVENT
BEGIN:VEVENT
DTSTART;VALUE=DATE:20210803
DTEND;VALUE=DATE:20210804
DTSTAMP:20260421T110315
CREATED:20210728T224556Z
LAST-MODIFIED:20210728T224556Z
UID:16923-1627948800-1628035199@statelinekids.com
SUMMARY:National Night Out
DESCRIPTION:National Night Out are happening throughout the Stateline. Check out your city’s event here.
URL:https://statelinekids.com/event/national-night-out-2/
LOCATION:IL
END:VEVENT
BEGIN:VEVENT
DTSTART;TZID=America/Chicago:20220227T130000
DTEND;TZID=America/Chicago:20220227T140000
DTSTAMP:20260421T110315
CREATED:20220219T222129Z
LAST-MODIFIED:20220219T222129Z
UID:19227-1645966800-1645970400@statelinekids.com
SUMMARY:Sunday Community Yoga Class
DESCRIPTION:People ages 14+ can celebrate Black History Month with yoga. Bring your own mat. Register here.
URL:https://statelinekids.com/event/sunday-community-yoga-class/
LOCATION:Rockford Dance Company\, 711 N. Main St.\, Rockford\, IL\, United States
CATEGORIES:Rockford
END:VEVENT
BEGIN:VEVENT
DTSTART;TZID=America/Chicago:20220621T183000
DTEND;TZID=America/Chicago:20220621T200000
DTSTAMP:20260421T110315
CREATED:20220619T152433Z
LAST-MODIFIED:20220619T152433Z
UID:21248-1655836200-1655841600@statelinekids.com
SUMMARY:Summer Solstice Drum Circle and Community Fire
DESCRIPTION:Enjoy drumming\, playing with hula hoops and dance ribbons\, and eating Smores.
URL:https://statelinekids.com/event/summer-solstice-drum-circle-and-community-fire/
LOCATION:Nature At the Confluence\, 306 Dickop St\, South Beloit\, IL\, United States
CATEGORIES:South Beloit
END:VEVENT
BEGIN:VEVENT
DTSTART;TZID=America/Chicago:20220922T150000
DTEND;TZID=America/Chicago:20220922T190000
DTSTAMP:20260421T110315
CREATED:20220917T193834Z
LAST-MODIFIED:20220917T193834Z
UID:23638-1663858800-1663873200@statelinekids.com
SUMMARY:Rock County Community Baby Shower
DESCRIPTION:Pregnant moms and moms who have given birth in the last year can sign up to receive a free gift bag of baby items. Register here.
URL:https://statelinekids.com/event/rock-county-community-baby-shower/
LOCATION:Palmer Park\, 2501 Palmer Dr\, Janesville\, WI\, United States
CATEGORIES:Janesville
END:VEVENT
BEGIN:VEVENT
DTSTART;TZID=America/Chicago:20220930T160000
DTEND;TZID=America/Chicago:20220930T200000
DTSTAMP:20260421T110315
CREATED:20220924T222117Z
LAST-MODIFIED:20220924T222117Z
UID:23878-1664553600-1664568000@statelinekids.com
SUMMARY:Milton Community Days
DESCRIPTION:Shop from over 80 local vendors\, enjoy live music\, and food trucks.
URL:https://statelinekids.com/event/milton-community-days-3/
LOCATION:Schilberg Park\, 301 W. High St.\, Milton\, WI\, United States
CATEGORIES:Milton
END:VEVENT
BEGIN:VEVENT
DTSTART;TZID=America/Chicago:20230711T190000
DTEND;TZID=America/Chicago:20230711T203000
DTSTAMP:20260421T110315
CREATED:20230707T001511Z
LAST-MODIFIED:20230707T001511Z
UID:29309-1689102000-1689107400@statelinekids.com
SUMMARY:Community Science: Bats
DESCRIPTION:Learn about bats and practice sound monitoring techniques using an echometer. Register here.
URL:https://statelinekids.com/event/community-science-bats-2/
LOCATION:Nature At the Confluence\, 306 Dickop St\, South Beloit\, IL\, United States
CATEGORIES:South Beloit
END:VEVENT
BEGIN:VEVENT
DTSTART;TZID=America/Chicago:20230721T100000
DTEND;TZID=America/Chicago:20230721T143000
DTSTAMP:20260421T110315
CREATED:20230716T183200Z
LAST-MODIFIED:20230716T183200Z
UID:29450-1689933600-1689949800@statelinekids.com
SUMMARY:Community Superheroes to the Rescue
DESCRIPTION:Kids can wear their favorite superhero costumes\, and meet real emergency first responders\, and learn about fingerprinting\, microscopes\, and more. There will be a K9 demo at 1 pm and 1:30 pm.
URL:https://statelinekids.com/event/community-superheroes-to-the-rescue-2/
LOCATION:Discovery Center\, 711 N Main St\, Rockford\, IL\, 61103\, United States
CATEGORIES:Rockford
END:VEVENT
BEGIN:VEVENT
DTSTART;TZID=America/Chicago:20230809T160000
DTEND;TZID=America/Chicago:20230809T180000
DTSTAMP:20260421T110315
CREATED:20230805T194050Z
LAST-MODIFIED:20230805T194050Z
UID:29860-1691596800-1691604000@statelinekids.com
SUMMARY:Community Open House
DESCRIPTION:Meet providers\, get educational materials\, learn how to navigate MyChart\, get your blood pressure checked and more.
URL:https://statelinekids.com/event/community-open-house/
LOCATION:Community Health Systems\, Inc.\, 74 Eclipse Ctr\, Beloit\, WI\, United States
CATEGORIES:Beloit
END:VEVENT
BEGIN:VEVENT
DTSTART;TZID=America/Chicago:20240705T170000
DTEND;TZID=America/Chicago:20240705T200000
DTSTAMP:20260421T110315
CREATED:20240629T223840Z
LAST-MODIFIED:20240629T223840Z
UID:36516-1720198800-1720209600@statelinekids.com
SUMMARY:Milton Community Days
DESCRIPTION:Shop from vendors and enjoy the outdoors.
URL:https://statelinekids.com/event/milton-community-days-8/
LOCATION:Schilberg Park\, 301 W. High St.\, Milton\, WI\, United States
CATEGORIES:Milton
END:VEVENT
BEGIN:VEVENT
DTSTART;TZID=America/Chicago:20240908T110000
DTEND;TZID=America/Chicago:20240908T150000
DTSTAMP:20260421T110315
CREATED:20240831T222720Z
LAST-MODIFIED:20240831T222720Z
UID:37452-1725793200-1725807600@statelinekids.com
SUMMARY:Roscoe Community Market
DESCRIPTION:Shop from local vendors selling clothing\, food\, home goods\, and art.
URL:https://statelinekids.com/event/roscoe-community-market/
LOCATION:Louie’s Tap House\, 5689 Elevator Rd.\, Roscoe\, IL\, United States
CATEGORIES:Roscoe
END:VEVENT
BEGIN:VEVENT
DTSTART;TZID=America/Chicago:20241005T100000
DTEND;TZID=America/Chicago:20241005T140000
DTSTAMP:20260421T110315
CREATED:20240927T220320Z
LAST-MODIFIED:20240927T220320Z
UID:37862-1728122400-1728136800@statelinekids.com
SUMMARY:Community Construction Zone
DESCRIPTION:Discover and explore different career zones\, hands-on activities\, and a high school carpentry skills competition
URL:https://statelinekids.com/event/community-construction-zone-4/
LOCATION:Ironworks Campus\, 501 3rd St.\, Beloit\, WI\, United States
CATEGORIES:Beloit
END:VEVENT
BEGIN:VEVENT
DTSTART;TZID=America/Chicago:20250404T160000
DTEND;TZID=America/Chicago:20250404T170000
DTSTAMP:20260421T110315
CREATED:20250329T200853Z
LAST-MODIFIED:20250329T200853Z
UID:40030-1743782400-1743786000@statelinekids.com
SUMMARY:Community Explorers: Police and K9 Officers
DESCRIPTION:Kids ages 6-12 can meet real-life heroes from the police.
URL:https://statelinekids.com/event/community-explorers-police-and-k9-officers/
LOCATION:Hedberg Library\, 316 S. Main St.\, Janesville\, WI\, United States
CATEGORIES:Janesville
END:VEVENT
BEGIN:VEVENT
DTSTART;TZID=America/Chicago:20250414T160000
DTEND;TZID=America/Chicago:20250414T170000
DTSTAMP:20260421T110315
CREATED:20250412T205727Z
LAST-MODIFIED:20250412T205727Z
UID:40204-1744646400-1744650000@statelinekids.com
SUMMARY:Community Explorers
DESCRIPTION:Kids ages 6-12 can learn about sanitation workers and listen to a story.
URL:https://statelinekids.com/event/community-explorers/
LOCATION:Hedberg Library\, 316 S. Main St.\, Janesville\, WI\, United States
CATEGORIES:Janesville
END:VEVENT
BEGIN:VEVENT
DTSTART;TZID=America/Chicago:20250601T110000
DTEND;TZID=America/Chicago:20250601T150000
DTSTAMP:20260421T110315
CREATED:20250524T171730Z
LAST-MODIFIED:20250524T171730Z
UID:40736-1748775600-1748790000@statelinekids.com
SUMMARY:Rock County Get Together
DESCRIPTION:Enjoy free family fun including stage performances and cultural activities. There will also be a bounce house\, DJ\, break dancing\, and food trucks.
URL:https://statelinekids.com/event/rock-county-get-together/
LOCATION:Janesville Performing Arts Center\, 408 S. Main St.\, Janesville\, WI\, United States
CATEGORIES:Janesville
END:VEVENT
BEGIN:VEVENT
DTSTART;TZID=America/Chicago:20250719T110000
DTEND;TZID=America/Chicago:20250719T140000
DTSTAMP:20260421T110315
CREATED:20250712T171819Z
LAST-MODIFIED:20250712T171819Z
UID:41459-1752922800-1752933600@statelinekids.com
SUMMARY:Community Health Fair
DESCRIPTION:Check out physical and mental health resources\, community resources\, Rockford Park District programs\, giveaways\, and more.
URL:https://statelinekids.com/event/community-health-fair-4/
LOCATION:Crusader Community Health\, 1200 W. State St\, Rockford\, IL\, United States
CATEGORIES:Rockford
END:VEVENT
END:VCALENDAR