BEGIN:VCALENDAR
VERSION:2.0
PRODID:-//Stateline Kids - ECPv6.5.1.3//NONSGML v1.0//EN
CALSCALE:GREGORIAN
METHOD:PUBLISH
X-ORIGINAL-URL:https://statelinekids.com
X-WR-CALDESC:Events for Stateline Kids
REFRESH-INTERVAL;VALUE=DURATION:PT1H
X-Robots-Tag:noindex
X-PUBLISHED-TTL:PT1H
BEGIN:VTIMEZONE
TZID:America/Chicago
BEGIN:DAYLIGHT
TZOFFSETFROM:-0600
TZOFFSETTO:-0500
TZNAME:CDT
DTSTART:20200308T080000
END:DAYLIGHT
BEGIN:STANDARD
TZOFFSETFROM:-0500
TZOFFSETTO:-0600
TZNAME:CST
DTSTART:20201101T070000
END:STANDARD
END:VTIMEZONE
BEGIN:VEVENT
DTSTART;TZID=America/Chicago:20200307T110000
DTEND;TZID=America/Chicago:20200307T140000
DTSTAMP:20260421T100737
CREATED:20200229T183133Z
LAST-MODIFIED:20200229T183133Z
UID:10020-1583578800-1583589600@statelinekids.com
SUMMARY:Ag All Around Us
DESCRIPTION:Explore the many ways that agriculture makes use of science\, technology\, engineering and math. There will be piglets\, goats\, a baby calf and chickens. \nCost: $9 per person\, kids 1 and under are free\, members are free
URL:https://statelinekids.com/event/ag-all-around-us-2/
LOCATION:Discovery Center\, 711 N Main St\, Rockford\, IL\, 61103\, United States
CATEGORIES:Rockford
END:VEVENT
END:VCALENDAR