BEGIN:VCALENDAR
VERSION:2.0
PRODID:-//Stateline Kids - ECPv6.5.1.3//NONSGML v1.0//EN
CALSCALE:GREGORIAN
METHOD:PUBLISH
X-ORIGINAL-URL:https://statelinekids.com
X-WR-CALDESC:Events for Stateline Kids
REFRESH-INTERVAL;VALUE=DURATION:PT1H
X-Robots-Tag:noindex
X-PUBLISHED-TTL:PT1H
BEGIN:VTIMEZONE
TZID:America/Chicago
BEGIN:DAYLIGHT
TZOFFSETFROM:-0600
TZOFFSETTO:-0500
TZNAME:CDT
DTSTART:20180311T080000
END:DAYLIGHT
BEGIN:STANDARD
TZOFFSETFROM:-0500
TZOFFSETTO:-0600
TZNAME:CST
DTSTART:20181104T070000
END:STANDARD
BEGIN:DAYLIGHT
TZOFFSETFROM:-0600
TZOFFSETTO:-0500
TZNAME:CDT
DTSTART:20190310T080000
END:DAYLIGHT
BEGIN:STANDARD
TZOFFSETFROM:-0500
TZOFFSETTO:-0600
TZNAME:CST
DTSTART:20191103T070000
END:STANDARD
BEGIN:DAYLIGHT
TZOFFSETFROM:-0600
TZOFFSETTO:-0500
TZNAME:CDT
DTSTART:20200308T080000
END:DAYLIGHT
BEGIN:STANDARD
TZOFFSETFROM:-0500
TZOFFSETTO:-0600
TZNAME:CST
DTSTART:20201101T070000
END:STANDARD
BEGIN:DAYLIGHT
TZOFFSETFROM:-0600
TZOFFSETTO:-0500
TZNAME:CDT
DTSTART:20210314T080000
END:DAYLIGHT
BEGIN:STANDARD
TZOFFSETFROM:-0500
TZOFFSETTO:-0600
TZNAME:CST
DTSTART:20211107T070000
END:STANDARD
BEGIN:DAYLIGHT
TZOFFSETFROM:-0600
TZOFFSETTO:-0500
TZNAME:CDT
DTSTART:20220313T080000
END:DAYLIGHT
BEGIN:STANDARD
TZOFFSETFROM:-0500
TZOFFSETTO:-0600
TZNAME:CST
DTSTART:20221106T070000
END:STANDARD
BEGIN:DAYLIGHT
TZOFFSETFROM:-0600
TZOFFSETTO:-0500
TZNAME:CDT
DTSTART:20230312T080000
END:DAYLIGHT
BEGIN:STANDARD
TZOFFSETFROM:-0500
TZOFFSETTO:-0600
TZNAME:CST
DTSTART:20231105T070000
END:STANDARD
END:VTIMEZONE
BEGIN:VEVENT
DTSTART;TZID=America/Chicago:20180807T170000
DTEND;TZID=America/Chicago:20180807T190000
DTSTAMP:20260419T090644
CREATED:20180720T190642Z
LAST-MODIFIED:20180729T232808Z
UID:1175-1533661200-1533668400@statelinekids.com
SUMMARY:National Night Out - Machesney Park
DESCRIPTION:Building Strong Relationships between Machesney Park Police and the residents of the Village. This is a nationwide event that occurs annually on the first Tuesday of August! \n\nPublic Safety vehicle display\nPractice spraying a fire hose\nK-9 Demonstration\nLocal vendors\nBounce house\nHot dogs\, cookies\, and chips\nRaffles and prizes
URL:https://statelinekids.com/event/national-night-out/
LOCATION:Machesney Park Town Center\, 8750 North Second Street\, Machesney Park\, IL\, United States
CATEGORIES:Machesney Park
END:VEVENT
BEGIN:VEVENT
DTSTART;TZID=America/Chicago:20180809T113000
DTEND;TZID=America/Chicago:20180809T120000
DTSTAMP:20260419T090644
CREATED:20180725T041915Z
LAST-MODIFIED:20180725T041915Z
UID:1332-1533814200-1533816000@statelinekids.com
SUMMARY:Secret Garden Story Times - Beep Beep! Honk Honk! Transportation Tales
DESCRIPTION:Join us in the Secret Garden for a morning of stories\, songs and activities.  Take home a special craft each week based on the weekly theme.  This week’s theme is Beep Beep! Honk Honk! Transportation Tales.  Included with museum admission.
URL:https://statelinekids.com/event/secret-garden-story-times-beep-beep-honk-honk-transportation-tales/
LOCATION:Discovery Center\, 711 N Main St\, Rockford\, IL\, 61103\, United States
CATEGORIES:Rockford
END:VEVENT
BEGIN:VEVENT
DTSTART;TZID=America/Chicago:20181117T130000
DTEND;TZID=America/Chicago:20181117T153000
DTSTAMP:20260419T090644
CREATED:20181111T213516Z
LAST-MODIFIED:20181111T213516Z
UID:3830-1542459600-1542468600@statelinekids.com
SUMMARY:Monster Jam
DESCRIPTION:Watch monster trucks doing amazing displays of power and gravity-defying tricks. Get tickets here.
URL:https://statelinekids.com/event/monster-jam/
LOCATION:BMO Center\, 300 Elm St\, Rockford\, IL\, United States
CATEGORIES:Rockford
END:VEVENT
BEGIN:VEVENT
DTSTART;TZID=America/Chicago:20190317T080000
DTEND;TZID=America/Chicago:20190317T140000
DTSTAMP:20260419T090644
CREATED:20190312T034039Z
LAST-MODIFIED:20190312T034039Z
UID:5114-1552809600-1552831200@statelinekids.com
SUMMARY:Rockford Hot Wheels and Toy Show
DESCRIPTION:Come see a variety of Hot Wheels and toys. \nCost: $2 for adults\, children 16 and under are free
URL:https://statelinekids.com/event/rockford-hot-wheels-and-toy-show/
LOCATION:Seventh Day Adventist Church\, 325 N. Alpine Rd\, Rockford\, IL\, United States
CATEGORIES:Rockford
END:VEVENT
BEGIN:VEVENT
DTSTART;TZID=America/Chicago:20190602T170000
DTEND;TZID=America/Chicago:20190602T200000
DTSTAMP:20260419T090644
CREATED:20190525T204608Z
LAST-MODIFIED:20190525T204608Z
UID:5812-1559494800-1559505600@statelinekids.com
SUMMARY:Cruise Night
DESCRIPTION:See classic cars and enjoy treats from Bing’s\, DJ music and a raffle.
URL:https://statelinekids.com/event/cruise-night/
LOCATION:Bing’s Drive In\, 3613 S. Main St.\, Rockford\, IL\, United States
CATEGORIES:Rockford
END:VEVENT
BEGIN:VEVENT
DTSTART;TZID=America/Chicago:20190606T170000
DTEND;TZID=America/Chicago:20190606T200000
DTSTAMP:20260419T090644
CREATED:20190602T154432Z
LAST-MODIFIED:20190602T154432Z
UID:5901-1559840400-1559851200@statelinekids.com
SUMMARY:Sophia’s Cruise Nights
DESCRIPTION:Check out classic cars\, listen to music\, enjoy food\, and raffle drawings.
URL:https://statelinekids.com/event/sophias-cruise-nights/
LOCATION:Sophia’s Family Restaurant\, 5467 Bridge St.\, Roscoe\, IL\, United States
CATEGORIES:Roscoe
END:VEVENT
BEGIN:VEVENT
DTSTART;TZID=America/Chicago:20190608T190000
DTEND;TZID=America/Chicago:20190608T220000
DTSTAMP:20260419T090644
CREATED:20190602T160244Z
LAST-MODIFIED:20190602T160244Z
UID:5930-1560020400-1560031200@statelinekids.com
SUMMARY:The Original Trailer Race of Destruction
DESCRIPTION:Watch trailers race and get destroyed. Get tickets here.
URL:https://statelinekids.com/event/the-original-trailer-race-of-destruction/
LOCATION:Rockford Speedway\, 9572 Forest Hills Dr\, Loves Park\, IL\, United States
CATEGORIES:Loves Park
END:VEVENT
BEGIN:VEVENT
DTSTART;TZID=America/Chicago:20190703T190000
DTEND;TZID=America/Chicago:20190703T220000
DTSTAMP:20260419T090644
CREATED:20190630T205254Z
LAST-MODIFIED:20190630T205254Z
UID:6332-1562180400-1562191200@statelinekids.com
SUMMARY:Midnight Ride of Paul Revere and Fireworks
DESCRIPTION:Watch a race and then see some fireworks. Get tickets here. \nCost: Tickets start at $15 per adult\, $8 per child 6-11 years old\, kids 5 and under are free
URL:https://statelinekids.com/event/midnight-ride-of-paul-revere-and-fireworks/
LOCATION:Rockford Speedway\, 9572 Forest Hills Dr\, Loves Park\, IL\, United States
CATEGORIES:Rockford
END:VEVENT
BEGIN:VEVENT
DTSTART;TZID=America/Chicago:20190721T170000
DTEND;TZID=America/Chicago:20190721T200000
DTSTAMP:20260419T090644
CREATED:20190714T171009Z
LAST-MODIFIED:20190714T171009Z
UID:6546-1563728400-1563739200@statelinekids.com
SUMMARY:Bings Drive In Cruise Nights
DESCRIPTION:Listen to live music and see some classic cars.
URL:https://statelinekids.com/event/bings-drive-in-cruise-nights-2/
LOCATION:Bing’s Drive In\, 3613 S. Main St.\, Rockford\, IL\, United States
CATEGORIES:Rockford
END:VEVENT
BEGIN:VEVENT
DTSTART;TZID=America/Chicago:20190828T170000
DTEND;TZID=America/Chicago:20190828T200000
DTSTAMP:20260419T090644
CREATED:20190825T162145Z
LAST-MODIFIED:20190825T162145Z
UID:7148-1567011600-1567022400@statelinekids.com
SUMMARY:Cruise Night Car Show
DESCRIPTION:Enjoy a car show\, live music\, Bingo\, kids games\, and giveaways.
URL:https://statelinekids.com/event/cruise-night-car-show/
LOCATION:McDonald’s\, 13454 Quail Trail\, Rockton\, IL\, United States
CATEGORIES:Rockton
END:VEVENT
BEGIN:VEVENT
DTSTART;TZID=America/Chicago:20200229T120000
DTEND;TZID=America/Chicago:20200229T140000
DTSTAMP:20260419T090644
CREATED:20200222T192419Z
LAST-MODIFIED:20200222T192419Z
UID:9945-1582977600-1582984800@statelinekids.com
SUMMARY:BIFF Kids Film Screening: Disney’s Cars at BPL
DESCRIPTION:Watch a free\, family-friendly movie and enjoy free custard from Culver’s.
URL:https://statelinekids.com/event/biff-kids-film-screening-disneys-cars-at-bpl/
LOCATION:Beloit Public Library\, 605 Eclipse Blvd\, Beloit\, WI\, United States
CATEGORIES:Beloit
END:VEVENT
BEGIN:VEVENT
DTSTART;TZID=America/Chicago:20200627T170000
DTEND;TZID=America/Chicago:20200627T220000
DTSTAMP:20260419T090644
CREATED:20200621T182356Z
LAST-MODIFIED:20200621T182356Z
UID:11695-1593277200-1593295200@statelinekids.com
SUMMARY:Rockford Speedway Opener
DESCRIPTION:Watch the Late Models\, Sportsmen\, Short Trackers\, Bandits and Roadrunners. \nCost: $14 per adult\, $7 per kids ages 6-11\, kids under 5 are free
URL:https://statelinekids.com/event/rockford-speedway-opener/
LOCATION:Rockford Speedway\, 9572 Forest Hills Dr\, Loves Park\, IL\, United States
CATEGORIES:Loves Park
END:VEVENT
BEGIN:VEVENT
DTSTART;TZID=America/Chicago:20210508T190000
DTEND;TZID=America/Chicago:20210508T220000
DTSTAMP:20260419T090644
CREATED:20210502T194407Z
LAST-MODIFIED:20210502T194407Z
UID:15514-1620500400-1620511200@statelinekids.com
SUMMARY:NASCAR Season Opener
DESCRIPTION:Spend the night at the races. Gates open at 5 pm and racing starts at 7:07 pm. Get tickets here. \nCost: $45 for a family pack / $15 per adult / $12 per kids 12-17 / $5 per child 6-11\, kids 5 and under are free \n 
URL:https://statelinekids.com/event/nascar-season-opener/
LOCATION:Rockford Speedway\, 9572 Forest Hills Dr\, Loves Park\, IL\, United States
CATEGORIES:Loves Park
END:VEVENT
BEGIN:VEVENT
DTSTART;TZID=America/Chicago:20210612T190000
DTEND;TZID=America/Chicago:20210612T220000
DTSTAMP:20260419T090644
CREATED:20210605T201907Z
LAST-MODIFIED:20210605T201907Z
UID:16012-1623524400-1623535200@statelinekids.com
SUMMARY:The Original Trailer Race of Destruction
DESCRIPTION:Watch the original trailer race of destruction and late models\, sportsmen\, and more. Get tickets here. \nCost: $30 per adult / $10 per kid 6-11 / $5 per kid 4 and under
URL:https://statelinekids.com/event/the-original-trailer-race-of-destruction-2/
LOCATION:Rockford Speedway\, 9572 Forest Hills Dr\, Loves Park\, IL\, United States
CATEGORIES:Loves Park
END:VEVENT
BEGIN:VEVENT
DTSTART;TZID=America/Chicago:20210630T160000
DTEND;TZID=America/Chicago:20210630T190000
DTSTAMP:20260419T090644
CREATED:20210627T161520Z
LAST-MODIFIED:20210627T161520Z
UID:16423-1625068800-1625079600@statelinekids.com
SUMMARY:Cruise Night
DESCRIPTION:Check out some cool cars at cruise night and enjoy some Smokin’ Coop BBQ.
URL:https://statelinekids.com/event/cruise-night-3/
LOCATION:Smokin’ Coop BBQ\, 2022 Business Rt. 20\, Belvidere\, IL\, United States
CATEGORIES:Belvidere
END:VEVENT
BEGIN:VEVENT
DTSTART;TZID=America/Chicago:20210701T170000
DTEND;TZID=America/Chicago:20210701T200000
DTSTAMP:20260419T090644
CREATED:20210627T160950Z
LAST-MODIFIED:20210627T160950Z
UID:16421-1625158800-1625169600@statelinekids.com
SUMMARY:Cruise Night
DESCRIPTION:Check out some cool cars at a cruise night.
URL:https://statelinekids.com/event/cruise-night-2/
LOCATION:Sophia’s Family Restaurant\, 5467 Bridge St.\, Roscoe\, IL\, United States
CATEGORIES:Roscoe
END:VEVENT
BEGIN:VEVENT
DTSTART;TZID=America/Chicago:20210721T170000
DTEND;TZID=America/Chicago:20210721T200000
DTSTAMP:20260419T090644
CREATED:20210718T165305Z
LAST-MODIFIED:20210718T165305Z
UID:16785-1626886800-1626897600@statelinekids.com
SUMMARY:Bucciferro Family Car Show
DESCRIPTION:Check out cool cars\, enjoy deals on burgers and fries\, listen to a live DJ\, enter cash drawings and more.
URL:https://statelinekids.com/event/bucciferro-family-car-show/
LOCATION:Rockton McDonald’s\, 13454 Quail Trl.\, Rockton\, IL\, United States
CATEGORIES:Rockton
END:VEVENT
BEGIN:VEVENT
DTSTART;TZID=America/Chicago:20210724T090000
DTEND;TZID=America/Chicago:20210724T140000
DTSTAMP:20260419T090644
CREATED:20210718T180413Z
LAST-MODIFIED:20210718T180413Z
UID:16810-1627117200-1627135200@statelinekids.com
SUMMARY:Cops\, Cars\, and K9s Car and Motorcycle Show
DESCRIPTION:Check out the cars and motorcycles\, kid’s fingerprinting\, K-9 demonstrations\, inflatables\, food vendors and games.
URL:https://statelinekids.com/event/cops-cars-and-k9s-car-and-motorcycle-show/
LOCATION:Life Church\, 5910 Elevator Rd\, Roscoe\, IL\, United States
CATEGORIES:Roscoe
END:VEVENT
BEGIN:VEVENT
DTSTART;TZID=America/Chicago:20210828T170000
DTEND;TZID=America/Chicago:20210828T190000
DTSTAMP:20260419T090644
CREATED:20210822T205745Z
LAST-MODIFIED:20210822T205745Z
UID:17156-1630170000-1630177200@statelinekids.com
SUMMARY:Car Show
DESCRIPTION:Check out the cool cars and sign up for giveaways and more.
URL:https://statelinekids.com/event/car-show-3/
LOCATION:Riverside Assembly of God\, 4242 W. Riverside Blvd.\, Rockford\, IL\, United States
CATEGORIES:Rockford
END:VEVENT
BEGIN:VEVENT
DTSTART;TZID=America/Chicago:20220507T090000
DTEND;TZID=America/Chicago:20220507T120000
DTSTAMP:20260419T090644
CREATED:20220430T210420Z
LAST-MODIFIED:20220430T210420Z
UID:20095-1651914000-1651924800@statelinekids.com
SUMMARY:Cars and Coffee
DESCRIPTION:Check out more than 200 cars\, enjoy live music\, enter contests\, and meet Hammy from the IceHogs.
URL:https://statelinekids.com/event/cars-and-coffee-2/
LOCATION:Katie’s Cup\, 502 7th St.\, Rockford\, IL\, United States
CATEGORIES:Rockford
END:VEVENT
BEGIN:VEVENT
DTSTART;TZID=America/Chicago:20220602T170000
DTEND;TZID=America/Chicago:20220602T200000
DTSTAMP:20260419T090644
CREATED:20220528T191410Z
LAST-MODIFIED:20220528T191410Z
UID:20662-1654189200-1654200000@statelinekids.com
SUMMARY:Cruise Night
DESCRIPTION:Check out vintage cars and listen to DJ music.
URL:https://statelinekids.com/event/cruise-night-5/2022-06-02/
LOCATION:Sophia’s Family Restaurant\, 5467 Bridge St.\, Roscoe\, IL\, United States
CATEGORIES:Roscoe
END:VEVENT
BEGIN:VEVENT
DTSTART;TZID=America/Chicago:20220709T190000
DTEND;TZID=America/Chicago:20220709T220000
DTSTAMP:20260419T090644
CREATED:20220703T174747Z
LAST-MODIFIED:20220703T174801Z
UID:22303-1657393200-1657404000@statelinekids.com
SUMMARY:Fan Appreciation Night at the Rockford Speedway
DESCRIPTION:Enjoy a night of flying school buses\, bandits\, drags\, and more. Gates open at 5 pm. Get tickets here.
URL:https://statelinekids.com/event/fan-appreciation-night/
LOCATION:Rockford Speedway\, 9572 Forest Hills Dr\, Loves Park\, IL\, United States
CATEGORIES:Loves Park
END:VEVENT
BEGIN:VEVENT
DTSTART;TZID=America/Chicago:20220909T180000
DTEND;TZID=America/Chicago:20220909T220000
DTSTAMP:20260419T090644
CREATED:20220904T191039Z
LAST-MODIFIED:20220904T191039Z
UID:23197-1662746400-1662760800@statelinekids.com
SUMMARY:Movie on the Big Lawn: Cars
DESCRIPTION:Enjoy the movie Cars shown on an inflatable screen. Bring your own chairs and blankets.
URL:https://statelinekids.com/event/movie-on-the-big-lawn-cars/
LOCATION:Riverside Park Beloit\, 1160 S Riverside Dr\, Beloit\, WI\, United States
CATEGORIES:Beloit
END:VEVENT
BEGIN:VEVENT
DTSTART;TZID=America/Chicago:20220918T080000
DTEND;TZID=America/Chicago:20220918T160000
DTSTAMP:20260419T090644
CREATED:20220911T191259Z
LAST-MODIFIED:20220911T191259Z
UID:23468-1663488000-1663516800@statelinekids.com
SUMMARY:Beloit Autorama
DESCRIPTION:Enjoy a gigantic car show with more than 1\,200 cars and arts and crafts vendor fair. \nCost: $10 per person / $5 per kid ages 8-15 / free for kids under 8
URL:https://statelinekids.com/event/beloit-autorama/
LOCATION:Preservation Park\, 3444 S Riverside Dr\, Beloit\, WI\, United States
CATEGORIES:Beloit
END:VEVENT
BEGIN:VEVENT
DTSTART;TZID=America/Chicago:20220921T170000
DTEND;TZID=America/Chicago:20220921T200000
DTSTAMP:20260419T090644
CREATED:20220917T183322Z
LAST-MODIFIED:20220917T183322Z
UID:23611-1663779600-1663790400@statelinekids.com
SUMMARY:Bucciferro McDonald’s Car Show
DESCRIPTION:Check out a car show and get deals on food.
URL:https://statelinekids.com/event/bucciferro-mcdonalds-car-show-3/
LOCATION:Rockton McDonald’s\, 13454 Quail Trl.\, Rockton\, IL\, United States
CATEGORIES:Rockton
END:VEVENT
BEGIN:VEVENT
DTSTART;TZID=America/Chicago:20220924T110000
DTEND;TZID=America/Chicago:20220924T140000
DTSTAMP:20260419T090644
CREATED:20220917T192415Z
LAST-MODIFIED:20220917T192415Z
UID:23630-1664017200-1664028000@statelinekids.com
SUMMARY:Car Show
DESCRIPTION:Check out cars\, listen to a DJ\, and participate in raffles.
URL:https://statelinekids.com/event/car-show-6/
LOCATION:Symphony Maple Crest\, 4452 Squaw Prairie Rd.\, Belvidere\, IL\, United States
CATEGORIES:Belvidere
END:VEVENT
BEGIN:VEVENT
DTSTART;TZID=America/Chicago:20230121T080000
DTEND;TZID=America/Chicago:20230121T130000
DTSTAMP:20260419T090644
CREATED:20230114T211323Z
LAST-MODIFIED:20230114T211323Z
UID:25932-1674288000-1674306000@statelinekids.com
SUMMARY:Northern Illinois Toy Show
DESCRIPTION:Check out over 60 tables of toys for sale including Hot Wheels\, Die Cast\, Action Figures and more. \nCost: $3 per adult / free admission for 15 and under
URL:https://statelinekids.com/event/northern-illinois-toy-show-2/
LOCATION:Life Church Assembly of God\, 5910 Elevator Rd.\, Roscoe\, IL\, United States
CATEGORIES:Roscoe
END:VEVENT
BEGIN:VEVENT
DTSTART;TZID=America/Chicago:20230506T190700
DTEND;TZID=America/Chicago:20230506T220000
DTSTAMP:20260419T090644
CREATED:20230430T224005Z
LAST-MODIFIED:20230430T224005Z
UID:27789-1683400020-1683410400@statelinekids.com
SUMMARY:76th NASCAR Season Opener
DESCRIPTION:Enjoy the season opener for the last season of the Rockford Speedway. Get tickets here.
URL:https://statelinekids.com/event/76th-nascar-season-opener/
LOCATION:Rockford Speedway\, 9572 Forest Hills Dr\, Loves Park\, IL\, United States
CATEGORIES:Loves Park
END:VEVENT
BEGIN:VEVENT
DTSTART;TZID=America/Chicago:20230510T170000
DTEND;TZID=America/Chicago:20230510T200000
DTSTAMP:20260419T090644
CREATED:20230505T161143Z
LAST-MODIFIED:20230505T161143Z
UID:27840-1683738000-1683748800@statelinekids.com
SUMMARY:Cruise Night
DESCRIPTION:Check out cars and enjoy an evening of music\, fun\, food trucks and more.
URL:https://statelinekids.com/event/cruise-night-6/
LOCATION:Historic Auto Attractions\, 13825 Metric Dr.\, Roscoe\, IL\, United States
CATEGORIES:Roscoe
END:VEVENT
BEGIN:VEVENT
DTSTART;TZID=America/Chicago:20230518T170000
DTEND;TZID=America/Chicago:20230518T200000
DTSTAMP:20260419T090644
CREATED:20230512T155429Z
LAST-MODIFIED:20230512T155429Z
UID:27954-1684429200-1684440000@statelinekids.com
SUMMARY:Cruise Night
DESCRIPTION:Check out a car show\, DJ music\, drawings\, kids fun\, and food specials.
URL:https://statelinekids.com/event/cruise-night-7/
LOCATION:Bucciferro McDonald’s\, 45 State St\, Beloit\, WI\, United States
CATEGORIES:Rockton
END:VEVENT
END:VCALENDAR