BEGIN:VCALENDAR
VERSION:2.0
PRODID:-//Stateline Kids - ECPv6.5.1.3//NONSGML v1.0//EN
CALSCALE:GREGORIAN
METHOD:PUBLISH
X-ORIGINAL-URL:https://statelinekids.com
X-WR-CALDESC:Events for Stateline Kids
REFRESH-INTERVAL;VALUE=DURATION:PT1H
X-Robots-Tag:noindex
X-PUBLISHED-TTL:PT1H
BEGIN:VTIMEZONE
TZID:America/Chicago
BEGIN:DAYLIGHT
TZOFFSETFROM:-0600
TZOFFSETTO:-0500
TZNAME:CDT
DTSTART:20180311T080000
END:DAYLIGHT
BEGIN:STANDARD
TZOFFSETFROM:-0500
TZOFFSETTO:-0600
TZNAME:CST
DTSTART:20181104T070000
END:STANDARD
BEGIN:DAYLIGHT
TZOFFSETFROM:-0600
TZOFFSETTO:-0500
TZNAME:CDT
DTSTART:20190310T080000
END:DAYLIGHT
BEGIN:STANDARD
TZOFFSETFROM:-0500
TZOFFSETTO:-0600
TZNAME:CST
DTSTART:20191103T070000
END:STANDARD
END:VTIMEZONE
BEGIN:VEVENT
DTSTART;TZID=America/Chicago:20181007T140000
DTEND;TZID=America/Chicago:20181007T153000
DTSTAMP:20260421T125914
CREATED:20181001T150654Z
LAST-MODIFIED:20181001T150654Z
UID:3011-1538920800-1538926200@statelinekids.com
SUMMARY:Cake and Tea with Cinderella
DESCRIPTION:Participate in a step-by-step cake decorating class plus lunch and tea with Cinderella. Each child gets a cake. Vegan and gluten-free options available. Get tickets here. \nCost: $38.95 per child
URL:https://statelinekids.com/event/cake-and-tea-with-cinderella/
LOCATION:SweetDreams Bakery\, 9461 N. 2nd St\, Roscoe\, IL\, United States
CATEGORIES:Roscoe
END:VEVENT
BEGIN:VEVENT
DTSTART;TZID=America/Chicago:20190309T170000
DTEND;TZID=America/Chicago:20190309T210000
DTSTAMP:20260421T125914
CREATED:20190306T215320Z
LAST-MODIFIED:20190306T215320Z
UID:5047-1552150800-1552165200@statelinekids.com
SUMMARY:Splashapalooza
DESCRIPTION:Drop off your kids for swimming\, pizza\, cake pops\, art activities and a movie. For ages 6-10. \nCost: $29 per child
URL:https://statelinekids.com/event/splashapalooza/
LOCATION:Dolphin Swim Club\, 6501 Rock Valley Pkwy\, Loves Park\, IL\, United States
CATEGORIES:Loves Park
END:VEVENT
END:VCALENDAR