BEGIN:VCALENDAR
VERSION:2.0
PRODID:-//Stateline Kids - ECPv6.5.1.3//NONSGML v1.0//EN
CALSCALE:GREGORIAN
METHOD:PUBLISH
X-WR-CALNAME:Stateline Kids
X-ORIGINAL-URL:https://statelinekids.com
X-WR-CALDESC:Events for Stateline Kids
REFRESH-INTERVAL;VALUE=DURATION:PT1H
X-Robots-Tag:noindex
X-PUBLISHED-TTL:PT1H
BEGIN:VTIMEZONE
TZID:America/Chicago
BEGIN:DAYLIGHT
TZOFFSETFROM:-0600
TZOFFSETTO:-0500
TZNAME:CDT
DTSTART:20230312T080000
END:DAYLIGHT
BEGIN:STANDARD
TZOFFSETFROM:-0500
TZOFFSETTO:-0600
TZNAME:CST
DTSTART:20231105T070000
END:STANDARD
END:VTIMEZONE
BEGIN:VEVENT
DTSTART;TZID=America/Chicago:20231209T100000
DTEND;TZID=America/Chicago:20231209T130000
DTSTAMP:20260424T202752
CREATED:20231202T203028Z
LAST-MODIFIED:20231202T203028Z
UID:32330-1702116000-1702126800@statelinekids.com
SUMMARY:Biz Kids Fair
DESCRIPTION:Shop from kid entrepreneurs selling their own creations.
URL:https://statelinekids.com/event/biz-kids-fair/
LOCATION:Kids Spot\, 9461 N 2nd St\, Roscoe\, IL\, United States
CATEGORIES:Roscoe
END:VEVENT
END:VCALENDAR