BEGIN:VCALENDAR
VERSION:2.0
PRODID:-//Stateline Kids - ECPv6.5.1.3//NONSGML v1.0//EN
CALSCALE:GREGORIAN
METHOD:PUBLISH
X-WR-CALNAME:Stateline Kids
X-ORIGINAL-URL:https://statelinekids.com
X-WR-CALDESC:Events for Stateline Kids
REFRESH-INTERVAL;VALUE=DURATION:PT1H
X-Robots-Tag:noindex
X-PUBLISHED-TTL:PT1H
BEGIN:VTIMEZONE
TZID:America/Chicago
BEGIN:DAYLIGHT
TZOFFSETFROM:-0600
TZOFFSETTO:-0500
TZNAME:CDT
DTSTART:20180311T080000
END:DAYLIGHT
BEGIN:STANDARD
TZOFFSETFROM:-0500
TZOFFSETTO:-0600
TZNAME:CST
DTSTART:20181104T070000
END:STANDARD
BEGIN:DAYLIGHT
TZOFFSETFROM:-0600
TZOFFSETTO:-0500
TZNAME:CDT
DTSTART:20190310T080000
END:DAYLIGHT
BEGIN:STANDARD
TZOFFSETFROM:-0500
TZOFFSETTO:-0600
TZNAME:CST
DTSTART:20191103T070000
END:STANDARD
END:VTIMEZONE
BEGIN:VEVENT
DTSTART;TZID=America/Chicago:20180709T101500
DTEND;TZID=America/Chicago:20180709T110000
DTSTAMP:20260421T083018
CREATED:20180702T180949Z
LAST-MODIFIED:20180709T123539Z
UID:450-1531131300-1531134000@statelinekids.com
SUMMARY:Babes and Books
DESCRIPTION:From RPL: Babes and Books Storytime focuses on your child’s early literacy skills through songs\, rhymes and stories during this interactive storytime.  Babies will also improve their social and motor skills during playtime each week.
URL:https://statelinekids.com/event/babes-and-books/
LOCATION:Rockford Public Library East\, 6685 East State Street\, Rockford\, IL\, United States
CATEGORIES:Library,Rockford
END:VEVENT
BEGIN:VEVENT
DTSTART;TZID=America/Chicago:20180715T080000
DTEND;TZID=America/Chicago:20180715T170000
DTSTAMP:20260421T083018
CREATED:20180715T212117Z
LAST-MODIFIED:20180715T212117Z
UID:1021-1531641600-1531674000@statelinekids.com
SUMMARY:If You Give a Mouse a Cookie Young Rembrandts
DESCRIPTION:Join us for a three day camp (Mon\, Wed\, Fri) as we explore the world of Laura Numeroff in this workshop full of art and reading. Each day we read a favorite\, like “If you give a Mouse a Cookie”\, “If you give a Moose a Muffin” and “If give a Cat a Cupcake”. Afterwards\, we learn to draw images relating to each book. Sign up your book loving artist today.
URL:https://statelinekids.com/event/if-you-give-a-mouse-a-cookie-young-rembrandts/
LOCATION:Hobby Lobby\, 6640 E. State St\, Rockford\, IL\, United States
CATEGORIES:Rockford
END:VEVENT
BEGIN:VEVENT
DTSTART;TZID=America/Chicago:20180721T110000
DTEND;TZID=America/Chicago:20180721T120000
DTSTAMP:20260421T083018
CREATED:20180717T041616Z
LAST-MODIFIED:20180717T041616Z
UID:1079-1532170800-1532174400@statelinekids.com
SUMMARY:Storytime and Activities Featuring Happy Dreamer at Barnes and Noble
DESCRIPTION:Author and illustrator Peter H. Reynolds is back with an inspirational new picture book about what it means to dream big and find happiness. Join us for Storytime and get a coupon from our Café for a grilled cheese sandwich with milk or juice for $4!
URL:https://statelinekids.com/event/storytime-and-activities-featuring-happy-dreamer-at-barnes-and-noble/
LOCATION:CherryVale Mall\, 7200 Harrison Ave\, Rockford\, IL\, United States
CATEGORIES:Rockford
END:VEVENT
BEGIN:VEVENT
DTSTART;TZID=America/Chicago:20180723T091500
DTEND;TZID=America/Chicago:20180723T100000
DTSTAMP:20260421T083018
CREATED:20180723T025815Z
LAST-MODIFIED:20180723T025815Z
UID:1213-1532337300-1532340000@statelinekids.com
SUMMARY:Tales for Twos and Threes
DESCRIPTION:Storytime especially for two and three-year-olds. We will read stories\, sing songs\, and make a simple craft.
URL:https://statelinekids.com/event/tales-for-twos-and-threes-2/
LOCATION:Rockford Public Library East\, 6685 East State Street\, Rockford\, IL\, United States
CATEGORIES:Rockford
END:VEVENT
BEGIN:VEVENT
DTSTART;TZID=America/Chicago:20180723T183000
DTEND;TZID=America/Chicago:20180723T193000
DTSTAMP:20260421T083018
CREATED:20180723T030126Z
LAST-MODIFIED:20180723T030126Z
UID:1219-1532370600-1532374200@statelinekids.com
SUMMARY:Preschool Story Hour
DESCRIPTION:Children ages 3-5 years old enjoy stories\, songs and a craft.
URL:https://statelinekids.com/event/preschool-story-hour-9/
LOCATION:North Suburban Library Roscoe\, 5562 Clayton Circle\, Roscoe\, IL\, United States
CATEGORIES:Roscoe
END:VEVENT
BEGIN:VEVENT
DTSTART;TZID=America/Chicago:20180723T183000
DTEND;TZID=America/Chicago:20180723T193000
DTSTAMP:20260421T083018
CREATED:20180723T030035Z
LAST-MODIFIED:20180723T030035Z
UID:1217-1532370600-1532374200@statelinekids.com
SUMMARY:Preschool Story Hour
DESCRIPTION:Children ages 3-5 years old enjoy stories\, songs and a craft.
URL:https://statelinekids.com/event/preschool-story-hour-8/
LOCATION:North Suburban Library Loves Park\, 6349 N 2nd Street\, Loves Park\, IL\, United States
CATEGORIES:Loves Park
END:VEVENT
BEGIN:VEVENT
DTSTART;TZID=America/Chicago:20180724T180000
DTEND;TZID=America/Chicago:20180724T190000
DTSTAMP:20260421T083018
CREATED:20180723T030227Z
LAST-MODIFIED:20180723T030227Z
UID:1221-1532455200-1532458800@statelinekids.com
SUMMARY:Family Storytime
DESCRIPTION:Come listen to a story and make a craft with your kids.
URL:https://statelinekids.com/event/family-storytime/
LOCATION:Rockford Public Library Rock River\, 3128 11th Street\, Rockford\, IL\, United States
CATEGORIES:Rockford
END:VEVENT
BEGIN:VEVENT
DTSTART;TZID=America/Chicago:20180726T113000
DTEND;TZID=America/Chicago:20180726T120000
DTSTAMP:20260421T083018
CREATED:20180724T193402Z
LAST-MODIFIED:20180724T193402Z
UID:1320-1532604600-1532606400@statelinekids.com
SUMMARY:Secret Garden Story Times - Awesome Animals
DESCRIPTION:Join us in the Secret Garden for a morning of stories\, songs and activities.  Take home a special craft each week based on the weekly theme.  This week’s theme is Awesome Animals.  Included with museum admission.
URL:https://statelinekids.com/event/secret-garden-story-times-awesome-animals/
LOCATION:Discovery Center\, 711 N Main St\, Rockford\, IL\, 61103\, United States
CATEGORIES:Rockford
END:VEVENT
BEGIN:VEVENT
DTSTART;TZID=America/Chicago:20180726T161500
DTEND;TZID=America/Chicago:20180726T171500
DTSTAMP:20260421T083018
CREATED:20180725T200442Z
LAST-MODIFIED:20180725T200442Z
UID:1349-1532621700-1532625300@statelinekids.com
SUMMARY:To Be Continued...
DESCRIPTION:Have fun discovering new worlds with this great after school program just for tweens! Listen to a librarian read a few chapters of a book each week\, focusing on a different book every 8-9 weeks. \n\n\n\n\n\n\nWe will also participate in activities related to the stories\, and enjoy tasty snacks!
URL:https://statelinekids.com/event/to-be-continued/
LOCATION:Rockford Public Library Hart Interim Library\, 214 N Church St\, Rockford\, IL\, United States
CATEGORIES:Rockford
END:VEVENT
BEGIN:VEVENT
DTSTART;TZID=America/Chicago:20180728T100000
DTEND;TZID=America/Chicago:20180728T120000
DTSTAMP:20260421T083018
CREATED:20180723T031947Z
LAST-MODIFIED:20180723T031947Z
UID:1250-1532772000-1532779200@statelinekids.com
SUMMARY:Harry Potter Birthday Celebration
DESCRIPTION:Come celebrate Harry Potter’s upcoming birthday with a magical day. Mix potions\, eat chocolate frogs\, play Quidditch\, and more. Get tickets here.
URL:https://statelinekids.com/event/harry-potter-birthday-celebration/
LOCATION:YMCA of the Rock River Valley\, 220 E State St\, Rockford\, IL\, United States
CATEGORIES:Rockford
END:VEVENT
BEGIN:VEVENT
DTSTART;TZID=America/Chicago:20180728T110000
DTEND;TZID=America/Chicago:20180728T120000
DTSTAMP:20260421T083018
CREATED:20180717T200125Z
LAST-MODIFIED:20180717T200125Z
UID:1091-1532775600-1532779200@statelinekids.com
SUMMARY:Storytime and Activities Featuring Doll-E 1.0 at Barnes and Noble
DESCRIPTION:Tech-savvy Charlotte is confused when she receives a new toy—a doll! Once she finds the hidden battery pack\, things get interesting. Join us for Storytime to celebrate the creative spirit of play and get a coupon from our Café for a grilled cheese sandwich with milk or juice for $4! \nReading of Doll-E1.0 by Shanda McCloskey
URL:https://statelinekids.com/event/storytime-and-activities-featuring-doll-e-1-0-at-barnes-and-noble/
LOCATION:CherryVale Mall\, 7200 Harrison Ave\, Rockford\, IL\, United States
CATEGORIES:Rockford
END:VEVENT
BEGIN:VEVENT
DTSTART;TZID=America/Chicago:20180728T110000
DTEND;TZID=America/Chicago:20180728T150000
DTSTAMP:20260421T083018
CREATED:20180723T034245Z
LAST-MODIFIED:20180723T034245Z
UID:1265-1532775600-1532790000@statelinekids.com
SUMMARY:Human Library
DESCRIPTION:Designed to challenge stereotypes and prejudices\, real people serve as the “Books on loan”. Have a 15-minute conversation with someone completely different from you. Difficult questions are welcome\, expected\, appreciated\, and answered! \nFor more information on the Human Library concept or movement\, click here: www.humanlibrary.org.
URL:https://statelinekids.com/event/human-library/
LOCATION:Rockford Public Library Hart Interim Library\, 214 N Church St\, Rockford\, IL\, United States
CATEGORIES:Rockford
END:VEVENT
BEGIN:VEVENT
DTSTART;TZID=America/Chicago:20180728T140000
DTEND;TZID=America/Chicago:20180728T150000
DTSTAMP:20260421T083018
CREATED:20180717T200304Z
LAST-MODIFIED:20180717T200304Z
UID:1093-1532786400-1532790000@statelinekids.com
SUMMARY:Barnes & Noble Kids' Book Hangout
DESCRIPTION:Join us for our first Kids’ Book Hangout! Discover your new favorite books\, meet other avid readers\, enjoy fun activities\, and everyone grabs FREE exclusive book swag. Featuring $1 off Frappuccinos or smoothies for event attendees.
URL:https://statelinekids.com/event/barnes-noble-kids-book-hangout/
LOCATION:CherryVale Mall\, 7200 Harrison Ave\, Rockford\, IL\, United States
CATEGORIES:Rockford
END:VEVENT
BEGIN:VEVENT
DTSTART;TZID=America/Chicago:20180805T120000
DTEND;TZID=America/Chicago:20180805T140000
DTSTAMP:20260421T083018
CREATED:20180729T184526Z
LAST-MODIFIED:20180729T184526Z
UID:1383-1533470400-1533477600@statelinekids.com
SUMMARY:Paws to Read
DESCRIPTION:Have a child that loves dogs? Bring them to Klehm and have them read to the therapy dogs of the Canine Caring Program of Swedish American Hospital. The Caring Canines Program has been formulated to bring specially trained therapy dogs and their handlers in direct contact with patients\, guests and staff. Bring a blanket and your favorite book to read to our patient canine listeners. \nMembers: Free\nNon-Members will pay daily admission. \n Daily admission ($6/adults\, $3/children\, children 2 and under are free)
URL:https://statelinekids.com/event/paws-to-read/
LOCATION:Klehm Arboretum and Botanic Garden\, 2715 S Main St\,\, Rockford\, IL\, United States
CATEGORIES:Rockford
END:VEVENT
BEGIN:VEVENT
DTSTART;TZID=America/Chicago:20180813T101500
DTEND;TZID=America/Chicago:20180813T110000
DTSTAMP:20260421T083018
CREATED:20180813T140855Z
LAST-MODIFIED:20180813T140855Z
UID:1750-1534155300-1534158000@statelinekids.com
SUMMARY:Babes and Books
DESCRIPTION:Storytime\, activities\, and songs for children ages birth-2.
URL:https://statelinekids.com/event/babes-and-books-2/
LOCATION:Rockford Public Library East\, 6685 East State Street\, Rockford\, IL\, United States
CATEGORIES:Rockford
END:VEVENT
BEGIN:VEVENT
DTSTART;TZID=America/Chicago:20181110T100000
DTEND;TZID=America/Chicago:20181110T113000
DTSTAMP:20260421T083018
CREATED:20181104T193714Z
LAST-MODIFIED:20181104T193714Z
UID:3708-1541844000-1541849400@statelinekids.com
SUMMARY:Storytime with Rockford Public Library
DESCRIPTION:Join the Rockford Public Library at the Rockford Art Museum for a storytime event. Parents and kids will enjoy the book “The Legend of Rock\, Paper\, Scissors” with an art activity to follow.
URL:https://statelinekids.com/event/storytime-with-rockford-public-library/
LOCATION:Rockford Art Museum\, 711 N Main St\, Rockford\, IL\, United States
CATEGORIES:Rockford
END:VEVENT
BEGIN:VEVENT
DTSTART;TZID=America/Chicago:20190119T130000
DTEND;TZID=America/Chicago:20190119T150000
DTSTAMP:20260421T083018
CREATED:20190113T213654Z
LAST-MODIFIED:20190113T213654Z
UID:4551-1547902800-1547910000@statelinekids.com
SUMMARY:Picture This: Mock Caldecott Event
DESCRIPTION:Kids ages 12 and younger can learn about the Caldecott illustration award\, vote for their favorite book design\, enjoy a snack\, participate in a hands-on activity\, and enter for a chance to win one of the nominated books.
URL:https://statelinekids.com/event/picture-this-mock-caldecott-event/
LOCATION:Beloit Public Library\, 605 Eclipse Blvd\, Beloit\, WI\, United States
CATEGORIES:Beloit
END:VEVENT
BEGIN:VEVENT
DTSTART;TZID=America/Chicago:20190301T183000
DTEND;TZID=America/Chicago:20190301T193000
DTSTAMP:20260421T083018
CREATED:20190225T043941Z
LAST-MODIFIED:20190225T043941Z
UID:4984-1551465000-1551468600@statelinekids.com
SUMMARY:One Fish\, Two Fish\, Red Fish\, Library Fish
DESCRIPTION:Listen to Dr. Seuss stories and get silly.
URL:https://statelinekids.com/event/one-fish-two-fish-red-fish-library-fish/
LOCATION:Ida Public Library\, 320 N State Street\, Belvidere\, IL\, United States
CATEGORIES:Belvidere
END:VEVENT
BEGIN:VEVENT
DTSTART;TZID=America/Chicago:20190302T110000
DTEND;TZID=America/Chicago:20190302T120000
DTSTAMP:20260421T083018
CREATED:20190225T044320Z
LAST-MODIFIED:20190225T044320Z
UID:4990-1551524400-1551528000@statelinekids.com
SUMMARY:Dr. Seuss Party
DESCRIPTION:Listen to stories\, make crafts\, and create a Cat in the Hat hat. Registration is required\, call 815-332-5161.
URL:https://statelinekids.com/event/dr-seuss-party/
LOCATION:Cherry Valley Public Library\, 755 E. State St\, Cherry Valley\, IL\, United States
CATEGORIES:Cherry Valley
END:VEVENT
BEGIN:VEVENT
DTSTART;TZID=America/Chicago:20190318T101500
DTEND;TZID=America/Chicago:20190318T110000
DTSTAMP:20260421T083018
CREATED:20190317T193856Z
LAST-MODIFIED:20190317T193856Z
UID:5130-1552904100-1552906800@statelinekids.com
SUMMARY:Babes and Books
DESCRIPTION:Babies and toddlers can listen to stories\, sing songs and learn rhymes. For infants to two year olds.
URL:https://statelinekids.com/event/babes-and-books-3/
LOCATION:Rockford Public Library Hart Interim Library\, 214 N Church St\, Rockford\, IL\, United States
CATEGORIES:Rockford
END:VEVENT
BEGIN:VEVENT
DTSTART;TZID=America/Chicago:20190501T101500
DTEND;TZID=America/Chicago:20190501T110000
DTSTAMP:20260421T083018
CREATED:20190430T034113Z
LAST-MODIFIED:20190430T034113Z
UID:5528-1556705700-1556708400@statelinekids.com
SUMMARY:Babes and Books
DESCRIPTION:Kids ages birth to 24 months can listen to stories\, sing\, and play with friends.
URL:https://statelinekids.com/event/babes-and-books-4/
LOCATION:Rockford Public Library Hart Interim Library\, 214 N Church St\, Rockford\, IL\, United States
CATEGORIES:Rockford
END:VEVENT
BEGIN:VEVENT
DTSTART;TZID=America/Chicago:20190531T093000
DTEND;TZID=America/Chicago:20190531T110000
DTSTAMP:20260421T083018
CREATED:20190525T203046Z
LAST-MODIFIED:20190525T203046Z
UID:5787-1559295000-1559300400@statelinekids.com
SUMMARY:Readings from the Rookery
DESCRIPTION:This program introduces children and parents to great nature books and outdoor activities. This program is for kids 5-9 years old. Register here.
URL:https://statelinekids.com/event/readings-from-the-rookery-2/
LOCATION:Severson Dells Nature Center\, 8786 Montague Rd\, Rockford\, IL\, United States
CATEGORIES:Rockford
END:VEVENT
BEGIN:VEVENT
DTSTART;TZID=America/Chicago:20190614T093000
DTEND;TZID=America/Chicago:20190614T110000
DTSTAMP:20260421T083018
CREATED:20190611T210144Z
LAST-MODIFIED:20190611T210144Z
UID:6003-1560504600-1560510000@statelinekids.com
SUMMARY:Readings from the Rookery
DESCRIPTION:Kids ages 5-9 can get outside and read. This program introduces great nature books and outside activities that go with the week’s theme. Register here.
URL:https://statelinekids.com/event/readings-from-the-rookery-3/
LOCATION:Severson Dells Nature Center\, 8786 Montague Rd\, Rockford\, IL\, United States
CATEGORIES:Rockford
END:VEVENT
BEGIN:VEVENT
DTSTART;TZID=America/Chicago:20190725T180000
DTEND;TZID=America/Chicago:20190725T190000
DTSTAMP:20260421T083018
CREATED:20190720T185825Z
LAST-MODIFIED:20190720T185825Z
UID:6625-1564077600-1564081200@statelinekids.com
SUMMARY:Fries with Firefighters
DESCRIPTION:Come to Culver’s for fries with firefighters and storytime.
URL:https://statelinekids.com/event/fries-with-firefighters-3/
LOCATION:Culvers in Beloit\, 2676 Cranston Rd.\, Beloit\, WI\, United States
CATEGORIES:Beloit
END:VEVENT
BEGIN:VEVENT
DTSTART;TZID=America/Chicago:20190726T093000
DTEND;TZID=America/Chicago:20190726T110000
DTSTAMP:20260421T083018
CREATED:20190720T185601Z
LAST-MODIFIED:20190720T185601Z
UID:6623-1564133400-1564138800@statelinekids.com
SUMMARY:Reading from the Rookery Storytime
DESCRIPTION:Kids will listen to a story and participate in outdoor activities related to the theme of the week. For kids ages 5-9.
URL:https://statelinekids.com/event/reading-from-the-rookery-storytime/
LOCATION:Severson Dells Nature Center\, 8786 Montague Rd\, Rockford\, IL\, United States
CATEGORIES:Rockford
END:VEVENT
BEGIN:VEVENT
DTSTART;TZID=America/Chicago:20190921T100000
DTEND;TZID=America/Chicago:20190921T110000
DTSTAMP:20260421T083018
CREATED:20190914T194721Z
LAST-MODIFIED:20190914T194721Z
UID:7476-1569060000-1569063600@statelinekids.com
SUMMARY:Storytime with Rockford Public Library
DESCRIPTION:Listen to the story Goodbye Summer\, Hello Autumn and make tinfoil leaves.
URL:https://statelinekids.com/event/storytime-with-rockford-public-library-9/
LOCATION:Rockford Art Museum\, 711 N Main St\, Rockford\, IL\, United States
CATEGORIES:Rockford
END:VEVENT
BEGIN:VEVENT
DTSTART;TZID=America/Chicago:20190928T100000
DTEND;TZID=America/Chicago:20190928T130000
DTSTAMP:20260421T083018
CREATED:20190921T204649Z
LAST-MODIFIED:20190921T204649Z
UID:7589-1569664800-1569675600@statelinekids.com
SUMMARY:Back to School Meet and Greet with Belle
DESCRIPTION:Meet Belle\, listen to a story\, take a photo\, sing and dance. This is an open house style event. Get tickets here. \nCost: $7 per kid presale\, $10 at the door\, kids 1 and under and adults are free
URL:https://statelinekids.com/event/back-to-school-meet-and-greet-with-belle/
LOCATION:Once Upon a Dream Royal Tea Room\, 415 N. Church St.\, Rockford\, IL\, United States
CATEGORIES:Rockford
END:VEVENT
BEGIN:VEVENT
DTSTART;TZID=America/Chicago:20190930T160000
DTEND;TZID=America/Chicago:20190930T170000
DTSTAMP:20260421T083018
CREATED:20190929T152921Z
LAST-MODIFIED:20190929T152921Z
UID:7690-1569859200-1569862800@statelinekids.com
SUMMARY:My First Book Club
DESCRIPTION:Kids ages 5-7 read together\, discuss the book and explore other picture books. September’s book is The Cookie Fiasco by Dan Santat.
URL:https://statelinekids.com/event/my-first-book-club/
LOCATION:Ida Public Library\, 320 N State Street\, Belvidere\, IL\, United States
CATEGORIES:Belvidere
END:VEVENT
BEGIN:VEVENT
DTSTART;TZID=America/Chicago:20191015T090000
DTEND;TZID=America/Chicago:20191015T203000
DTSTAMP:20260421T083018
CREATED:20191013T004326Z
LAST-MODIFIED:20191013T004326Z
UID:8016-1571130000-1571171400@statelinekids.com
SUMMARY:Be a Crafty Reader
DESCRIPTION:Stop by the library\, listen to an audio story and do a Halloween themed craft.
URL:https://statelinekids.com/event/be-a-crafty-reader-5/
LOCATION:North Suburban Library Loves Park\, 6349 N 2nd Street\, Loves Park\, IL\, United States
CATEGORIES:Loves Park
END:VEVENT
BEGIN:VEVENT
DTSTART;TZID=America/Chicago:20191113T160000
DTEND;TZID=America/Chicago:20191113T170000
DTSTAMP:20260421T083018
CREATED:20191110T162351Z
LAST-MODIFIED:20191110T162351Z
UID:8493-1573660800-1573664400@statelinekids.com
SUMMARY:Doreen Cronin Book Club
DESCRIPTION:Kids ages 3-6 can listen to the stories by Doreen Cronin\, talk about the author\, and do fun activities related to her books. Register here.
URL:https://statelinekids.com/event/doreen-cronin-book-club/
LOCATION:Cherry Valley Public Library\, 755 E. State St\, Cherry Valley\, IL\, United States
CATEGORIES:Cherry Valley
END:VEVENT
END:VCALENDAR