BEGIN:VCALENDAR
VERSION:2.0
PRODID:-//Stateline Kids - ECPv6.5.1.3//NONSGML v1.0//EN
CALSCALE:GREGORIAN
METHOD:PUBLISH
X-ORIGINAL-URL:https://statelinekids.com
X-WR-CALDESC:Events for Stateline Kids
REFRESH-INTERVAL;VALUE=DURATION:PT1H
X-Robots-Tag:noindex
X-PUBLISHED-TTL:PT1H
BEGIN:VTIMEZONE
TZID:America/Chicago
BEGIN:DAYLIGHT
TZOFFSETFROM:-0600
TZOFFSETTO:-0500
TZNAME:CDT
DTSTART:20190310T080000
END:DAYLIGHT
BEGIN:STANDARD
TZOFFSETFROM:-0500
TZOFFSETTO:-0600
TZNAME:CST
DTSTART:20191103T070000
END:STANDARD
BEGIN:DAYLIGHT
TZOFFSETFROM:-0600
TZOFFSETTO:-0500
TZNAME:CDT
DTSTART:20200308T080000
END:DAYLIGHT
BEGIN:STANDARD
TZOFFSETFROM:-0500
TZOFFSETTO:-0600
TZNAME:CST
DTSTART:20201101T070000
END:STANDARD
BEGIN:DAYLIGHT
TZOFFSETFROM:-0600
TZOFFSETTO:-0500
TZNAME:CDT
DTSTART:20210314T080000
END:DAYLIGHT
BEGIN:STANDARD
TZOFFSETFROM:-0500
TZOFFSETTO:-0600
TZNAME:CST
DTSTART:20211107T070000
END:STANDARD
BEGIN:DAYLIGHT
TZOFFSETFROM:-0600
TZOFFSETTO:-0500
TZNAME:CDT
DTSTART:20220313T080000
END:DAYLIGHT
BEGIN:STANDARD
TZOFFSETFROM:-0500
TZOFFSETTO:-0600
TZNAME:CST
DTSTART:20221106T070000
END:STANDARD
BEGIN:DAYLIGHT
TZOFFSETFROM:-0600
TZOFFSETTO:-0500
TZNAME:CDT
DTSTART:20230312T080000
END:DAYLIGHT
BEGIN:STANDARD
TZOFFSETFROM:-0500
TZOFFSETTO:-0600
TZNAME:CST
DTSTART:20231105T070000
END:STANDARD
END:VTIMEZONE
BEGIN:VEVENT
DTSTART;TZID=America/Chicago:20191007T150000
DTEND;TZID=America/Chicago:20191007T154500
DTSTAMP:20260422T115705
CREATED:20191005T202353Z
LAST-MODIFIED:20191005T202353Z
UID:7861-1570460400-1570463100@statelinekids.com
SUMMARY:Once Upon a Cuento Bilingual Storytime
DESCRIPTION:Join us for a storytime in English and Spanish designed for children of all ages.
URL:https://statelinekids.com/event/once-upon-a-cuento-bilingual-storytime/
LOCATION:Rockford Public Library Hart Interim Library\, 214 N Church St\, Rockford\, IL\, United States
CATEGORIES:Rockford
END:VEVENT
BEGIN:VEVENT
DTSTART;TZID=America/Chicago:20191014T150000
DTEND;TZID=America/Chicago:20191014T154500
DTSTAMP:20260422T115705
CREATED:20191012T160812Z
LAST-MODIFIED:20191012T160812Z
UID:7932-1571065200-1571067900@statelinekids.com
SUMMARY:Once Upon a Cuento
DESCRIPTION:Listen to a story in English and Spanish for kids of all ages.
URL:https://statelinekids.com/event/once-upon-a-cuento-2/
LOCATION:Rockford Public Library Hart Interim Library\, 214 N Church St\, Rockford\, IL\, United States
CATEGORIES:Rockford
END:VEVENT
BEGIN:VEVENT
DTSTART;TZID=America/Chicago:20230429T100000
DTEND;TZID=America/Chicago:20230429T120000
DTSTAMP:20260422T115705
CREATED:20230422T165418Z
LAST-MODIFIED:20230422T165418Z
UID:27596-1682762400-1682769600@statelinekids.com
SUMMARY:Dia de los Ninos (Children’s Day)
DESCRIPTION:Celebrate Children’s Day with bilingual storytime\, crafts\, other activities\, and more. Kids 12 and under will get a free book. No registration is required.
URL:https://statelinekids.com/event/dia-de-los-ninos-childrens-day/
LOCATION:Hedberg Library\, 316 S. Main St.\, Janesville\, WI\, United States
CATEGORIES:Janesville
END:VEVENT
END:VCALENDAR