BEGIN:VCALENDAR
VERSION:2.0
PRODID:-//Stateline Kids - ECPv6.5.1.3//NONSGML v1.0//EN
CALSCALE:GREGORIAN
METHOD:PUBLISH
X-ORIGINAL-URL:https://statelinekids.com
X-WR-CALDESC:Events for Stateline Kids
REFRESH-INTERVAL;VALUE=DURATION:PT1H
X-Robots-Tag:noindex
X-PUBLISHED-TTL:PT1H
BEGIN:VTIMEZONE
TZID:America/Chicago
BEGIN:DAYLIGHT
TZOFFSETFROM:-0600
TZOFFSETTO:-0500
TZNAME:CDT
DTSTART:20180311T080000
END:DAYLIGHT
BEGIN:STANDARD
TZOFFSETFROM:-0500
TZOFFSETTO:-0600
TZNAME:CST
DTSTART:20181104T070000
END:STANDARD
BEGIN:DAYLIGHT
TZOFFSETFROM:-0600
TZOFFSETTO:-0500
TZNAME:CDT
DTSTART:20190310T080000
END:DAYLIGHT
BEGIN:STANDARD
TZOFFSETFROM:-0500
TZOFFSETTO:-0600
TZNAME:CST
DTSTART:20191103T070000
END:STANDARD
BEGIN:DAYLIGHT
TZOFFSETFROM:-0600
TZOFFSETTO:-0500
TZNAME:CDT
DTSTART:20200308T080000
END:DAYLIGHT
BEGIN:STANDARD
TZOFFSETFROM:-0500
TZOFFSETTO:-0600
TZNAME:CST
DTSTART:20201101T070000
END:STANDARD
BEGIN:DAYLIGHT
TZOFFSETFROM:-0600
TZOFFSETTO:-0500
TZNAME:CDT
DTSTART:20210314T080000
END:DAYLIGHT
BEGIN:STANDARD
TZOFFSETFROM:-0500
TZOFFSETTO:-0600
TZNAME:CST
DTSTART:20211107T070000
END:STANDARD
BEGIN:DAYLIGHT
TZOFFSETFROM:-0600
TZOFFSETTO:-0500
TZNAME:CDT
DTSTART:20220313T080000
END:DAYLIGHT
BEGIN:STANDARD
TZOFFSETFROM:-0500
TZOFFSETTO:-0600
TZNAME:CST
DTSTART:20221106T070000
END:STANDARD
BEGIN:DAYLIGHT
TZOFFSETFROM:-0600
TZOFFSETTO:-0500
TZNAME:CDT
DTSTART:20230312T080000
END:DAYLIGHT
BEGIN:STANDARD
TZOFFSETFROM:-0500
TZOFFSETTO:-0600
TZNAME:CST
DTSTART:20231105T070000
END:STANDARD
END:VTIMEZONE
BEGIN:VEVENT
DTSTART;TZID=America/Chicago:20180805T120000
DTEND;TZID=America/Chicago:20180805T150000
DTSTAMP:20260424T105400
CREATED:20180729T233034Z
LAST-MODIFIED:20180729T233034Z
UID:1406-1533470400-1533481200@statelinekids.com
SUMMARY:Back to School Picnic and Backpack Giveaway
DESCRIPTION:This community event is part outdoor fair and part giveaway. Backpacks are given to students for the new school year\, while lunch\, drinks\, bounce house\, obstacle course and games with prizes are also provided for free. \nStudents may sign up for the backpack giveaway from 12:00-12:30 p.m. Must be present to win.
URL:https://statelinekids.com/event/back-to-school-picnic-and-backpack-giveaway/
LOCATION:Journey Church Ministries\, 7825 Forest Hills Road\, Loves Park\, IL\, United States
CATEGORIES:Loves Park
END:VEVENT
BEGIN:VEVENT
DTSTART;TZID=America/Chicago:20210828T130000
DTEND;TZID=America/Chicago:20210828T170000
DTSTAMP:20260424T105400
CREATED:20210822T200006Z
LAST-MODIFIED:20210822T200006Z
UID:17129-1630155600-1630170000@statelinekids.com
SUMMARY:FVV Annual Backpack Supplies Giveaway
DESCRIPTION:Pick up a free backpack and supplies. Students must be present.
URL:https://statelinekids.com/event/fvv-annual-backpack-supplies-giveaway/
LOCATION:Auburn High School\, 5110 Auburn St.\, Rockford\, IL\, United States
CATEGORIES:Rockford
END:VEVENT
BEGIN:VEVENT
DTSTART;TZID=America/Chicago:20220822T180000
DTEND;TZID=America/Chicago:20220822T190000
DTSTAMP:20260424T105400
CREATED:20220820T203200Z
LAST-MODIFIED:20220820T203200Z
UID:23040-1661191200-1661194800@statelinekids.com
SUMMARY:Backpack Giveaway
DESCRIPTION:Each child can get a backpack\, school supplies kit\, and free Happy Meal coupon while supplies last.
URL:https://statelinekids.com/event/backpack-giveaway/
LOCATION:McDonald’s W.Riverside\, 930 W. Riverside Blvd.\, Rockford\, IL\, United States
CATEGORIES:Rockford
END:VEVENT
BEGIN:VEVENT
DTSTART;TZID=America/Chicago:20230729T100000
DTEND;TZID=America/Chicago:20230729T120000
DTSTAMP:20260424T105400
CREATED:20230722T201105Z
LAST-MODIFIED:20230722T201105Z
UID:29509-1690624800-1690632000@statelinekids.com
SUMMARY:Backpack Giveaway
DESCRIPTION:School-age kids can get a free backpack and school supplies. They will be handed out on a first-come\, first-serve basis.
URL:https://statelinekids.com/event/backpack-giveaway-3/
LOCATION:General Mills Park\, 2106 Christi Ln.\, Belvidere\, IL\, United States
CATEGORIES:Belvidere
END:VEVENT
END:VCALENDAR