BEGIN:VCALENDAR
VERSION:2.0
PRODID:-//Stateline Kids - ECPv6.5.1.3//NONSGML v1.0//EN
CALSCALE:GREGORIAN
METHOD:PUBLISH
X-WR-CALNAME:Stateline Kids
X-ORIGINAL-URL:https://statelinekids.com
X-WR-CALDESC:Events for Stateline Kids
REFRESH-INTERVAL;VALUE=DURATION:PT1H
X-Robots-Tag:noindex
X-PUBLISHED-TTL:PT1H
BEGIN:VTIMEZONE
TZID:America/Chicago
BEGIN:DAYLIGHT
TZOFFSETFROM:-0600
TZOFFSETTO:-0500
TZNAME:CDT
DTSTART:20220313T080000
END:DAYLIGHT
BEGIN:STANDARD
TZOFFSETFROM:-0500
TZOFFSETTO:-0600
TZNAME:CST
DTSTART:20221106T070000
END:STANDARD
END:VTIMEZONE
BEGIN:VEVENT
DTSTART;TZID=America/Chicago:20220910T173000
DTEND;TZID=America/Chicago:20220910T213000
DTSTAMP:20260420T050408
CREATED:20220904T193842Z
LAST-MODIFIED:20220904T193842Z
UID:23238-1662831000-1662845400@statelinekids.com
SUMMARY:Parent’s Night Out- Animal Safari
DESCRIPTION:Kids ages 3-12 can enjoy a night of fun activities including swimming\, snacks\, and a movie. Register here.
URL:https://statelinekids.com/event/parents-night-out-animal-safari/
LOCATION:Stateline YMCA\, 1239 Huebbe Pkwy\, Beloit\, WI\, United States
CATEGORIES:Beloit
END:VEVENT
END:VCALENDAR