BEGIN:VCALENDAR
VERSION:2.0
PRODID:-//Stateline Kids - ECPv6.5.1.3//NONSGML v1.0//EN
CALSCALE:GREGORIAN
METHOD:PUBLISH
X-ORIGINAL-URL:https://statelinekids.com
X-WR-CALDESC:Events for Stateline Kids
REFRESH-INTERVAL;VALUE=DURATION:PT1H
X-Robots-Tag:noindex
X-PUBLISHED-TTL:PT1H
BEGIN:VTIMEZONE
TZID:America/Chicago
BEGIN:DAYLIGHT
TZOFFSETFROM:-0600
TZOFFSETTO:-0500
TZNAME:CDT
DTSTART:20210314T080000
END:DAYLIGHT
BEGIN:STANDARD
TZOFFSETFROM:-0500
TZOFFSETTO:-0600
TZNAME:CST
DTSTART:20211107T070000
END:STANDARD
BEGIN:DAYLIGHT
TZOFFSETFROM:-0600
TZOFFSETTO:-0500
TZNAME:CDT
DTSTART:20220313T080000
END:DAYLIGHT
BEGIN:STANDARD
TZOFFSETFROM:-0500
TZOFFSETTO:-0600
TZNAME:CST
DTSTART:20221106T070000
END:STANDARD
BEGIN:DAYLIGHT
TZOFFSETFROM:-0600
TZOFFSETTO:-0500
TZNAME:CDT
DTSTART:20230312T080000
END:DAYLIGHT
BEGIN:STANDARD
TZOFFSETFROM:-0500
TZOFFSETTO:-0600
TZNAME:CST
DTSTART:20231105T070000
END:STANDARD
BEGIN:DAYLIGHT
TZOFFSETFROM:-0600
TZOFFSETTO:-0500
TZNAME:CDT
DTSTART:20240310T080000
END:DAYLIGHT
BEGIN:STANDARD
TZOFFSETFROM:-0500
TZOFFSETTO:-0600
TZNAME:CST
DTSTART:20241103T070000
END:STANDARD
BEGIN:DAYLIGHT
TZOFFSETFROM:-0600
TZOFFSETTO:-0500
TZNAME:CDT
DTSTART:20250309T080000
END:DAYLIGHT
BEGIN:STANDARD
TZOFFSETFROM:-0500
TZOFFSETTO:-0600
TZNAME:CST
DTSTART:20251102T070000
END:STANDARD
END:VTIMEZONE
BEGIN:VEVENT
DTSTART;TZID=America/Chicago:20210822T100000
DTEND;TZID=America/Chicago:20210822T140000
DTSTAMP:20260422T182213
CREATED:20210815T170338Z
LAST-MODIFIED:20210815T170338Z
UID:17094-1629626400-1629640800@statelinekids.com
SUMMARY:Poplar Grove Airport Fly In
DESCRIPTION:Visit the Vintage Wings and Wheels museum for free\, see the Jenny project\, enjoy food trucks\, and take an airplane flight. \nCost: Free admission / $30 airplane flights per person
URL:https://statelinekids.com/event/poplar-grove-airport-fly-in/
LOCATION:Poplar Grove Airport\, 11619 IL Route 76\, Poplar Grove\, IL\, United States
CATEGORIES:Poplar Grove
END:VEVENT
BEGIN:VEVENT
DTSTART;TZID=America/Chicago:20220219T100000
DTEND;TZID=America/Chicago:20220219T140000
DTSTAMP:20260422T182213
CREATED:20220213T171125Z
LAST-MODIFIED:20220213T171125Z
UID:19194-1645264800-1645279200@statelinekids.com
SUMMARY:Cottonwood EAA Chapter 22 Winter Fly-In
DESCRIPTION: Watch skiplanes fly in.
URL:https://statelinekids.com/event/cottonwood-eaa-chapter-22-winter-fly-in/
LOCATION:Cottonwood Airport\, 5105 Auburn St.\, Rockford\, IL\, United States
CATEGORIES:Rockford
END:VEVENT
BEGIN:VEVENT
DTSTART;TZID=America/Chicago:20230812T110000
DTEND;TZID=America/Chicago:20230812T140000
DTSTAMP:20260422T182213
CREATED:20230805T190243Z
LAST-MODIFIED:20230805T190243Z
UID:29853-1691838000-1691848800@statelinekids.com
SUMMARY:Chapter 22 Corn Boil\, Brats\, and Young Eagle Day
DESCRIPTION: Kids ages 8-17 can take a free flight. Register here.
URL:https://statelinekids.com/event/chapter-22-corn-boil-brats-and-young-eagle-day/
LOCATION:Cottonwood Airport\, 5105 Auburn St.\, Rockford\, IL\, United States
CATEGORIES:Rockford
END:VEVENT
BEGIN:VEVENT
DTSTART;TZID=America/Chicago:20230916T133000
DTEND;TZID=America/Chicago:20230916T170000
DTSTAMP:20260422T182213
CREATED:20230703T232101Z
LAST-MODIFIED:20230703T232101Z
UID:29258-1694871000-1694883600@statelinekids.com
SUMMARY:Northwest Illinois Airshow
DESCRIPTION:Watch an airshow with multiple performers including biplanes\, a hot air balloon\, and more. \nThere will be a kids area with bounce houses\, several food trucks from the Stateline area\, Mobile Axe Throwing\, and so much more! \nTickets are $15 per adult in advance or $20 at the gate. Kids 10 and under get in free. \nParking will be at Stephenson County Fairgrounds with a shuttle to the Albertus Aiport. Gates open at 10:30 am and the show starts at 1:30 pm. Bring a lawn chair and binoculars. \nPurchase tickets here.
URL:https://statelinekids.com/event/northwest-illinois-airshow/
LOCATION:Albertus Aiport\, 1255 Airport Rd.\, Freeport\, IL\, United States
CATEGORIES:Freeport
END:VEVENT
BEGIN:VEVENT
DTSTART;TZID=America/Chicago:20250412T090000
DTEND;TZID=America/Chicago:20250412T140000
DTSTAMP:20260422T182213
CREATED:20250405T220514Z
LAST-MODIFIED:20250405T220514Z
UID:40121-1744448400-1744466400@statelinekids.com
SUMMARY:Free Workshop and Airplane Rides
DESCRIPTION:Kids ages 8-17 can take a free introductory flight and see planes up close. Must register in advance here.
URL:https://statelinekids.com/event/free-workshop-and-airplane-rides/
LOCATION:Cottonwood Airport\, 5105 Auburn St.\, Rockford\, IL\, United States
CATEGORIES:Rockford
END:VEVENT
BEGIN:VEVENT
DTSTART;TZID=America/Chicago:20250412T100000
DTEND;TZID=America/Chicago:20250412T130000
DTSTAMP:20260422T182213
CREATED:20250405T222613Z
LAST-MODIFIED:20250405T222613Z
UID:40138-1744452000-1744462800@statelinekids.com
SUMMARY:Easter at Vintage Wings and Wheels Museum
DESCRIPTION:Enjoy a day with baby animals\, airplanes\, kid’s activities\, and food. $5 per photo with Easter Bunny (cash)
URL:https://statelinekids.com/event/easter-at-vintage-wings-and-wheels-museum/
LOCATION:Vintage Wings and Wheels Museum\, 5151 Orth Rd #A1\, Poplar Grove\, IL\, United States
CATEGORIES:Poplar Grove
END:VEVENT
BEGIN:VEVENT
DTSTART;TZID=America/Chicago:20250615T070000
DTEND;TZID=America/Chicago:20250615T140000
DTSTAMP:20260422T182213
CREATED:20250607T224123Z
LAST-MODIFIED:20250607T224123Z
UID:40941-1749970800-1749996000@statelinekids.com
SUMMARY:Fly In or Drive In Pancake Breakfast
DESCRIPTION:Enjoy a pancake breakfast and see airplanes landing and taking off. Get tickets here. \nCost: $15 per kid ages 4-11 \n$20 per ages 12 and up \nFree for infants 3 and under
URL:https://statelinekids.com/event/fly-in-or-drive-in-pancake-breakfast-3/2025-06-15/
LOCATION:Bessie’s Diner\, 1716 W. Airport Rd.\, Janesville\, WI\, United States
CATEGORIES:Janesville
END:VEVENT
END:VCALENDAR