BEGIN:VCALENDAR
VERSION:2.0
PRODID:-//Stateline Kids - ECPv6.5.1.3//NONSGML v1.0//EN
CALSCALE:GREGORIAN
METHOD:PUBLISH
X-ORIGINAL-URL:https://statelinekids.com
X-WR-CALDESC:Events for Stateline Kids
REFRESH-INTERVAL;VALUE=DURATION:PT1H
X-Robots-Tag:noindex
X-PUBLISHED-TTL:PT1H
BEGIN:VTIMEZONE
TZID:America/Chicago
BEGIN:DAYLIGHT
TZOFFSETFROM:-0600
TZOFFSETTO:-0500
TZNAME:CDT
DTSTART:20190310T080000
END:DAYLIGHT
BEGIN:STANDARD
TZOFFSETFROM:-0500
TZOFFSETTO:-0600
TZNAME:CST
DTSTART:20191103T070000
END:STANDARD
BEGIN:DAYLIGHT
TZOFFSETFROM:-0600
TZOFFSETTO:-0500
TZNAME:CDT
DTSTART:20200308T080000
END:DAYLIGHT
BEGIN:STANDARD
TZOFFSETFROM:-0500
TZOFFSETTO:-0600
TZNAME:CST
DTSTART:20201101T070000
END:STANDARD
BEGIN:DAYLIGHT
TZOFFSETFROM:-0600
TZOFFSETTO:-0500
TZNAME:CDT
DTSTART:20210314T080000
END:DAYLIGHT
BEGIN:STANDARD
TZOFFSETFROM:-0500
TZOFFSETTO:-0600
TZNAME:CST
DTSTART:20211107T070000
END:STANDARD
BEGIN:DAYLIGHT
TZOFFSETFROM:-0600
TZOFFSETTO:-0500
TZNAME:CDT
DTSTART:20220313T080000
END:DAYLIGHT
BEGIN:STANDARD
TZOFFSETFROM:-0500
TZOFFSETTO:-0600
TZNAME:CST
DTSTART:20221106T070000
END:STANDARD
BEGIN:DAYLIGHT
TZOFFSETFROM:-0600
TZOFFSETTO:-0500
TZNAME:CDT
DTSTART:20230312T080000
END:DAYLIGHT
BEGIN:STANDARD
TZOFFSETFROM:-0500
TZOFFSETTO:-0600
TZNAME:CST
DTSTART:20231105T070000
END:STANDARD
BEGIN:DAYLIGHT
TZOFFSETFROM:-0600
TZOFFSETTO:-0500
TZNAME:CDT
DTSTART:20240310T080000
END:DAYLIGHT
BEGIN:STANDARD
TZOFFSETFROM:-0500
TZOFFSETTO:-0600
TZNAME:CST
DTSTART:20241103T070000
END:STANDARD
END:VTIMEZONE
BEGIN:VEVENT
DTSTART;TZID=America/Chicago:20191011T163000
DTEND;TZID=America/Chicago:20191011T173000
DTSTAMP:20260424T040600
CREATED:20191005T201920Z
LAST-MODIFIED:20191005T201920Z
UID:7859-1570811400-1570815000@statelinekids.com
SUMMARY:Unsolved Crimes of Winnebago County
DESCRIPTION:Local historian and author\, Kathi Kresol\, returns to host an hour of true crime mystery. All new stories! Not all material suited for young children. \nThis event is free and registration is not required.
URL:https://statelinekids.com/event/unsolved-crimes-of-winnebago-county/
LOCATION:Rockford Public Library Rock River\, 3128 11th Street\, Rockford\, IL\, United States
CATEGORIES:Rockford
END:VEVENT
BEGIN:VEVENT
DTSTART;TZID=America/Chicago:20211126T130000
DTEND;TZID=America/Chicago:20211126T160000
DTSTAMP:20260424T040600
CREATED:20211121T165910Z
LAST-MODIFIED:20211121T165910Z
UID:18273-1637931600-1637942400@statelinekids.com
SUMMARY:DIY Holiday Gifts
DESCRIPTION:Teens ages 13 and up and adults can learn how to make homemade holiday gifts with natural ingredients. Each participant will take home 6 lip balms\, 6 calendula salves\, 6 bars of goat milk soap and bath salts. Get tickets here. \nCost: $85 per person
URL:https://statelinekids.com/event/diy-holiday-gifts/
LOCATION:Angelic Organics Learning Center\, 1545 Rockton Rd.\, Rockton\, IL\, United States
CATEGORIES:Caledonia
END:VEVENT
BEGIN:VEVENT
DTSTART;TZID=America/Chicago:20220706T100000
DTEND;TZID=America/Chicago:20220706T110000
DTSTAMP:20260424T040600
CREATED:20220707T173826Z
LAST-MODIFIED:20220707T174015Z
UID:22458-1657101600-1657105200@statelinekids.com
SUMMARY:Severson Dells Nature Walk for Adults
DESCRIPTION:Join North Suburban Library District for a walk at Severson Dells Nature Center.  Located at 8786 Montague Road\, Rockford\, IL.  Free event for ages 18 and up.  \nPre-register for your time by July 4: \n10 am-11 am: https://northsuburban.librarycalendar.com/event/severson-dells-nature-walk \n6 pm-7 pm: https://northsuburban.librarycalendar.com/event/severson-dells-nature-walk-0
URL:https://statelinekids.com/event/severson-dells-nature-walk-for-adults/2022-07-06/
LOCATION:Severson Dells Nature Center\, 8786 Montague Rd\, Rockford\, IL\, United States
CATEGORIES:Rockford
ATTACH;FMTTYPE=image/png:https://statelinekids.com/wp-content/uploads/2022/07/Copy-of-Fall-and-Halloween-2020-Guide-2.png
END:VEVENT
BEGIN:VEVENT
DTSTART;TZID=America/Chicago:20230707T193000
DTEND;TZID=America/Chicago:20230707T220000
DTSTAMP:20260424T040600
CREATED:20230701T163323Z
LAST-MODIFIED:20230701T163323Z
UID:29161-1688758200-1688767200@statelinekids.com
SUMMARY:DATE NIGHT: Friday After Dark - Adult Night at Woodstock Water Works
DESCRIPTION:Adults 21 and up can bring their rafts\, grab a drink\, and enjoy the Waterworks at night!
URL:https://statelinekids.com/event/date-night-friday-after-dark-adult-night-at-woodstock-water-works/
LOCATION:Woodstock Waterworks\, 1313 Kishwaukee Valley Rd\, Woodstock\, IL\, United States
CATEGORIES:Woodstock
END:VEVENT
BEGIN:VEVENT
DTSTART;TZID=America/Chicago:20230708T170000
DTEND;TZID=America/Chicago:20230708T190000
DTSTAMP:20260424T040600
CREATED:20230701T174029Z
LAST-MODIFIED:20230701T174045Z
UID:29199-1688835600-1688842800@statelinekids.com
SUMMARY:DATE NIGHT: 3\,6\,9 Golf Event
DESCRIPTION:Adults can use three clubs to play nine holes and sample six beers while there. Get tickets here. \nCost: $50 per person \n 
URL:https://statelinekids.com/event/date-night/
LOCATION:Aldeen Golf Club\, 1900 Reid Farm Rd\, Rockford\, IL\, United States
CATEGORIES:Rockford
END:VEVENT
BEGIN:VEVENT
DTSTART;TZID=America/Chicago:20231028T190000
DTEND;TZID=America/Chicago:20231028T200000
DTSTAMP:20260424T040600
CREATED:20231027T151545Z
LAST-MODIFIED:20231027T151545Z
UID:31610-1698519600-1698523200@statelinekids.com
SUMMARY:Glow and Flow
DESCRIPTION:RBY is offering an exclusive Glow + Flow event for Rockford yogis. Come flow in the dark and shine to some great tunes\, make highlighter shapes\, and make the best of these early night-times.\n\nRhiannon will be leading a fall-themed yoga ADVENTURE for little ones (ages 5-14)\, followed by a fun fall art project… if you ever want to see @rhiannon_yandell in her element\, just give her a yoga mat + some art supplies.\n\nDownstairs\, Rachel will be turning up the speakers\, turning down the lights\, and leading the grown-up crowd through a fast-paced flow in the dark.\n\nAnd of course\, what would an event be this close to Halloween without some goodie bags to start your sugar-filled weekend  don’t forget to visit @realbeautiful.you and all the other amazing downtown businesses from 12-4p the same day for @gorockford @rockfordartdeli Spook the Blocks for even more treats (and very little tricks) \n\nRegister now at www.realbeautiful.me/real-beautiful-events/glow-flow
URL:https://statelinekids.com/event/glow-and-flow/
LOCATION:Real Beautiful You\, 420 N. Main St.\, Rockford\, IL\, United States
CATEGORIES:Rockford
END:VEVENT
BEGIN:VEVENT
DTSTART;TZID=America/Chicago:20240210T200000
DTEND;TZID=America/Chicago:20240210T230000
DTSTAMP:20260424T040600
CREATED:20240204T182057Z
LAST-MODIFIED:20240204T182057Z
UID:33248-1707595200-1707606000@statelinekids.com
SUMMARY:DATE NIGHT: Yeti Fest’s Snow Ball: Livin’ La Vida 90’s
DESCRIPTION:Get transported back to the 90’s for a fun night of dancing and fun. Wear your best 90’s clothing! Get tickets here.
URL:https://statelinekids.com/event/date-night-yeti-fests-snow-ball-livin-la-vida-90s/
LOCATION:Rockton American Legion\, 215 W. Main Street\, Rockton\, IL\, United States
CATEGORIES:Rockton
END:VEVENT
BEGIN:VEVENT
DTSTART;TZID=America/Chicago:20240426T180000
DTEND;TZID=America/Chicago:20240426T223000
DTSTAMP:20260424T040600
CREATED:20240421T224636Z
LAST-MODIFIED:20240421T224636Z
UID:34510-1714154400-1714170600@statelinekids.com
SUMMARY:A League of Their Own Movie Night
DESCRIPTION:People ages 18 and up can enjoy watching a League of Their Own and purchase food and drinks from Ernie’s Midtown Pub. Get tickets here.
URL:https://statelinekids.com/event/a-league-of-their-own-movie-night/
LOCATION:Nordlof Center\, 118 N. Main Street\, Rockford\, IL\, United States
CATEGORIES:Rockford
END:VEVENT
BEGIN:VEVENT
DTSTART;TZID=America/Chicago:20240511T120000
DTEND;TZID=America/Chicago:20240511T160000
DTSTAMP:20260424T040600
CREATED:20240423T173039Z
LAST-MODIFIED:20240423T173121Z
UID:34582-1715428800-1715443200@statelinekids.com
SUMMARY:Fungi Foray
DESCRIPTION:Join us at the Lodge for a Fungi Foray in the wonderful world of mushrooms. Explore\, experiment and enjoy learning how to grow\, identify and use these unique organisms.\n\nSaturday\, May 11th. 12-4pm\, $40/person\, Adults & kids 12 and older.\n\nRegister on our website – https://www.farmersrising.org/farm-programs.html\n\nEducator and Farmer Allyson Rosemore will demonstrate how to inoculate logs with shiitake mushrooms from spore. Participants will also enjoy a foraging hike with Educator Randy Mermel over our 70 acres of wooded trails along Kinnikinnick Creek. Be sure to work up an appetite\, because back at the Lodge\, Chef Andy Skupien will be leading the group in a culinary experiment with mushrooms\, vegetables\, and herbs to make a foraged cream of mushroom soup.\n\nA large portion of our workshop will be held outdoors so please come dressed for the weather. Hiking boots recommended.
URL:https://statelinekids.com/event/fungi-foray/
LOCATION:Farmers Rising\, 1936 Rockton Rd.\, Caledonia\, IL\, United States
CATEGORIES:Caledonia
ATTACH;FMTTYPE=image/jpeg:https://statelinekids.com/wp-content/uploads/2024/04/Fungi.jpeg
END:VEVENT
END:VCALENDAR