BEGIN:VCALENDAR
VERSION:2.0
PRODID:-//Stateline Kids - ECPv6.5.1.3//NONSGML v1.0//EN
CALSCALE:GREGORIAN
METHOD:PUBLISH
X-WR-CALNAME:Stateline Kids
X-ORIGINAL-URL:https://statelinekids.com
X-WR-CALDESC:Events for Stateline Kids
REFRESH-INTERVAL;VALUE=DURATION:PT1H
X-Robots-Tag:noindex
X-PUBLISHED-TTL:PT1H
BEGIN:VTIMEZONE
TZID:America/Chicago
BEGIN:DAYLIGHT
TZOFFSETFROM:-0600
TZOFFSETTO:-0500
TZNAME:CDT
DTSTART:20180311T080000
END:DAYLIGHT
BEGIN:STANDARD
TZOFFSETFROM:-0500
TZOFFSETTO:-0600
TZNAME:CST
DTSTART:20181104T070000
END:STANDARD
BEGIN:DAYLIGHT
TZOFFSETFROM:-0600
TZOFFSETTO:-0500
TZNAME:CDT
DTSTART:20190310T080000
END:DAYLIGHT
BEGIN:STANDARD
TZOFFSETFROM:-0500
TZOFFSETTO:-0600
TZNAME:CST
DTSTART:20191103T070000
END:STANDARD
BEGIN:DAYLIGHT
TZOFFSETFROM:-0600
TZOFFSETTO:-0500
TZNAME:CDT
DTSTART:20200308T080000
END:DAYLIGHT
BEGIN:STANDARD
TZOFFSETFROM:-0500
TZOFFSETTO:-0600
TZNAME:CST
DTSTART:20201101T070000
END:STANDARD
BEGIN:DAYLIGHT
TZOFFSETFROM:-0600
TZOFFSETTO:-0500
TZNAME:CDT
DTSTART:20210314T080000
END:DAYLIGHT
BEGIN:STANDARD
TZOFFSETFROM:-0500
TZOFFSETTO:-0600
TZNAME:CST
DTSTART:20211107T070000
END:STANDARD
BEGIN:DAYLIGHT
TZOFFSETFROM:-0600
TZOFFSETTO:-0500
TZNAME:CDT
DTSTART:20220313T080000
END:DAYLIGHT
BEGIN:STANDARD
TZOFFSETFROM:-0500
TZOFFSETTO:-0600
TZNAME:CST
DTSTART:20221106T070000
END:STANDARD
BEGIN:DAYLIGHT
TZOFFSETFROM:-0600
TZOFFSETTO:-0500
TZNAME:CDT
DTSTART:20230312T080000
END:DAYLIGHT
BEGIN:STANDARD
TZOFFSETFROM:-0500
TZOFFSETTO:-0600
TZNAME:CST
DTSTART:20231105T070000
END:STANDARD
END:VTIMEZONE
BEGIN:VEVENT
DTSTART;TZID=America/Chicago:20230812T090000
DTEND;TZID=America/Chicago:20230812T150000
DTSTAMP:20260422T170339
CREATED:20230807T234029Z
LAST-MODIFIED:20230807T234029Z
UID:29898-1691830800-1691852400@statelinekids.com
SUMMARY:Kids Fishing Derby
DESCRIPTION:Kids Fishing Derby at Four Lakes hosted by Rockford Fishing Tightlines from 10 am – 3 pm! This event is FREE for kids ages 2-10 and 11-17. Registration starts at 9 am.
URL:https://statelinekids.com/event/kids-fishing-derby/
LOCATION:Four Lakes Forest Preserve\, 10207 Fish Hatchery Rd.\, Pecatonica\, IL\, United States
CATEGORIES:Pecatonica
END:VEVENT
BEGIN:VEVENT
DTSTART;TZID=America/Chicago:20230624T100000
DTEND;TZID=America/Chicago:20230624T120000
DTSTAMP:20260422T170339
CREATED:20230523T222114Z
LAST-MODIFIED:20230523T222114Z
UID:28129-1687600800-1687608000@statelinekids.com
SUMMARY:Youth Bicycle Rodeo
DESCRIPTION:Bring the kids to the Winnebago County Fairgrounds on Saturday\, June 24th from 10 am – 12 pm to participate in a fun morning of bike activities. Kids ages 5-18 can learn about bike safety\, maintenance and riding skills. Kids will go through five stations including bike check/ pre-trip\, rules of the ride\, traffic signals\, traffic safety and road test. They will conclude with an event with a group ride around the fairgrounds and lunch (hot dog & chips) courtesy of the Pecatonica Lions Club. Two kids will go home with a brand new bike! This event is FREE\, but registration is required! \nSign up here: https://registration.extension.illinois.edu/start/winnebago-county-4-h-bicycle-rodeo
URL:https://statelinekids.com/event/youth-bicycle-rodeo/
LOCATION:Winnebago County Fairgrounds\, 500 W. 1st Street\, Pecatonica\, IL\, United States
CATEGORIES:Pecatonica
END:VEVENT
BEGIN:VEVENT
DTSTART;TZID=America/Chicago:20230610T090000
DTEND;TZID=America/Chicago:20230610T120000
DTSTAMP:20260422T170339
CREATED:20230603T003359Z
LAST-MODIFIED:20230603T003359Z
UID:28417-1686387600-1686398400@statelinekids.com
SUMMARY:Hooked on Fun Kids Fishing Derby
DESCRIPTION:Kids ages 3-16 can enjoy trying their hand at fishing in a safe and controlled environment. The Hooked on Fun Kids Fishing Derby is an annual event held by the Forest Preserves of Winnebago County at Four Lakes Forest Preserve in Pecatonica. The Four Lakes Preserve provides several shallow\, small lakes which are easily accessible for families to fish. \nThe event runs from 9 am – 12 pm and is completely free to attend. \nParticipants will get a free t-shirt\, participant prizes\, and a chance to win a big fish trophy. \nBring your own poles\, bait is provided. There will also be a limited amount of loaner poles available. There will also be a live aquarium display.
URL:https://statelinekids.com/event/hooked-on-fun-kids-fishing-derby/
LOCATION:Four Lakes Forest Preserve\, 10207 Fish Hatchery Rd.\, Pecatonica\, IL\, United States
CATEGORIES:Pecatonica
ATTACH;FMTTYPE=image/png:https://statelinekids.com/wp-content/uploads/2023/06/Screen-Shot-2023-06-02-at-7.33.28-PM.png
END:VEVENT
BEGIN:VEVENT
DTSTART;TZID=America/Chicago:20230526T130000
DTEND;TZID=America/Chicago:20230526T140000
DTSTAMP:20260422T170339
CREATED:20230521T205657Z
LAST-MODIFIED:20230521T205657Z
UID:28121-1685106000-1685109600@statelinekids.com
SUMMARY:Baby Goat Snuggle Session
DESCRIPTION:Come to the farm to snuggle baby goats! Get tickets here.
URL:https://statelinekids.com/event/baby-goat-snuggle-session/
LOCATION:Gretta’s Goats\, 498 North Farwell Rd\, Pecatonica\, IL\, United States
CATEGORIES:Pecatonica
END:VEVENT
BEGIN:VEVENT
DTSTART;TZID=America/Chicago:20230514T143000
DTEND;TZID=America/Chicago:20230514T153000
DTSTAMP:20260422T170339
CREATED:20230507T180628Z
LAST-MODIFIED:20230507T180628Z
UID:27899-1684074600-1684078200@statelinekids.com
SUMMARY:Baby Goat Snuggle
DESCRIPTION:Snuggle some baby goats and check out the farm store. Get tickets here.
URL:https://statelinekids.com/event/baby-goat-snuggle-2/
LOCATION:Gretta’s Goats\, 498 North Farwell Rd\, Pecatonica\, IL\, United States
CATEGORIES:Pecatonica
END:VEVENT
BEGIN:VEVENT
DTSTART;TZID=America/Chicago:20230514T130000
DTEND;TZID=America/Chicago:20230514T140000
DTSTAMP:20260422T170339
CREATED:20230507T180456Z
LAST-MODIFIED:20230507T180456Z
UID:27897-1684069200-1684072800@statelinekids.com
SUMMARY:Goat Hike
DESCRIPTION:Take a one mile hike around the farm and through the woods with miniature goats. Get tickets here.
URL:https://statelinekids.com/event/goat-hike-2/
LOCATION:Gretta’s Goats\, 498 North Farwell Rd\, Pecatonica\, IL\, United States
CATEGORIES:Pecatonica
END:VEVENT
BEGIN:VEVENT
DTSTART;TZID=America/Chicago:20230514T110000
DTEND;TZID=America/Chicago:20230514T120000
DTSTAMP:20260422T170339
CREATED:20230507T180329Z
LAST-MODIFIED:20230507T180329Z
UID:27895-1684062000-1684065600@statelinekids.com
SUMMARY:Goat Yoga
DESCRIPTION:Enjoy a 60 minute goat yoga class with laughter and fresh air. Get tickets here.
URL:https://statelinekids.com/event/goat-yoga/
LOCATION:Gretta’s Goats\, 498 North Farwell Rd\, Pecatonica\, IL\, United States
CATEGORIES:Pecatonica
END:VEVENT
BEGIN:VEVENT
DTSTART;TZID=America/Chicago:20230509T160000
DTEND;TZID=America/Chicago:20230509T170000
DTSTAMP:20260422T170339
CREATED:20230507T180143Z
LAST-MODIFIED:20230507T180143Z
UID:27893-1683648000-1683651600@statelinekids.com
SUMMARY:Baby Goat Snuggle
DESCRIPTION:Come to the farm to snuggle baby goats. Shop at the farm store afterward. Get tickets here.
URL:https://statelinekids.com/event/baby-goat-snuggle/
LOCATION:Gretta’s Goats\, 498 North Farwell Rd\, Pecatonica\, IL\, United States
CATEGORIES:Pecatonica
END:VEVENT
BEGIN:VEVENT
DTSTART;TZID=America/Chicago:20230415T130000
DTEND;TZID=America/Chicago:20230415T150000
DTSTAMP:20260422T170339
CREATED:20230407T222224Z
LAST-MODIFIED:20230407T222224Z
UID:27340-1681563600-1681570800@statelinekids.com
SUMMARY:Introduction to Beekeeping Class on the Farm
DESCRIPTION:Learn about the benefits of keeping bees\, equipment needs\, hive parts\, plants\, and more. You will get a tour of the farm and a jar of local honey. You will not handle bees or be near active hives during this class. Register here.
URL:https://statelinekids.com/event/introduction-to-beekeeping-class-on-the-farm/
LOCATION:Gretta’s Goats\, 498 North Farwell Rd\, Pecatonica\, IL\, United States
CATEGORIES:Pecatonica
END:VEVENT
BEGIN:VEVENT
DTSTART;TZID=America/Chicago:20230401T130000
DTEND;TZID=America/Chicago:20230401T150000
DTSTAMP:20260422T170339
CREATED:20230324T213500Z
LAST-MODIFIED:20230324T213500Z
UID:27096-1680354000-1680361200@statelinekids.com
SUMMARY:Goat Milk Soap Making Class
DESCRIPTION:Learn how to make soap through an old-fashioned cold process and take a tour of the farm. Register here.
URL:https://statelinekids.com/event/goat-milk-soap-making-class/
LOCATION:Gretta’s Goats\, 498 North Farwell Rd\, Pecatonica\, IL\, United States
CATEGORIES:Pecatonica
END:VEVENT
BEGIN:VEVENT
DTSTART;TZID=America/Chicago:20220917T080000
DTEND;TZID=America/Chicago:20220917T170000
DTSTAMP:20260422T170339
CREATED:20220911T192510Z
LAST-MODIFIED:20220911T192510Z
UID:23474-1663401600-1663434000@statelinekids.com
SUMMARY:Fall Pec Thing
DESCRIPTION:Enjoy shopping from over 500 vendors selling antique goods\, art\, furniture and more.
URL:https://statelinekids.com/event/fall-pec-thing/2022-09-17/
LOCATION:Winnebago County Fairgrounds\, 500 W. 1st Street\, Pecatonica\, IL\, United States
CATEGORIES:Pecatonica
END:VEVENT
BEGIN:VEVENT
DTSTART;TZID=America/Chicago:20220619T110000
DTEND;TZID=America/Chicago:20220619T120000
DTSTAMP:20260422T170339
CREATED:20220612T193854Z
LAST-MODIFIED:20220612T193854Z
UID:21179-1655636400-1655640000@statelinekids.com
SUMMARY:Goat Hike
DESCRIPTION:Enjoy a peaceful one mile hike around the farm with miniature goats. Get tickets here.
URL:https://statelinekids.com/event/goat-hike/
LOCATION:Gretta’s Goats\, 498 North Farwell Rd\, Pecatonica\, IL\, United States
CATEGORIES:Pecatonica
END:VEVENT
BEGIN:VEVENT
DTSTART;TZID=America/Chicago:20220604T100000
DTEND;TZID=America/Chicago:20220604T113000
DTSTAMP:20260422T170339
CREATED:20220528T210936Z
LAST-MODIFIED:20220528T210936Z
UID:20686-1654336800-1654342200@statelinekids.com
SUMMARY:Family Frog Adventure
DESCRIPTION:Learn about local frogs\, where they live\, and their life cycles. Register here. \nCost: $10 per member / $15 per family (up to 4 people)
URL:https://statelinekids.com/event/family-frog-adventure-2/
LOCATION:Pecatonica Wetlands Preserve\, 5750 Best Rd.\, Pecatonica\, IL\, United States
CATEGORIES:Pecatonica
ATTACH;FMTTYPE=image/jpeg:https://statelinekids.com/wp-content/uploads/2022/05/Frogs.jpeg
END:VEVENT
BEGIN:VEVENT
DTSTART;TZID=America/Chicago:20210501T150000
DTEND;TZID=America/Chicago:20210501T163000
DTSTAMP:20260422T170339
CREATED:20210425T174655Z
LAST-MODIFIED:20210425T174655Z
UID:15412-1619881200-1619886600@statelinekids.com
SUMMARY:City Nature Challenge at Pecatonica River
DESCRIPTION:Take part in the annual City Nature Challenge by using iNaturalist to tag photos of plants and animals. Register in advance here.
URL:https://statelinekids.com/event/city-nature-challenge-at-pecatonica-river/
LOCATION:Pecatonica River\, 7260 Judd Rd.\, Pecatonica\, IL\, United States
CATEGORIES:Pecatonica
END:VEVENT
BEGIN:VEVENT
DTSTART;TZID=America/Chicago:20210331T173000
DTEND;TZID=America/Chicago:20210331T183000
DTSTAMP:20260422T170339
CREATED:20210328T173606Z
LAST-MODIFIED:20210328T173606Z
UID:15172-1617211800-1617215400@statelinekids.com
SUMMARY:Easter Egg Hunt Basket Giveaway
DESCRIPTION:Drive through to pick up a free Egg Hunt kit for your family to do at home.
URL:https://statelinekids.com/event/easter-egg-hunt-basket-giveaway/
LOCATION:New Life Bible Church\, 2285 N. Hoisington Rd.\, Pecatonica\, IL\, United States
CATEGORIES:Pecatonica
END:VEVENT
BEGIN:VEVENT
DTSTART;TZID=America/Chicago:20191020T100000
DTEND;TZID=America/Chicago:20191020T160000
DTSTAMP:20260422T170339
CREATED:20191012T234612Z
LAST-MODIFIED:20191012T234612Z
UID:7981-1571565600-1571587200@statelinekids.com
SUMMARY:Holidazzle Arts & Crafts Show
DESCRIPTION:Come to one of the area’s biggest two day holiday craft shows featuring 150 vendors. This event continues on Sunday from 10 am – 4 pm. \nCost: $3 per person\, kids 12 and under are free
URL:https://statelinekids.com/event/holidazzle-arts-crafts-show/
LOCATION:Winnebago County Fairgrounds\, 500 W. 1st Street\, Pecatonica\, IL\, United States
CATEGORIES:Pecatonica
END:VEVENT
BEGIN:VEVENT
DTSTART;TZID=America/Chicago:20190815T120000
DTEND;TZID=America/Chicago:20190815T220000
DTSTAMP:20260422T170339
CREATED:20190810T184547Z
LAST-MODIFIED:20190810T184547Z
UID:6946-1565870400-1565906400@statelinekids.com
SUMMARY:Kids Day at Winnebago County Fair
DESCRIPTION:Come to Kids Day at the Winnebago County Fair. There will be a butterfly encounter\, carnival\, magician\, K9 demonstrations and more. More about Winnebago County Fair here. \nCost: $5 per adult\, kids ages 12 and under are free
URL:https://statelinekids.com/event/kids-day-at-winnebago-county-fair/
LOCATION:Winnebago County Fairgrounds\, 500 W. 1st Street\, Pecatonica\, IL\, United States
CATEGORIES:Pecatonica
END:VEVENT
BEGIN:VEVENT
DTSTART;TZID=America/Chicago:20190608T090000
DTEND;TZID=America/Chicago:20190608T120000
DTSTAMP:20260422T170339
CREATED:20190602T155558Z
LAST-MODIFIED:20190602T155558Z
UID:5918-1559984400-1559995200@statelinekids.com
SUMMARY:Hooked on Fun
DESCRIPTION:Bring fishing poles and equipment so your kids can learn how to fish. Prizes will be awarded to the largest fish in various age categories. No fishing license or registration required.
URL:https://statelinekids.com/event/hooked-on-fun/
LOCATION:Four Lakes Forest Preserve\, 10207 Fish Hatchery Rd.\, Pecatonica\, IL\, United States
CATEGORIES:Pecatonica
END:VEVENT
BEGIN:VEVENT
DTSTART;TZID=America/Chicago:20180922T110000
DTEND;TZID=America/Chicago:20180922T160000
DTSTAMP:20260422T170339
CREATED:20180828T152621Z
LAST-MODIFIED:20180828T152621Z
UID:2247-1537614000-1537632000@statelinekids.com
SUMMARY:Celebrate Fall on the Farm!
DESCRIPTION:Come celebrate fall on the farm! Get your pumpkins for the season\, visit with all of the goats and animals\, take a goat yoga class or intro cheesemaking class (pre-registration required)\, listen to live music and shop our farm stand – eat cheese and relax in the country! More fun activities planned!
URL:https://statelinekids.com/event/celebrate-fall-on-the-farm/
LOCATION:Gretta’s Goats\, 498 North Farwell Rd\, Pecatonica\, IL\, United States
CATEGORIES:Pecatonica
END:VEVENT
BEGIN:VEVENT
DTSTART;TZID=America/Chicago:20180816T120000
DTEND;TZID=America/Chicago:20180816T233000
DTSTAMP:20260422T170339
CREATED:20180814T142011Z
LAST-MODIFIED:20180814T142011Z
UID:1795-1534420800-1534462200@statelinekids.com
SUMMARY:Kid’s Day at Winnebago County Fair
DESCRIPTION:Kids under 12 are free today! Enjoy the fair food\, rides\, games\, music\, and live animals. Fair runs from August 15-19.
URL:https://statelinekids.com/event/kids-day-winnebago-county-fair/
LOCATION:Winnebago County Fairgrounds\, 500 W. 1st Street\, Pecatonica\, IL\, United States
CATEGORIES:Pecatonica
END:VEVENT
END:VCALENDAR