BEGIN:VCALENDAR
VERSION:2.0
PRODID:-//Stateline Kids - ECPv6.5.1.3//NONSGML v1.0//EN
CALSCALE:GREGORIAN
METHOD:PUBLISH
X-WR-CALNAME:Stateline Kids
X-ORIGINAL-URL:https://statelinekids.com
X-WR-CALDESC:Events for Stateline Kids
REFRESH-INTERVAL;VALUE=DURATION:PT1H
X-Robots-Tag:noindex
X-PUBLISHED-TTL:PT1H
BEGIN:VTIMEZONE
TZID:America/Chicago
BEGIN:DAYLIGHT
TZOFFSETFROM:-0600
TZOFFSETTO:-0500
TZNAME:CDT
DTSTART:20240310T080000
END:DAYLIGHT
BEGIN:STANDARD
TZOFFSETFROM:-0500
TZOFFSETTO:-0600
TZNAME:CST
DTSTART:20241103T070000
END:STANDARD
BEGIN:DAYLIGHT
TZOFFSETFROM:-0600
TZOFFSETTO:-0500
TZNAME:CDT
DTSTART:20250309T080000
END:DAYLIGHT
BEGIN:STANDARD
TZOFFSETFROM:-0500
TZOFFSETTO:-0600
TZNAME:CST
DTSTART:20251102T070000
END:STANDARD
END:VTIMEZONE
BEGIN:VEVENT
DTSTART;TZID=America/Chicago:20250629T140000
DTEND;TZID=America/Chicago:20250629T190000
DTSTAMP:20260421T000402
CREATED:20250622T190004Z
LAST-MODIFIED:20250622T190004Z
UID:41181-1751205600-1751223600@statelinekids.com
SUMMARY:Pig Minds Boozy Book Fair
DESCRIPTION:Shop from various book vendors and authors in an outdoor market.
URL:https://statelinekids.com/event/pig-minds-boozy-book-fair/
LOCATION:Pig Minds Brewing\, 4080 Steele Dr.\, Machesney Park\, IL\, United States
CATEGORIES:Machesney Park
END:VEVENT
BEGIN:VEVENT
DTSTART;TZID=America/Chicago:20250601T110000
DTEND;TZID=America/Chicago:20250601T140000
DTSTAMP:20260421T000402
CREATED:20250524T165035Z
LAST-MODIFIED:20250524T165035Z
UID:40712-1748775600-1748786400@statelinekids.com
SUMMARY:Open House / Ice Cream Social
DESCRIPTION:Check out the new firehouse\, meet firefighters\, and enjoy some ice cream.
URL:https://statelinekids.com/event/open-house-ice-cream-social/
LOCATION:North Park Fire District\, 1011 Harlem Rd.\, Machesney Park\, IL\, United States
CATEGORIES:Machesney Park
END:VEVENT
BEGIN:VEVENT
DTSTART;TZID=America/Chicago:20250503T090000
DTEND;TZID=America/Chicago:20250503T150000
DTSTAMP:20260421T000402
CREATED:20250427T172928Z
LAST-MODIFIED:20250427T172928Z
UID:40385-1746262800-1746284400@statelinekids.com
SUMMARY:Vintage and Artisan Market
DESCRIPTION:Shop from over 30 vendors for Mother’s Day gifts.
URL:https://statelinekids.com/event/vintage-and-artisan-market/
LOCATION:The Twisted Tulip\, 7901 Burden Rd.\, Machesney Park\, IL\, United States
CATEGORIES:Machesney Park
END:VEVENT
BEGIN:VEVENT
DTSTART;TZID=America/Chicago:20250416T163000
DTEND;TZID=America/Chicago:20250416T193000
DTSTAMP:20260421T000402
CREATED:20250412T201608Z
LAST-MODIFIED:20250412T201608Z
UID:40188-1744821000-1744831800@statelinekids.com
SUMMARY:Dinner and Photos with the Easter Bunny
DESCRIPTION:Enjoy a dinner\, specials available\, with photos with the Easter Bunny. \nCost: $10 for digital photo + food costs (~$10-20 per person)
URL:https://statelinekids.com/event/dinner-and-photos-with-the-easter-bunny/
LOCATION:The Parks\, 1001 W. Lane Rd.\, Machesney Park\, IL\, United States
CATEGORIES:Machesney Park
END:VEVENT
BEGIN:VEVENT
DTSTART;TZID=America/Chicago:20250412T090000
DTEND;TZID=America/Chicago:20250412T120000
DTSTAMP:20260421T000402
CREATED:20250405T180601Z
LAST-MODIFIED:20250405T180601Z
UID:40101-1744448400-1744459200@statelinekids.com
SUMMARY:Week of the Young Child Free Family Fun Fair
DESCRIPTION: Enjoy free entertainment\, learn about organizations for families\, and do hands-on activities. Register in advance here.
URL:https://statelinekids.com/event/week-of-the-young-child-free-family-fun-fair/
LOCATION:Harlem High School\, 1 Huskie Cir.\, Machesney Park\, IL\, United States
CATEGORIES:Machesney Park
END:VEVENT
BEGIN:VEVENT
DTSTART;TZID=America/Chicago:20250330T100000
DTEND;TZID=America/Chicago:20250330T150000
DTSTAMP:20260421T000402
CREATED:20250323T183934Z
LAST-MODIFIED:20250323T183934Z
UID:39985-1743328800-1743346800@statelinekids.com
SUMMARY:Rock River Valley Train Show
DESCRIPTION:Check out the biggest train show in the area with operating layouts\, vendors selling trains\, and more. \nCost: $5 per person / kids free under 13 \n 
URL:https://statelinekids.com/event/rock-river-valley-train-show-2/2025-03-30/
LOCATION:Harlem High School\, 1 Huskie Cir.\, Machesney Park\, IL\, United States
CATEGORIES:Machesney Park
END:VEVENT
BEGIN:VEVENT
DTSTART;TZID=America/Chicago:20250329T100000
DTEND;TZID=America/Chicago:20250329T170000
DTSTAMP:20260421T000402
CREATED:20250323T183934Z
LAST-MODIFIED:20250323T183934Z
UID:39983-1743242400-1743267600@statelinekids.com
SUMMARY:Rock River Valley Train Show
DESCRIPTION:Check out the biggest train show in the area with operating layouts\, vendors selling trains\, and more. \nCost: $5 per person / kids free under 13 \n 
URL:https://statelinekids.com/event/rock-river-valley-train-show-2/2025-03-29/
LOCATION:Harlem High School\, 1 Huskie Cir.\, Machesney Park\, IL\, United States
CATEGORIES:Machesney Park
END:VEVENT
BEGIN:VEVENT
DTSTART;TZID=America/Chicago:20250302T140000
DTEND;TZID=America/Chicago:20250302T160000
DTSTAMP:20260421T000402
CREATED:20250223T183550Z
LAST-MODIFIED:20250223T183550Z
UID:39690-1740924000-1740931200@statelinekids.com
SUMMARY:School of Rock
DESCRIPTION:Wear your favorite band t-shirt and watch a youth musical performance! \nCost: $10 per person / $7 per kid
URL:https://statelinekids.com/event/school-of-rock/2025-03-02/
LOCATION:Harlem High School\, 1 Huskie Cir.\, Machesney Park\, IL\, United States
CATEGORIES:Machesney Park
END:VEVENT
BEGIN:VEVENT
DTSTART;TZID=America/Chicago:20250301T190000
DTEND;TZID=America/Chicago:20250301T210000
DTSTAMP:20260421T000402
CREATED:20250223T183550Z
LAST-MODIFIED:20250223T183550Z
UID:39689-1740855600-1740862800@statelinekids.com
SUMMARY:School of Rock
DESCRIPTION:Wear your favorite band t-shirt and watch a youth musical performance! \nCost: $10 per person / $7 per kid
URL:https://statelinekids.com/event/school-of-rock/2025-03-01/
LOCATION:Harlem High School\, 1 Huskie Cir.\, Machesney Park\, IL\, United States
CATEGORIES:Machesney Park
END:VEVENT
BEGIN:VEVENT
DTSTART;TZID=America/Chicago:20250228T190000
DTEND;TZID=America/Chicago:20250228T210000
DTSTAMP:20260421T000402
CREATED:20250223T183550Z
LAST-MODIFIED:20250223T183550Z
UID:39687-1740769200-1740776400@statelinekids.com
SUMMARY:School of Rock
DESCRIPTION:Wear your favorite band t-shirt and watch a youth musical performance! \nCost: $10 per person / $7 per kid
URL:https://statelinekids.com/event/school-of-rock/2025-02-28/
LOCATION:Harlem High School\, 1 Huskie Cir.\, Machesney Park\, IL\, United States
CATEGORIES:Machesney Park
END:VEVENT
BEGIN:VEVENT
DTSTART;TZID=America/Chicago:20250225T160000
DTEND;TZID=America/Chicago:20250225T190000
DTSTAMP:20260421T000402
CREATED:20250223T183815Z
LAST-MODIFIED:20250223T183815Z
UID:39692-1740499200-1740510000@statelinekids.com
SUMMARY:Princess Night
DESCRIPTION:Dress in your royal best and enjoy a fun night of surprises. Food is available for purchase.
URL:https://statelinekids.com/event/princess-night/
LOCATION:Chick-fil-A\, 280 N Perryville Rd\, Rockford\, IL\, United States
CATEGORIES:Machesney Park
END:VEVENT
BEGIN:VEVENT
DTSTART;TZID=America/Chicago:20241208T120000
DTEND;TZID=America/Chicago:20241208T170000
DTSTAMP:20260421T000402
CREATED:20241201T211744Z
LAST-MODIFIED:20241201T211744Z
UID:38850-1733659200-1733677200@statelinekids.com
SUMMARY:Pig Minds Holiday Market
DESCRIPTION:Shop from local vendors to get last minute holiday items.
URL:https://statelinekids.com/event/pig-minds-holiday-market/
LOCATION:Pig Minds Brewing\, 4080 Steele Dr.\, Machesney Park\, IL\, United States
CATEGORIES:Machesney Park
END:VEVENT
BEGIN:VEVENT
DTSTART;TZID=America/Chicago:20241124T173000
DTEND;TZID=America/Chicago:20241124T183000
DTSTAMP:20260421T000402
CREATED:20241117T170405Z
LAST-MODIFIED:20241117T170405Z
UID:38615-1732469400-1732473000@statelinekids.com
SUMMARY:Light up the Parks Parade
DESCRIPTION:Watch a lighted parade travel through Loves Park and end at the Machesney Park Town Center where Mr. and Mrs. Claus will light the trees\, and there will be fireworks.
URL:https://statelinekids.com/event/light-up-the-parks-parade-4/
LOCATION:Machesney Park Town Center\, 8750 North Second Street\, Machesney Park\, IL\, United States
CATEGORIES:Loves Park,Machesney Park
END:VEVENT
BEGIN:VEVENT
DTSTART;TZID=America/Chicago:20241124T100000
DTEND;TZID=America/Chicago:20241124T150000
DTSTAMP:20260421T000402
CREATED:20241117T235751Z
LAST-MODIFIED:20241117T235751Z
UID:38634-1732442400-1732460400@statelinekids.com
SUMMARY:Fall’iday Bazaar
DESCRIPTION:Shop from a variety of handmade crafters and MLMs.
URL:https://statelinekids.com/event/falliday-bazaar-2/
LOCATION:Harlem High School\, 1 Huskie Cir.\, Machesney Park\, IL\, United States
CATEGORIES:Machesney Park
END:VEVENT
BEGIN:VEVENT
DTSTART;TZID=America/Chicago:20241123T100000
DTEND;TZID=America/Chicago:20241123T160000
DTSTAMP:20260421T000402
CREATED:20241117T235933Z
LAST-MODIFIED:20241117T235933Z
UID:38637-1732356000-1732377600@statelinekids.com
SUMMARY:Holiday Craft Show
DESCRIPTION:Shop from over 60 unique handmade vendors for one of a kind gifts.
URL:https://statelinekids.com/event/holiday-craft-show/
LOCATION:Stateline Sports Center\, 7939 Burden Road\, Machesney Park\, IL\, United States
CATEGORIES:Machesney Park
END:VEVENT
BEGIN:VEVENT
DTSTART;TZID=America/Chicago:20241019T100000
DTEND;TZID=America/Chicago:20241019T120000
DTSTAMP:20260421T000402
CREATED:20241013T182557Z
LAST-MODIFIED:20241013T182557Z
UID:38200-1729332000-1729339200@statelinekids.com
SUMMARY:Pumpkin Pop-Up
DESCRIPTION:Enjoy games\, pumpkins\, candy\, and more.
URL:https://statelinekids.com/event/pumpkin-pop-up-3/
LOCATION:Rock Valley Credit Union\, 1201 Clifford Ave.\, Loves Park\, IL\, United States
CATEGORIES:Machesney Park
END:VEVENT
BEGIN:VEVENT
DTSTART;TZID=America/Chicago:20241012T100000
DTEND;TZID=America/Chicago:20241012T130000
DTSTAMP:20260421T000402
CREATED:20241006T235736Z
LAST-MODIFIED:20241006T235736Z
UID:37995-1728727200-1728738000@statelinekids.com
SUMMARY:Fire Safety Day at Lowe’s
DESCRIPTION:Enjoy some safe family fun\, visit with firefighters\, police officers\, and the Winnebago County Ghostbusters.
URL:https://statelinekids.com/event/fire-safety-day-at-lowes/
LOCATION:Lowe’s Machesney Park\, 9700 N. Alpine Rd.\, Machesney Park\, IL\, United States
CATEGORIES:Machesney Park
END:VEVENT
BEGIN:VEVENT
DTSTART;TZID=America/Chicago:20241005T120000
DTEND;TZID=America/Chicago:20241005T170000
DTSTAMP:20260421T000402
CREATED:20240927T174637Z
LAST-MODIFIED:20240927T174637Z
UID:37819-1728129600-1728147600@statelinekids.com
SUMMARY:Boozy Book Fair
DESCRIPTION:Shop from a book fair and enjoy a beer while you’re there.
URL:https://statelinekids.com/event/boozy-book-fair-2/
LOCATION:Pig Minds Brewing\, 4080 Steele Dr.\, Machesney Park\, IL\, United States
CATEGORIES:Machesney Park
END:VEVENT
BEGIN:VEVENT
DTSTART;TZID=America/Chicago:20240925T180000
DTEND;TZID=America/Chicago:20240925T200000
DTSTAMP:20260421T000402
CREATED:20240922T180746Z
LAST-MODIFIED:20240922T180746Z
UID:37785-1727287200-1727294400@statelinekids.com
SUMMARY:Pig Minds Puzzle Competition
DESCRIPTION:Sign up to compete in a puzzle competition. Register here.
URL:https://statelinekids.com/event/pig-minds-puzzle-competition/
LOCATION:Pig Minds Brewing\, 4080 Steele Dr.\, Machesney Park\, IL\, United States
CATEGORIES:Machesney Park
END:VEVENT
BEGIN:VEVENT
DTSTART;TZID=America/Chicago:20240921T120000
DTEND;TZID=America/Chicago:20240921T210000
DTSTAMP:20260421T000402
CREATED:20240915T180153Z
LAST-MODIFIED:20240915T180153Z
UID:37712-1726920000-1726952400@statelinekids.com
SUMMARY:Oktoberfest
DESCRIPTION:Enjoy food specials\, a stein-holding contest\, live music\, authentic German dancers\, and more.
URL:https://statelinekids.com/event/oktoberfest-3/
LOCATION:Pig Minds Brewing\, 4080 Steele Dr.\, Machesney Park\, IL\, United States
CATEGORIES:Machesney Park
END:VEVENT
BEGIN:VEVENT
DTSTART;TZID=America/Chicago:20240907T080000
DTEND;TZID=America/Chicago:20240907T140000
DTSTAMP:20260421T000402
CREATED:20240831T224735Z
LAST-MODIFIED:20240831T224735Z
UID:37465-1725696000-1725717600@statelinekids.com
SUMMARY:Cops\, Cars\, and K9’s Car Show
DESCRIPTION:Check out a car show with vendors!
URL:https://statelinekids.com/event/cops-cars-and-k9s-car-show-2/
LOCATION:Machesney Park Town Center\, 8750 North Second Street\, Machesney Park\, IL\, United States
CATEGORIES:Machesney Park
END:VEVENT
BEGIN:VEVENT
DTSTART;TZID=America/Chicago:20240629T160000
DTEND;TZID=America/Chicago:20240629T190000
DTSTAMP:20260421T000402
CREATED:20240623T220713Z
LAST-MODIFIED:20240623T220713Z
UID:36439-1719676800-1719687600@statelinekids.com
SUMMARY:Hot Rods and Hot Eats
DESCRIPTION:Enjoy over 250 vehicles and food trucks\, DJ\, a monster truck\, and fire truck.
URL:https://statelinekids.com/event/hot-rods-and-hot-eats-2/
LOCATION:Machesney Park Town Center\, 8750 North Second Street\, Machesney Park\, IL\, United States
CATEGORIES:Machesney Park
END:VEVENT
BEGIN:VEVENT
DTSTART;TZID=America/Chicago:20240629T110000
DTEND;TZID=America/Chicago:20240629T120000
DTSTAMP:20260421T000402
CREATED:20240623T193528Z
LAST-MODIFIED:20240623T193528Z
UID:36378-1719658800-1719662400@statelinekids.com
SUMMARY:Kids Pizza Making Class
DESCRIPTION:Kids can make their own pizza and soft drink and will receive chef accessories. Register here.
URL:https://statelinekids.com/event/kids-pizza-making-class/
LOCATION:Pig Minds Brewing\, 4080 Steele Dr.\, Machesney Park\, IL\, United States
CATEGORIES:Machesney Park
END:VEVENT
BEGIN:VEVENT
DTSTART;TZID=America/Chicago:20240526T120000
DTEND;TZID=America/Chicago:20240526T170000
DTSTAMP:20260421T000402
CREATED:20240518T205701Z
LAST-MODIFIED:20240518T205701Z
UID:35034-1716724800-1716742800@statelinekids.com
SUMMARY:Boozy Book Fair
DESCRIPTION:Shop from four local bookstores and various authors and purchase food and drink.
URL:https://statelinekids.com/event/boozy-book-fair/
LOCATION:Pig Minds Brewing\, 4080 Steele Dr.\, Machesney Park\, IL\, United States
CATEGORIES:Machesney Park
END:VEVENT
BEGIN:VEVENT
DTSTART;TZID=America/Chicago:20240427T160000
DTEND;TZID=America/Chicago:20240427T190000
DTSTAMP:20260421T000402
CREATED:20240421T164319Z
LAST-MODIFIED:20240421T164319Z
UID:34485-1714233600-1714244400@statelinekids.com
SUMMARY:Hot Rods and Hot Eats
DESCRIPTION:Check out cool cars and food from local food trucks including Bings Drive-in\, Ritchie’s Smokin’ BBQ\, J & C Old Fashioned Ice Cream\, Unicorn Fluff Cotton Candy and Treats\, Mario’s Tacos and Landing Grounds Coffee Company.
URL:https://statelinekids.com/event/hot-rods-and-hot-eats/
LOCATION:Machesney Park Town Center\, 8750 North Second Street\, Machesney Park\, IL\, United States
CATEGORIES:Machesney Park
END:VEVENT
BEGIN:VEVENT
DTSTART;TZID=America/Chicago:20240420T133000
DTEND;TZID=America/Chicago:20240420T143000
DTSTAMP:20260421T000402
CREATED:20240413T162323Z
LAST-MODIFIED:20240413T162323Z
UID:34376-1713619800-1713623400@statelinekids.com
SUMMARY:Free Family Concert with Jennifer Daniels
DESCRIPTION:Enjoy a concert from talented folk artist\, Jennifer Daniels\, who performs children’s music.
URL:https://statelinekids.com/event/free-family-concert-with-jennifer-daniels/
LOCATION:Harlem High School\, 1 Huskie Cir.\, Machesney Park\, IL\, United States
CATEGORIES:Machesney Park
END:VEVENT
BEGIN:VEVENT
DTSTART;TZID=America/Chicago:20240420T110000
DTEND;TZID=America/Chicago:20240420T150000
DTSTAMP:20260421T000402
CREATED:20240403T165146Z
LAST-MODIFIED:20240403T165146Z
UID:34229-1713610800-1713625200@statelinekids.com
SUMMARY:Building Strong Families Workshop
DESCRIPTION:Join Alt Wellness Therapies for a workshop on building strong families: the crucial C’s framework. At this workshop\, you will develop an understanding of emotional and developmental needs\, learn tools and strategies to help supplement your parenting skills\, and nurture your child’s strengths with purposeful parenting. \nContact Alt Wellness Therapies at 815-200-6444. Registration closes on April 12th.
URL:https://statelinekids.com/event/building-strong-families-workshop/
LOCATION:Alt Wellness Therapies\, 9950 N. Alpine Rd. #103\, Machesney Park\, IL\, United States
CATEGORIES:Machesney Park
END:VEVENT
BEGIN:VEVENT
DTSTART;TZID=America/Chicago:20240418T190000
DTEND;TZID=America/Chicago:20240418T201500
DTSTAMP:20260421T000402
CREATED:20240413T164147Z
LAST-MODIFIED:20240413T164147Z
UID:34388-1713466800-1713471300@statelinekids.com
SUMMARY:HMS Spring Musical: Finding Nemo Jr.
DESCRIPTION:Watch a youth performance of Finding Nemo Jr.
URL:https://statelinekids.com/event/hms-spring-musical-finding-nemo-jr/2024-04-18/
LOCATION:Harlem Middle School\, 735 Windsor Rd.\, Loves Park\, IL\, United States
CATEGORIES:Machesney Park
END:VEVENT
BEGIN:VEVENT
DTSTART;TZID=America/Chicago:20240322T180000
DTEND;TZID=America/Chicago:20240322T210000
DTSTAMP:20260421T000402
CREATED:20240228T225618Z
LAST-MODIFIED:20240228T225618Z
UID:33670-1711130400-1711141200@statelinekids.com
SUMMARY:11th Annual Easterseals Special Olympics Chili Cook-Off
DESCRIPTION:Everyone is welcome to come enjoy chili\, great raffles\, a free kids egg hunt\, and an adult egg hunt for $5. Raffle tickets are 1 for $1\, 6 for $5\, 15 for $10\, Big Mike’s arm length (46 tickets) for $20. A great time for a great cause.
URL:https://statelinekids.com/event/11th-annual-easterseals-special-olympics-chili-cook-off/
LOCATION:Easterseals Academy\, 8301 Mitchell Road\, Machesney Park\, IL\, United States
CATEGORIES:Machesney Park
END:VEVENT
BEGIN:VEVENT
DTSTART;TZID=America/Chicago:20240316T100000
DTEND;TZID=America/Chicago:20240316T170000
DTSTAMP:20260421T000402
CREATED:20240310T175941Z
LAST-MODIFIED:20240310T175941Z
UID:33778-1710583200-1710608400@statelinekids.com
SUMMARY:Rock River Valley Train Show
DESCRIPTION:Check out a large variety of trains on display\, new and used sales\, and door prizes. \nCost: $5 per person / free for kids (cash only)
URL:https://statelinekids.com/event/rock-river-valley-train-show/2024-03-16/
LOCATION:Harlem High School\, 1 Huskie Cir.\, Machesney Park\, IL\, United States
CATEGORIES:Machesney Park
END:VEVENT
END:VCALENDAR