BEGIN:VCALENDAR
VERSION:2.0
PRODID:-//Stateline Kids - ECPv6.5.1.3//NONSGML v1.0//EN
CALSCALE:GREGORIAN
METHOD:PUBLISH
X-ORIGINAL-URL:https://statelinekids.com
X-WR-CALDESC:Events for Stateline Kids
REFRESH-INTERVAL;VALUE=DURATION:PT1H
X-Robots-Tag:noindex
X-PUBLISHED-TTL:PT1H
BEGIN:VTIMEZONE
TZID:America/Chicago
BEGIN:DAYLIGHT
TZOFFSETFROM:-0600
TZOFFSETTO:-0500
TZNAME:CDT
DTSTART:20210314T080000
END:DAYLIGHT
BEGIN:STANDARD
TZOFFSETFROM:-0500
TZOFFSETTO:-0600
TZNAME:CST
DTSTART:20211107T070000
END:STANDARD
END:VTIMEZONE
BEGIN:VEVENT
DTSTART;TZID=America/Chicago:20211209T170000
DTEND;TZID=America/Chicago:20211209T210000
DTSTAMP:20260421T025556
CREATED:20211205T220858Z
LAST-MODIFIED:20211205T220858Z
UID:18522-1639069200-1639083600@statelinekids.com
SUMMARY:There’s Something About Merry Holiday Artisan Market
DESCRIPTION:Shop from over 40 local artists selling jewelry\, woodcraft\, pottery\, fiber\, fine arts and more.
URL:https://statelinekids.com/event/theres-something-about-merry-holiday-artisan-market/2021-12-09/
LOCATION:Womanspace of Rockford\, 3333 Maria Linden Rd\, Rockford\, IL\, United States
CATEGORIES:Rockford
END:VEVENT
END:VCALENDAR