BEGIN:VCALENDAR
VERSION:2.0
PRODID:-//Stateline Kids - ECPv6.5.1.3//NONSGML v1.0//EN
CALSCALE:GREGORIAN
METHOD:PUBLISH
X-ORIGINAL-URL:https://statelinekids.com
X-WR-CALDESC:Events for Stateline Kids
REFRESH-INTERVAL;VALUE=DURATION:PT1H
X-Robots-Tag:noindex
X-PUBLISHED-TTL:PT1H
BEGIN:VTIMEZONE
TZID:America/Chicago
BEGIN:DAYLIGHT
TZOFFSETFROM:-0600
TZOFFSETTO:-0500
TZNAME:CDT
DTSTART:20210314T080000
END:DAYLIGHT
BEGIN:STANDARD
TZOFFSETFROM:-0500
TZOFFSETTO:-0600
TZNAME:CST
DTSTART:20211107T070000
END:STANDARD
END:VTIMEZONE
BEGIN:VEVENT
DTSTART;TZID=America/Chicago:20210323T090000
DTEND;TZID=America/Chicago:20210323T150000
DTSTAMP:20260424T062837
CREATED:20210113T151149Z
LAST-MODIFIED:20220417T203101Z
UID:14546-1616490000-1616511600@statelinekids.com
SUMMARY:Spring Break One Day Camps at Angelic Organics Learning Center
DESCRIPTION:Help your kids take a spring break from screens by signing them up for a day on the farm.  They will learn about and care for the animals\, explore and relax in the unique and beautiful farm spaces\, play outdoor games and make nature inspired crafts with new friends.  Each day features a new adventure!\nDay camp takes place outside and campers will need to dress for the weather and in clothes they don’t mind getting dirty.  Please inquire about financial assistance by emailing programs@learngrowconnect.org\n\nRegister here
URL:https://statelinekids.com/event/spring-break-one-day-camps-at-angelic-organics-learning-center/2021-03-23/
CATEGORIES:Caledonia
ATTACH;FMTTYPE=image/jpeg:https://statelinekids.com/wp-content/uploads/2021/01/47684489771_311774372a_o.jpeg
END:VEVENT
END:VCALENDAR