BEGIN:VCALENDAR
VERSION:2.0
PRODID:-//Stateline Kids - ECPv6.5.1.3//NONSGML v1.0//EN
CALSCALE:GREGORIAN
METHOD:PUBLISH
X-ORIGINAL-URL:https://statelinekids.com
X-WR-CALDESC:Events for Stateline Kids
REFRESH-INTERVAL;VALUE=DURATION:PT1H
X-Robots-Tag:noindex
X-PUBLISHED-TTL:PT1H
BEGIN:VTIMEZONE
TZID:America/Chicago
BEGIN:DAYLIGHT
TZOFFSETFROM:-0600
TZOFFSETTO:-0500
TZNAME:CDT
DTSTART:20250309T080000
END:DAYLIGHT
BEGIN:STANDARD
TZOFFSETFROM:-0500
TZOFFSETTO:-0600
TZNAME:CST
DTSTART:20251102T070000
END:STANDARD
END:VTIMEZONE
BEGIN:VEVENT
DTSTART;TZID=America/Chicago:20250119T100000
DTEND;TZID=America/Chicago:20250119T160000
DTSTAMP:20260420T164504
CREATED:20250112T180933Z
LAST-MODIFIED:20250112T180933Z
UID:39268-1737280800-1737302400@statelinekids.com
SUMMARY:RV\, Camping\, and Travel Show
DESCRIPTION:Learn about the latest in RVs and camping and see some free entertainment from magician Johnny Silver as well as animal shows. See the schedule here. \nCost: $8 per adult / free for kids under 12
URL:https://statelinekids.com/event/rv-camping-and-travel-show-3/2025-01-19/
LOCATION:Indoor Sports Center\, 8800 E Riverside Blvd\, Loves Park\, IL\, United States
CATEGORIES:Loves Park
END:VEVENT
BEGIN:VEVENT
DTSTART;TZID=America/Chicago:20250118T100000
DTEND;TZID=America/Chicago:20250118T200000
DTSTAMP:20260420T164504
CREATED:20250112T180933Z
LAST-MODIFIED:20250112T180933Z
UID:39267-1737194400-1737230400@statelinekids.com
SUMMARY:RV\, Camping\, and Travel Show
DESCRIPTION:Learn about the latest in RVs and camping and see some free entertainment from magician Johnny Silver as well as animal shows. See the schedule here. \nCost: $8 per adult / free for kids under 12
URL:https://statelinekids.com/event/rv-camping-and-travel-show-3/2025-01-18/
LOCATION:Indoor Sports Center\, 8800 E Riverside Blvd\, Loves Park\, IL\, United States
CATEGORIES:Loves Park
END:VEVENT
BEGIN:VEVENT
DTSTART;TZID=America/Chicago:20250117T140000
DTEND;TZID=America/Chicago:20250117T200000
DTSTAMP:20260420T164504
CREATED:20250112T180933Z
LAST-MODIFIED:20250112T180933Z
UID:39265-1737122400-1737144000@statelinekids.com
SUMMARY:RV\, Camping\, and Travel Show
DESCRIPTION:Learn about the latest in RVs and camping and see some free entertainment from magician Johnny Silver as well as animal shows. See the schedule here. \nCost: $8 per adult / free for kids under 12
URL:https://statelinekids.com/event/rv-camping-and-travel-show-3/2025-01-17/
LOCATION:Indoor Sports Center\, 8800 E Riverside Blvd\, Loves Park\, IL\, United States
CATEGORIES:Loves Park
END:VEVENT
END:VCALENDAR