BEGIN:VCALENDAR
VERSION:2.0
PRODID:-//Stateline Kids - ECPv6.5.1.3//NONSGML v1.0//EN
CALSCALE:GREGORIAN
METHOD:PUBLISH
X-WR-CALNAME:Stateline Kids
X-ORIGINAL-URL:https://statelinekids.com
X-WR-CALDESC:Events for Stateline Kids
REFRESH-INTERVAL;VALUE=DURATION:PT1H
X-Robots-Tag:noindex
X-PUBLISHED-TTL:PT1H
BEGIN:VTIMEZONE
TZID:America/Chicago
BEGIN:DAYLIGHT
TZOFFSETFROM:-0600
TZOFFSETTO:-0500
TZNAME:CDT
DTSTART:20230312T080000
END:DAYLIGHT
BEGIN:STANDARD
TZOFFSETFROM:-0500
TZOFFSETTO:-0600
TZNAME:CST
DTSTART:20231105T070000
END:STANDARD
BEGIN:DAYLIGHT
TZOFFSETFROM:-0600
TZOFFSETTO:-0500
TZNAME:CDT
DTSTART:20240310T080000
END:DAYLIGHT
BEGIN:STANDARD
TZOFFSETFROM:-0500
TZOFFSETTO:-0600
TZNAME:CST
DTSTART:20241103T070000
END:STANDARD
END:VTIMEZONE
BEGIN:VEVENT
DTSTART;TZID=America/Chicago:20240428T130000
DTEND;TZID=America/Chicago:20240428T150000
DTSTAMP:20260421T181323
CREATED:20230924T192539Z
LAST-MODIFIED:20230924T193315Z
UID:30879-1714309200-1714316400@statelinekids.com
SUMMARY:Rocky’s Rockin’ Family Skate
DESCRIPTION:Kids 12 and younger can ice skate and play in Sapora for $10 per person. There will be disco lights\, appearances by Rocky the Bear\, and food specials available.
URL:https://statelinekids.com/event/rockys-rockin-family-skate-2/2024-04-28/
LOCATION:Carlson Ice Arena\, 4150 N Perryville Rd\, Loves Park\, IL\, United States
CATEGORIES:Loves Park
END:VEVENT
BEGIN:VEVENT
DTSTART;TZID=America/Chicago:20240421T130000
DTEND;TZID=America/Chicago:20240421T150000
DTSTAMP:20260421T181323
CREATED:20230924T192539Z
LAST-MODIFIED:20230924T193315Z
UID:30878-1713704400-1713711600@statelinekids.com
SUMMARY:Rocky’s Rockin’ Family Skate
DESCRIPTION:Kids 12 and younger can ice skate and play in Sapora for $10 per person. There will be disco lights\, appearances by Rocky the Bear\, and food specials available.
URL:https://statelinekids.com/event/rockys-rockin-family-skate-2/2024-04-21/
LOCATION:Carlson Ice Arena\, 4150 N Perryville Rd\, Loves Park\, IL\, United States
CATEGORIES:Loves Park
END:VEVENT
BEGIN:VEVENT
DTSTART;TZID=America/Chicago:20231001T130000
DTEND;TZID=America/Chicago:20231001T150000
DTSTAMP:20260421T181323
CREATED:20230924T192539Z
LAST-MODIFIED:20230924T193301Z
UID:30848-1696165200-1696172400@statelinekids.com
SUMMARY:Rocky’s Rockin’ Family Skate
DESCRIPTION:Kids 12 and younger can ice skate and play in Sapora for $10 per person. There will be disco lights\, appearances by Rocky the Bear\, and food specials available.
URL:https://statelinekids.com/event/rockys-rockin-family-skate-2/2023-10-01/
LOCATION:Carlson Ice Arena\, 4150 N Perryville Rd\, Loves Park\, IL\, United States
CATEGORIES:Loves Park
END:VEVENT
END:VCALENDAR