BEGIN:VCALENDAR
VERSION:2.0
PRODID:-//Stateline Kids - ECPv6.5.1.3//NONSGML v1.0//EN
CALSCALE:GREGORIAN
METHOD:PUBLISH
X-WR-CALNAME:Stateline Kids
X-ORIGINAL-URL:https://statelinekids.com
X-WR-CALDESC:Events for Stateline Kids
REFRESH-INTERVAL;VALUE=DURATION:PT1H
X-Robots-Tag:noindex
X-PUBLISHED-TTL:PT1H
BEGIN:VTIMEZONE
TZID:America/Chicago
BEGIN:DAYLIGHT
TZOFFSETFROM:-0600
TZOFFSETTO:-0500
TZNAME:CDT
DTSTART:20250309T080000
END:DAYLIGHT
BEGIN:STANDARD
TZOFFSETFROM:-0500
TZOFFSETTO:-0600
TZNAME:CST
DTSTART:20251102T070000
END:STANDARD
END:VTIMEZONE
BEGIN:VEVENT
DTSTART;TZID=America/Chicago:20250330T100000
DTEND;TZID=America/Chicago:20250330T150000
DTSTAMP:20260423T063931
CREATED:20250323T183934Z
LAST-MODIFIED:20250323T183934Z
UID:39985-1743328800-1743346800@statelinekids.com
SUMMARY:Rock River Valley Train Show
DESCRIPTION:Check out the biggest train show in the area with operating layouts\, vendors selling trains\, and more. \nCost: $5 per person / kids free under 13 \n 
URL:https://statelinekids.com/event/rock-river-valley-train-show-2/2025-03-30/
LOCATION:Harlem High School\, 1 Huskie Cir.\, Machesney Park\, IL\, United States
CATEGORIES:Machesney Park
END:VEVENT
BEGIN:VEVENT
DTSTART;TZID=America/Chicago:20250329T100000
DTEND;TZID=America/Chicago:20250329T170000
DTSTAMP:20260423T063931
CREATED:20250323T183934Z
LAST-MODIFIED:20250323T183934Z
UID:39983-1743242400-1743267600@statelinekids.com
SUMMARY:Rock River Valley Train Show
DESCRIPTION:Check out the biggest train show in the area with operating layouts\, vendors selling trains\, and more. \nCost: $5 per person / kids free under 13 \n 
URL:https://statelinekids.com/event/rock-river-valley-train-show-2/2025-03-29/
LOCATION:Harlem High School\, 1 Huskie Cir.\, Machesney Park\, IL\, United States
CATEGORIES:Machesney Park
END:VEVENT
END:VCALENDAR