BEGIN:VCALENDAR
VERSION:2.0
PRODID:-//Stateline Kids - ECPv6.5.1.3//NONSGML v1.0//EN
CALSCALE:GREGORIAN
METHOD:PUBLISH
X-ORIGINAL-URL:https://statelinekids.com
X-WR-CALDESC:Events for Stateline Kids
REFRESH-INTERVAL;VALUE=DURATION:PT1H
X-Robots-Tag:noindex
X-PUBLISHED-TTL:PT1H
BEGIN:VTIMEZONE
TZID:America/Chicago
BEGIN:DAYLIGHT
TZOFFSETFROM:-0600
TZOFFSETTO:-0500
TZNAME:CDT
DTSTART:20240310T080000
END:DAYLIGHT
BEGIN:STANDARD
TZOFFSETFROM:-0500
TZOFFSETTO:-0600
TZNAME:CST
DTSTART:20241103T070000
END:STANDARD
END:VTIMEZONE
BEGIN:VEVENT
DTSTART;TZID=America/Chicago:20240223T121500
DTEND;TZID=America/Chicago:20240223T131500
DTSTAMP:20260423T042301
CREATED:20240218T193230Z
LAST-MODIFIED:20240218T193230Z
UID:33498-1708690500-1708694100@statelinekids.com
SUMMARY:Public Skate
DESCRIPTION:People of all ages can enjoy ice skating together. \nCost: $7 per person / $3 per skate rental / $25 per family
URL:https://statelinekids.com/event/public-skate-9/2024-02-23/
LOCATION:Janesville Ice Arena\, 821 Beloit Ave\, Janesville\, WI\, United States
CATEGORIES:Janesville
END:VEVENT
END:VCALENDAR