BEGIN:VCALENDAR
VERSION:2.0
PRODID:-//Stateline Kids - ECPv6.5.1.3//NONSGML v1.0//EN
CALSCALE:GREGORIAN
METHOD:PUBLISH
X-WR-CALNAME:Stateline Kids
X-ORIGINAL-URL:https://statelinekids.com
X-WR-CALDESC:Events for Stateline Kids
REFRESH-INTERVAL;VALUE=DURATION:PT1H
X-Robots-Tag:noindex
X-PUBLISHED-TTL:PT1H
BEGIN:VTIMEZONE
TZID:America/Chicago
BEGIN:DAYLIGHT
TZOFFSETFROM:-0600
TZOFFSETTO:-0500
TZNAME:CDT
DTSTART:20230312T080000
END:DAYLIGHT
BEGIN:STANDARD
TZOFFSETFROM:-0500
TZOFFSETTO:-0600
TZNAME:CST
DTSTART:20231105T070000
END:STANDARD
END:VTIMEZONE
BEGIN:VEVENT
DTSTART;TZID=America/Chicago:20231103T194500
DTEND;TZID=America/Chicago:20231103T211500
DTSTAMP:20260423T020610
CREATED:20231028T234406Z
LAST-MODIFIED:20231028T234406Z
UID:31693-1699040700-1699046100@statelinekids.com
SUMMARY:Public Skate
DESCRIPTION:Families can go ice skating and enjoy time together. \nCost: $6 per kid / $7 per adult / $2 for skate rental / $24 per family
URL:https://statelinekids.com/event/public-skate-6/2023-11-03/
LOCATION:Janesville Ice Arena\, 821 Beloit Ave\, Janesville\, WI\, United States
CATEGORIES:Janesville
END:VEVENT
END:VCALENDAR