BEGIN:VCALENDAR
VERSION:2.0
PRODID:-//Stateline Kids - ECPv6.5.1.3//NONSGML v1.0//EN
CALSCALE:GREGORIAN
METHOD:PUBLISH
X-ORIGINAL-URL:https://statelinekids.com
X-WR-CALDESC:Events for Stateline Kids
REFRESH-INTERVAL;VALUE=DURATION:PT1H
X-Robots-Tag:noindex
X-PUBLISHED-TTL:PT1H
BEGIN:VTIMEZONE
TZID:America/Chicago
BEGIN:DAYLIGHT
TZOFFSETFROM:-0600
TZOFFSETTO:-0500
TZNAME:CDT
DTSTART:20230312T080000
END:DAYLIGHT
BEGIN:STANDARD
TZOFFSETFROM:-0500
TZOFFSETTO:-0600
TZNAME:CST
DTSTART:20231105T070000
END:STANDARD
END:VTIMEZONE
BEGIN:VEVENT
DTSTART;TZID=America/Chicago:20230421T120000
DTEND;TZID=America/Chicago:20230421T160000
DTSTAMP:20260423T123214
CREATED:20230408T190307Z
LAST-MODIFIED:20230408T190307Z
UID:27374-1682078400-1682092800@statelinekids.com
SUMMARY:Oak Sapling Giveaway
DESCRIPTION:Pick up a free bare-root oak or hickory sapling to take home and plant. There will be red oak\, burr oak\, white oak\, and hickory saplings and you can take up to three per household. Saplings will be available while supplies last. Don’t forget to walk around Nature at the Confluence while you’re there.
URL:https://statelinekids.com/event/oak-sapling-giveaway/2023-04-21/
LOCATION:Nature At the Confluence\, 306 Dickop St\, South Beloit\, IL\, United States
CATEGORIES:South Beloit
END:VEVENT
END:VCALENDAR