BEGIN:VCALENDAR
VERSION:2.0
PRODID:-//Stateline Kids - ECPv6.5.1.3//NONSGML v1.0//EN
CALSCALE:GREGORIAN
METHOD:PUBLISH
X-ORIGINAL-URL:https://statelinekids.com
X-WR-CALDESC:Events for Stateline Kids
REFRESH-INTERVAL;VALUE=DURATION:PT1H
X-Robots-Tag:noindex
X-PUBLISHED-TTL:PT1H
BEGIN:VTIMEZONE
TZID:America/Chicago
BEGIN:DAYLIGHT
TZOFFSETFROM:-0600
TZOFFSETTO:-0500
TZNAME:CDT
DTSTART:20240310T080000
END:DAYLIGHT
BEGIN:STANDARD
TZOFFSETFROM:-0500
TZOFFSETTO:-0600
TZNAME:CST
DTSTART:20241103T070000
END:STANDARD
END:VTIMEZONE
BEGIN:VEVENT
DTSTART;TZID=America/Chicago:20240929T100000
DTEND;TZID=America/Chicago:20240929T160000
DTSTAMP:20260423T123551
CREATED:20240922T180052Z
LAST-MODIFIED:20240922T180052Z
UID:37780-1727604000-1727625600@statelinekids.com
SUMMARY:National Alpaca Days
DESCRIPTION:Celebrate National Alpaca Days by meeting the alpacas\, learning about them\, going shopping\, entering a coloring contest\, and doing a craft at 12 pm and 2 pm for $5 each.
URL:https://statelinekids.com/event/national-alpaca-days-2/2024-09-29/
LOCATION:Alpaca Pines Farm\, 21756 Beaverton Rd\, Poplar Grove\, IL\, United States
CATEGORIES:Poplar Grove
END:VEVENT
BEGIN:VEVENT
DTSTART;TZID=America/Chicago:20240928T100000
DTEND;TZID=America/Chicago:20240928T160000
DTSTAMP:20260423T123551
CREATED:20240922T180052Z
LAST-MODIFIED:20240922T180052Z
UID:37778-1727517600-1727539200@statelinekids.com
SUMMARY:National Alpaca Days
DESCRIPTION:Celebrate National Alpaca Days by meeting the alpacas\, learning about them\, going shopping\, entering a coloring contest\, and doing a craft at 12 pm and 2 pm for $5 each.
URL:https://statelinekids.com/event/national-alpaca-days-2/2024-09-28/
LOCATION:Alpaca Pines Farm\, 21756 Beaverton Rd\, Poplar Grove\, IL\, United States
CATEGORIES:Poplar Grove
END:VEVENT
END:VCALENDAR