BEGIN:VCALENDAR
VERSION:2.0
PRODID:-//Stateline Kids - ECPv6.5.1.3//NONSGML v1.0//EN
CALSCALE:GREGORIAN
METHOD:PUBLISH
X-ORIGINAL-URL:https://statelinekids.com
X-WR-CALDESC:Events for Stateline Kids
REFRESH-INTERVAL;VALUE=DURATION:PT1H
X-Robots-Tag:noindex
X-PUBLISHED-TTL:PT1H
BEGIN:VTIMEZONE
TZID:America/Chicago
BEGIN:DAYLIGHT
TZOFFSETFROM:-0600
TZOFFSETTO:-0500
TZNAME:CDT
DTSTART:20220313T080000
END:DAYLIGHT
BEGIN:STANDARD
TZOFFSETFROM:-0500
TZOFFSETTO:-0600
TZNAME:CST
DTSTART:20221106T070000
END:STANDARD
END:VTIMEZONE
BEGIN:VEVENT
DTSTART;TZID=America/Chicago:20220321T100000
DTEND;TZID=America/Chicago:20220321T140000
DTSTAMP:20260423T080727
CREATED:20220224T194012Z
LAST-MODIFIED:20220224T194012Z
UID:19261-1647856800-1647871200@statelinekids.com
SUMMARY:Kid's Art and Yoga Camp (Spring Break Camp)
DESCRIPTION:Enjoy a fun\, Spring Break art & yoga camp! \nKids ages 6 and up will begin each day with time for meditation and body awareness followed by yoga with Rhiannon Yandell\, 317 Art Collective Resident Artist\, registered yoga teacher\, and owner of Sacred Peace Theory \nThey will do a variety of painting\, drawing\, and other art projects over the course of the 5 days. They will have different artists teaching different disciplines including Laura Gomel of SmARTy Pants Rockford\, Nicole Landreth\, 317 Resident Artist and Owner of Art Life Sunshine\, and more! \nCamp dates are March 21st\, 22nd\, 23rd\, 24th\, and 25th from 10 AM – 2 PM.  The price for each child is $240 for 5 days or $144 for 3 days and includes all props and materials needed as well as snacks and drinks. Campers will provide their own cold lunch.  A minimum of 4 campers needed to run the camp. 12 kids maximum. \nThey will send a form for additional information about your child(ren) prior to the camp.
URL:https://statelinekids.com/event/kids-art-and-yoga-camp-spring-break-camp/2022-03-21/
LOCATION:317 Art Collective\, 317 Market St.\, Rockford\, IL\, United States
CATEGORIES:Rockford
END:VEVENT
END:VCALENDAR