BEGIN:VCALENDAR
VERSION:2.0
PRODID:-//Stateline Kids - ECPv6.5.1.3//NONSGML v1.0//EN
CALSCALE:GREGORIAN
METHOD:PUBLISH
X-WR-CALNAME:Stateline Kids
X-ORIGINAL-URL:https://statelinekids.com
X-WR-CALDESC:Events for Stateline Kids
REFRESH-INTERVAL;VALUE=DURATION:PT1H
X-Robots-Tag:noindex
X-PUBLISHED-TTL:PT1H
BEGIN:VTIMEZONE
TZID:America/Chicago
BEGIN:DAYLIGHT
TZOFFSETFROM:-0600
TZOFFSETTO:-0500
TZNAME:CDT
DTSTART:20210314T080000
END:DAYLIGHT
BEGIN:STANDARD
TZOFFSETFROM:-0500
TZOFFSETTO:-0600
TZNAME:CST
DTSTART:20211107T070000
END:STANDARD
END:VTIMEZONE
BEGIN:VEVENT
DTSTART;TZID=America/Chicago:20211112T183000
DTEND;TZID=America/Chicago:20211112T203000
DTSTAMP:20260420T011417
CREATED:20211106T190150Z
LAST-MODIFIED:20211106T190150Z
UID:18167-1636741800-1636749000@statelinekids.com
SUMMARY:KFAD Fall Production (We Are Monsters & Into the Woods Jr.)
DESCRIPTION:Watch Kids Fun and Drama perform an original musical We Are Monsters and Into the Woods Jr. Get tickets here. \nCost: $12 per adult / $10 per student & senior
URL:https://statelinekids.com/event/kfad-fall-production-we-are-monsters-into-the-woods-jr/2021-11-12/
LOCATION:Central Christian Church\, 2460 Milwaukee Rd\, Beloit\, WI\, United States
CATEGORIES:Beloit
END:VEVENT
END:VCALENDAR