BEGIN:VCALENDAR
VERSION:2.0
PRODID:-//Stateline Kids - ECPv6.5.1.3//NONSGML v1.0//EN
CALSCALE:GREGORIAN
METHOD:PUBLISH
X-ORIGINAL-URL:https://statelinekids.com
X-WR-CALDESC:Events for Stateline Kids
REFRESH-INTERVAL;VALUE=DURATION:PT1H
X-Robots-Tag:noindex
X-PUBLISHED-TTL:PT1H
BEGIN:VTIMEZONE
TZID:America/Chicago
BEGIN:DAYLIGHT
TZOFFSETFROM:-0600
TZOFFSETTO:-0500
TZNAME:CDT
DTSTART:20250309T080000
END:DAYLIGHT
BEGIN:STANDARD
TZOFFSETFROM:-0500
TZOFFSETTO:-0600
TZNAME:CST
DTSTART:20251102T070000
END:STANDARD
END:VTIMEZONE
BEGIN:VEVENT
DTSTART;TZID=America/Chicago:20250326T180000
DTEND;TZID=America/Chicago:20250326T200000
DTSTAMP:20260422T134620
CREATED:20250310T172514Z
LAST-MODIFIED:20250310T172514Z
UID:39864-1743012000-1743019200@statelinekids.com
SUMMARY:Jr. WNBA
DESCRIPTION:The WNBA and NBA recognize the valuable role sports can play in the development of young girls and the advancement of women as leaders in society. This national initiative is dedicated to championing change on behalf of girls and women. It aims to help all females participate fully across all sectors\, giving them a forum to connect\, collaborate\, and actively engage with basketball and celebrate their achievements. Coaches will instruct this three-day series\, focusing on the different skills it takes to become a successful basketball player. \nEach girl will participate in high-level skills\, drills\, and competitive play\, and will receive a t-shirt\, headband\, and wristband. \nThis camp is FREE for girls ages 7-13. \nRegister here.
URL:https://statelinekids.com/event/jr-wnba/2025-03-26/
LOCATION:UW Health Sports Factory\, 305 S. Madison Street\, Rockford\, IL\, United States
CATEGORIES:Rockford
ATTACH;FMTTYPE=image/jpeg:https://statelinekids.com/wp-content/uploads/2025/03/Bball.jpg
END:VEVENT
BEGIN:VEVENT
DTSTART;TZID=America/Chicago:20250325T180000
DTEND;TZID=America/Chicago:20250325T200000
DTSTAMP:20260422T134620
CREATED:20250310T172514Z
LAST-MODIFIED:20250310T172514Z
UID:39863-1742925600-1742932800@statelinekids.com
SUMMARY:Jr. WNBA
DESCRIPTION:The WNBA and NBA recognize the valuable role sports can play in the development of young girls and the advancement of women as leaders in society. This national initiative is dedicated to championing change on behalf of girls and women. It aims to help all females participate fully across all sectors\, giving them a forum to connect\, collaborate\, and actively engage with basketball and celebrate their achievements. Coaches will instruct this three-day series\, focusing on the different skills it takes to become a successful basketball player. \nEach girl will participate in high-level skills\, drills\, and competitive play\, and will receive a t-shirt\, headband\, and wristband. \nThis camp is FREE for girls ages 7-13. \nRegister here.
URL:https://statelinekids.com/event/jr-wnba/2025-03-25/
LOCATION:UW Health Sports Factory\, 305 S. Madison Street\, Rockford\, IL\, United States
CATEGORIES:Rockford
ATTACH;FMTTYPE=image/jpeg:https://statelinekids.com/wp-content/uploads/2025/03/Bball.jpg
END:VEVENT
BEGIN:VEVENT
DTSTART;TZID=America/Chicago:20250324T180000
DTEND;TZID=America/Chicago:20250324T200000
DTSTAMP:20260422T134620
CREATED:20250310T172514Z
LAST-MODIFIED:20250310T172515Z
UID:39860-1742839200-1742846400@statelinekids.com
SUMMARY:Jr. WNBA
DESCRIPTION:The WNBA and NBA recognize the valuable role sports can play in the development of young girls and the advancement of women as leaders in society. This national initiative is dedicated to championing change on behalf of girls and women. It aims to help all females participate fully across all sectors\, giving them a forum to connect\, collaborate\, and actively engage with basketball and celebrate their achievements. Coaches will instruct this three-day series\, focusing on the different skills it takes to become a successful basketball player. \nEach girl will participate in high-level skills\, drills\, and competitive play\, and will receive a t-shirt\, headband\, and wristband. \nThis camp is FREE for girls ages 7-13. \nRegister here.
URL:https://statelinekids.com/event/jr-wnba/2025-03-24/
LOCATION:UW Health Sports Factory\, 305 S. Madison Street\, Rockford\, IL\, United States
CATEGORIES:Rockford
ATTACH;FMTTYPE=image/jpeg:https://statelinekids.com/wp-content/uploads/2025/03/Bball.jpg
END:VEVENT
END:VCALENDAR