BEGIN:VCALENDAR
VERSION:2.0
PRODID:-//Stateline Kids - ECPv6.5.1.3//NONSGML v1.0//EN
CALSCALE:GREGORIAN
METHOD:PUBLISH
X-ORIGINAL-URL:https://statelinekids.com
X-WR-CALDESC:Events for Stateline Kids
REFRESH-INTERVAL;VALUE=DURATION:PT1H
X-Robots-Tag:noindex
X-PUBLISHED-TTL:PT1H
BEGIN:VTIMEZONE
TZID:America/Chicago
BEGIN:DAYLIGHT
TZOFFSETFROM:-0600
TZOFFSETTO:-0500
TZNAME:CDT
DTSTART:20230312T080000
END:DAYLIGHT
BEGIN:STANDARD
TZOFFSETFROM:-0500
TZOFFSETTO:-0600
TZNAME:CST
DTSTART:20231105T070000
END:STANDARD
END:VTIMEZONE
BEGIN:VEVENT
DTSTART;TZID=America/Chicago:20230316T100000
DTEND;TZID=America/Chicago:20230316T113000
DTSTAMP:20260419T194254
CREATED:20230311T194912Z
LAST-MODIFIED:20230311T194912Z
UID:26915-1678960800-1678966200@statelinekids.com
SUMMARY:Homeschool Program: Spring and Phenology
DESCRIPTION:Kids ages 5-8 and 9 -12 can learn about the signs of Spring and look for them in the park. Register here. \nCost: $10 per member / $15 per general admission
URL:https://statelinekids.com/event/homeschool-program-spring-and-phenology/2023-03-16/
LOCATION:Severson Dells Nature Center\, 8786 Montague Rd\, Rockford\, IL\, United States
CATEGORIES:Rockford
ATTACH;FMTTYPE=image/jpeg:https://statelinekids.com/wp-content/uploads/2023/03/Homeschool-Severson.jpeg
END:VEVENT
END:VCALENDAR