BEGIN:VCALENDAR
VERSION:2.0
PRODID:-//Stateline Kids - ECPv6.5.1.3//NONSGML v1.0//EN
CALSCALE:GREGORIAN
METHOD:PUBLISH
X-ORIGINAL-URL:https://statelinekids.com
X-WR-CALDESC:Events for Stateline Kids
REFRESH-INTERVAL;VALUE=DURATION:PT1H
X-Robots-Tag:noindex
X-PUBLISHED-TTL:PT1H
BEGIN:VTIMEZONE
TZID:America/Chicago
BEGIN:DAYLIGHT
TZOFFSETFROM:-0600
TZOFFSETTO:-0500
TZNAME:CDT
DTSTART:20220313T080000
END:DAYLIGHT
BEGIN:STANDARD
TZOFFSETFROM:-0500
TZOFFSETTO:-0600
TZNAME:CST
DTSTART:20221106T070000
END:STANDARD
END:VTIMEZONE
BEGIN:VEVENT
DTSTART;TZID=America/Chicago:20220217T100000
DTEND;TZID=America/Chicago:20220217T113000
DTSTAMP:20260421T100920
CREATED:20220213T170710Z
LAST-MODIFIED:20220213T170710Z
UID:19191-1645092000-1645097400@statelinekids.com
SUMMARY:Homeschool Program: Birds of a Feather
DESCRIPTION:Learn about what makes bird species unique and spend time watching birds at the feeders. Class for 6-9 years is at 10 am\, class for 10-13 years old is at 1 pm. Register here.
URL:https://statelinekids.com/event/homeschool-program-birds-of-a-feather/2022-02-17/
LOCATION:Severson Dells Nature Center\, 8786 Montague Rd\, Rockford\, IL\, United States
CATEGORIES:Rockford
END:VEVENT
END:VCALENDAR