BEGIN:VCALENDAR
VERSION:2.0
PRODID:-//Stateline Kids - ECPv6.5.1.3//NONSGML v1.0//EN
CALSCALE:GREGORIAN
METHOD:PUBLISH
X-WR-CALNAME:Stateline Kids
X-ORIGINAL-URL:https://statelinekids.com
X-WR-CALDESC:Events for Stateline Kids
REFRESH-INTERVAL;VALUE=DURATION:PT1H
X-Robots-Tag:noindex
X-PUBLISHED-TTL:PT1H
BEGIN:VTIMEZONE
TZID:America/Chicago
BEGIN:DAYLIGHT
TZOFFSETFROM:-0600
TZOFFSETTO:-0500
TZNAME:CDT
DTSTART:20240310T080000
END:DAYLIGHT
BEGIN:STANDARD
TZOFFSETFROM:-0500
TZOFFSETTO:-0600
TZNAME:CST
DTSTART:20241103T070000
END:STANDARD
END:VTIMEZONE
BEGIN:VEVENT
DTSTART;TZID=America/Chicago:20240907T193000
DTEND;TZID=America/Chicago:20240907T213000
DTSTAMP:20260425T115249
CREATED:20240831T224511Z
LAST-MODIFIED:20240831T224511Z
UID:37463-1725737400-1725744600@statelinekids.com
SUMMARY:Great Northern Illinois Pro Rodeo and Bull Riding
DESCRIPTION:Enjoy a full rodeo with bull riding\, bronc riding\, tie-down roping\, team roping\, breakaway roping\, steer wrestling\, barrel racing and more. Get tickets here. \nCost: $25 per person / $15 per kid ages 5-11 in advance add $5-10 at the gate
URL:https://statelinekids.com/event/great-northern-illinois-pro-rodeo-and-bull-riding/2024-09-07/
LOCATION:Boone County Fairgrounds\, 8791 IL-76\, Belvidere\, IL\, United States
CATEGORIES:Belvidere
END:VEVENT
BEGIN:VEVENT
DTSTART;TZID=America/Chicago:20240906T193000
DTEND;TZID=America/Chicago:20240906T213000
DTSTAMP:20260425T115249
CREATED:20240831T224511Z
LAST-MODIFIED:20240831T224511Z
UID:37461-1725651000-1725658200@statelinekids.com
SUMMARY:Great Northern Illinois Pro Rodeo and Bull Riding
DESCRIPTION:Enjoy a full rodeo with bull riding\, bronc riding\, tie-down roping\, team roping\, breakaway roping\, steer wrestling\, barrel racing and more. Get tickets here. \nCost: $25 per person / $15 per kid ages 5-11 in advance add $5-10 at the gate
URL:https://statelinekids.com/event/great-northern-illinois-pro-rodeo-and-bull-riding/2024-09-06/
LOCATION:Boone County Fairgrounds\, 8791 IL-76\, Belvidere\, IL\, United States
CATEGORIES:Belvidere
END:VEVENT
END:VCALENDAR