BEGIN:VCALENDAR
VERSION:2.0
PRODID:-//Stateline Kids - ECPv6.5.1.3//NONSGML v1.0//EN
CALSCALE:GREGORIAN
METHOD:PUBLISH
X-ORIGINAL-URL:https://statelinekids.com
X-WR-CALDESC:Events for Stateline Kids
REFRESH-INTERVAL;VALUE=DURATION:PT1H
X-Robots-Tag:noindex
X-PUBLISHED-TTL:PT1H
BEGIN:VTIMEZONE
TZID:America/Chicago
BEGIN:DAYLIGHT
TZOFFSETFROM:-0600
TZOFFSETTO:-0500
TZNAME:CDT
DTSTART:20220313T080000
END:DAYLIGHT
BEGIN:STANDARD
TZOFFSETFROM:-0500
TZOFFSETTO:-0600
TZNAME:CST
DTSTART:20221106T070000
END:STANDARD
END:VTIMEZONE
BEGIN:VEVENT
DTSTART;TZID=America/Chicago:20220908T193000
DTEND;TZID=America/Chicago:20220908T213000
DTSTAMP:20260420T023319
CREATED:20220904T203255Z
LAST-MODIFIED:20220904T203255Z
UID:23264-1662665400-1662672600@statelinekids.com
SUMMARY:Good Vibrations: Songs of the 60s
DESCRIPTION:Rockford University Performing Arts presents a musical tour of 1960s music. Get tickets here.
URL:https://statelinekids.com/event/good-vibrations-songs-of-the-60s/2022-09-08/
LOCATION:Rockford University\, 5050 E State St.\, Rockford\, IL\, United States
CATEGORIES:Rockford
END:VEVENT
END:VCALENDAR