BEGIN:VCALENDAR
VERSION:2.0
PRODID:-//Stateline Kids - ECPv6.5.1.3//NONSGML v1.0//EN
CALSCALE:GREGORIAN
METHOD:PUBLISH
X-WR-CALNAME:Stateline Kids
X-ORIGINAL-URL:https://statelinekids.com
X-WR-CALDESC:Events for Stateline Kids
REFRESH-INTERVAL;VALUE=DURATION:PT1H
X-Robots-Tag:noindex
X-PUBLISHED-TTL:PT1H
BEGIN:VTIMEZONE
TZID:America/Chicago
BEGIN:DAYLIGHT
TZOFFSETFROM:-0600
TZOFFSETTO:-0500
TZNAME:CDT
DTSTART:20210314T080000
END:DAYLIGHT
BEGIN:STANDARD
TZOFFSETFROM:-0500
TZOFFSETTO:-0600
TZNAME:CST
DTSTART:20211107T070000
END:STANDARD
END:VTIMEZONE
BEGIN:VEVENT
DTSTART;TZID=America/Chicago:20210507T090000
DTEND;TZID=America/Chicago:20210507T160000
DTSTAMP:20260421T000328
CREATED:20210502T190021Z
LAST-MODIFIED:20210502T190021Z
UID:15494-1620378000-1620403200@statelinekids.com
SUMMARY:Go Public Garden Days
DESCRIPTION:Enjoy free daily admission from May 7 – May 14 at Klehm. Check out the Smartphone tour and scavenger hunt.
URL:https://statelinekids.com/event/go-public-garden-days/2021-05-07/
LOCATION:Klehm Arboretum and Botanic Garden\, 2715 S Main St\,\, Rockford\, IL\, United States
CATEGORIES:Rockford
END:VEVENT
END:VCALENDAR