BEGIN:VCALENDAR
VERSION:2.0
PRODID:-//Stateline Kids - ECPv6.5.1.3//NONSGML v1.0//EN
CALSCALE:GREGORIAN
METHOD:PUBLISH
X-ORIGINAL-URL:https://statelinekids.com
X-WR-CALDESC:Events for Stateline Kids
REFRESH-INTERVAL;VALUE=DURATION:PT1H
X-Robots-Tag:noindex
X-PUBLISHED-TTL:PT1H
BEGIN:VTIMEZONE
TZID:America/Chicago
BEGIN:DAYLIGHT
TZOFFSETFROM:-0600
TZOFFSETTO:-0500
TZNAME:CDT
DTSTART:20210314T080000
END:DAYLIGHT
BEGIN:STANDARD
TZOFFSETFROM:-0500
TZOFFSETTO:-0600
TZNAME:CST
DTSTART:20211107T070000
END:STANDARD
END:VTIMEZONE
BEGIN:VEVENT
DTSTART;TZID=America/Chicago:20210122T100000
DTEND;TZID=America/Chicago:20210122T190000
DTSTAMP:20260421T213841
CREATED:20210117T202714Z
LAST-MODIFIED:20210117T202714Z
UID:14607-1611309600-1611342000@statelinekids.com
SUMMARY:Gnomeland and More Craft Show
DESCRIPTION:Shop for crafts\, handmade items\, and more.
URL:https://statelinekids.com/event/gnomeland-and-more-craft-show/2021-01-22/
LOCATION:Dodge Lanes\, 1940 N. State St.\, Belvidere\, IL\, United States
CATEGORIES:Belvidere
END:VEVENT
END:VCALENDAR