BEGIN:VCALENDAR
VERSION:2.0
PRODID:-//Stateline Kids - ECPv6.5.1.3//NONSGML v1.0//EN
CALSCALE:GREGORIAN
METHOD:PUBLISH
X-WR-CALNAME:Stateline Kids
X-ORIGINAL-URL:https://statelinekids.com
X-WR-CALDESC:Events for Stateline Kids
REFRESH-INTERVAL;VALUE=DURATION:PT1H
X-Robots-Tag:noindex
X-PUBLISHED-TTL:PT1H
BEGIN:VTIMEZONE
TZID:America/Chicago
BEGIN:DAYLIGHT
TZOFFSETFROM:-0600
TZOFFSETTO:-0500
TZNAME:CDT
DTSTART:20230312T080000
END:DAYLIGHT
BEGIN:STANDARD
TZOFFSETFROM:-0500
TZOFFSETTO:-0600
TZNAME:CST
DTSTART:20231105T070000
END:STANDARD
END:VTIMEZONE
BEGIN:VEVENT
DTSTART;TZID=America/Chicago:20230619T080000
DTEND;TZID=America/Chicago:20230619T160000
DTSTAMP:20260423T184517
CREATED:20230616T160729Z
LAST-MODIFIED:20230616T160730Z
UID:28775-1687161600-1687190400@statelinekids.com
SUMMARY:Farm and Forest Leadership Camp
DESCRIPTION:Tweens and teens can develop their Youth Leadership Skills during this unique camp experience! This program is designed for campers aged 10-15 with a focus on building youth leadership skills.\n\nCampers will also engage in wilderness survival skills training\, Ecological Land Restoration\, Hiking\, Creek Exploration & Study\, Livestock Care\, Gardening & Culinary Programs\, and participate in the Council of All Beings.\n\nThis camp is perfect for youth interested in community leadership opportunities or becoming camp counselors.\n\nSCHEDULE:\nMon June 19 – Wed Jun 23 8am-4pm (bring a lunch and water bottles)\nOvernight Thursday 8am- Friday 3pm (meals provided!)\n\nSign up here.
URL:https://statelinekids.com/event/farm-and-forest-leadership-camp/2023-06-19/
LOCATION:Angelic Organics Learning Center\, 1545 Rockton Rd.\, Rockton\, IL\, United States
CATEGORIES:Caledonia
ATTACH;FMTTYPE=image/jpeg:https://statelinekids.com/wp-content/uploads/2023/06/Farm.jpeg
END:VEVENT
END:VCALENDAR