BEGIN:VCALENDAR
VERSION:2.0
PRODID:-//Stateline Kids - ECPv6.5.1.3//NONSGML v1.0//EN
CALSCALE:GREGORIAN
METHOD:PUBLISH
X-ORIGINAL-URL:https://statelinekids.com
X-WR-CALDESC:Events for Stateline Kids
REFRESH-INTERVAL;VALUE=DURATION:PT1H
X-Robots-Tag:noindex
X-PUBLISHED-TTL:PT1H
BEGIN:VTIMEZONE
TZID:America/Chicago
BEGIN:DAYLIGHT
TZOFFSETFROM:-0600
TZOFFSETTO:-0500
TZNAME:CDT
DTSTART:20250309T080000
END:DAYLIGHT
BEGIN:STANDARD
TZOFFSETFROM:-0500
TZOFFSETTO:-0600
TZNAME:CST
DTSTART:20251102T070000
END:STANDARD
END:VTIMEZONE
BEGIN:VEVENT
DTSTART;TZID=America/Chicago:20250608T090000
DTEND;TZID=America/Chicago:20250608T190000
DTSTAMP:20260423T182450
CREATED:20250601T192443Z
LAST-MODIFIED:20250601T192443Z
UID:40830-1749373200-1749409200@statelinekids.com
SUMMARY:Dinosaur Adventure
DESCRIPTION:Check out animatronic dinosaurs\, bounce houses\, fossil digs\, scooters\, and more. Get tickets here.
URL:https://statelinekids.com/event/dinosaur-adventure/2025-06-08/
LOCATION:Indoor Sports Center\, 8800 E Riverside Blvd\, Loves Park\, IL\, United States
CATEGORIES:Loves Park
END:VEVENT
BEGIN:VEVENT
DTSTART;TZID=America/Chicago:20250607T090000
DTEND;TZID=America/Chicago:20250607T200000
DTSTAMP:20260423T182450
CREATED:20250601T192443Z
LAST-MODIFIED:20250601T192443Z
UID:40829-1749286800-1749326400@statelinekids.com
SUMMARY:Dinosaur Adventure
DESCRIPTION:Check out animatronic dinosaurs\, bounce houses\, fossil digs\, scooters\, and more. Get tickets here.
URL:https://statelinekids.com/event/dinosaur-adventure/2025-06-07/
LOCATION:Indoor Sports Center\, 8800 E Riverside Blvd\, Loves Park\, IL\, United States
CATEGORIES:Loves Park
END:VEVENT
BEGIN:VEVENT
DTSTART;TZID=America/Chicago:20250606T120000
DTEND;TZID=America/Chicago:20250606T200000
DTSTAMP:20260423T182450
CREATED:20250601T192443Z
LAST-MODIFIED:20250601T192443Z
UID:40827-1749211200-1749240000@statelinekids.com
SUMMARY:Dinosaur Adventure
DESCRIPTION:Check out animatronic dinosaurs\, bounce houses\, fossil digs\, scooters\, and more. Get tickets here.
URL:https://statelinekids.com/event/dinosaur-adventure/2025-06-06/
LOCATION:Indoor Sports Center\, 8800 E Riverside Blvd\, Loves Park\, IL\, United States
CATEGORIES:Loves Park
END:VEVENT
END:VCALENDAR