BEGIN:VCALENDAR
VERSION:2.0
PRODID:-//Stateline Kids - ECPv6.5.1.3//NONSGML v1.0//EN
CALSCALE:GREGORIAN
METHOD:PUBLISH
X-WR-CALNAME:Stateline Kids
X-ORIGINAL-URL:https://statelinekids.com
X-WR-CALDESC:Events for Stateline Kids
REFRESH-INTERVAL;VALUE=DURATION:PT1H
X-Robots-Tag:noindex
X-PUBLISHED-TTL:PT1H
BEGIN:VTIMEZONE
TZID:America/Chicago
BEGIN:DAYLIGHT
TZOFFSETFROM:-0600
TZOFFSETTO:-0500
TZNAME:CDT
DTSTART:20230312T080000
END:DAYLIGHT
BEGIN:STANDARD
TZOFFSETFROM:-0500
TZOFFSETTO:-0600
TZNAME:CST
DTSTART:20231105T070000
END:STANDARD
END:VTIMEZONE
BEGIN:VEVENT
DTSTART;TZID=America/Chicago:20230324T090000
DTEND;TZID=America/Chicago:20230324T200000
DTSTAMP:20260420T120302
CREATED:20230308T221928Z
LAST-MODIFIED:20230308T221928Z
UID:26774-1679648400-1679688000@statelinekids.com
SUMMARY:Crafty Reader
DESCRIPTION:Listen to the story at one of the audio stations at the Loves Park branch (March 24) and Roscoe branch (March 31). Then stay to do the craft or take it to make at home.
URL:https://statelinekids.com/event/crafty-reader/2023-03-24/
LOCATION:North Suburban Library Loves Park\, 6349 N 2nd Street\, Loves Park\, IL\, United States
CATEGORIES:Loves Park,Roscoe
ATTACH;FMTTYPE=image/png:https://statelinekids.com/wp-content/uploads/2023/03/Screen-Shot-2023-03-08-at-4.17.44-PM.png
END:VEVENT
END:VCALENDAR