BEGIN:VCALENDAR
VERSION:2.0
PRODID:-//Stateline Kids - ECPv6.5.1.3//NONSGML v1.0//EN
CALSCALE:GREGORIAN
METHOD:PUBLISH
X-ORIGINAL-URL:https://statelinekids.com
X-WR-CALDESC:Events for Stateline Kids
REFRESH-INTERVAL;VALUE=DURATION:PT1H
X-Robots-Tag:noindex
X-PUBLISHED-TTL:PT1H
BEGIN:VTIMEZONE
TZID:America/Chicago
BEGIN:DAYLIGHT
TZOFFSETFROM:-0600
TZOFFSETTO:-0500
TZNAME:CDT
DTSTART:20250309T080000
END:DAYLIGHT
BEGIN:STANDARD
TZOFFSETFROM:-0500
TZOFFSETTO:-0600
TZNAME:CST
DTSTART:20251102T070000
END:STANDARD
END:VTIMEZONE
BEGIN:VEVENT
DTSTART;TZID=America/Chicago:20250412T190000
DTEND;TZID=America/Chicago:20250412T210000
DTSTAMP:20260422T213950
CREATED:20250405T215436Z
LAST-MODIFIED:20250405T215436Z
UID:40113-1744484400-1744491600@statelinekids.com
SUMMARY:Beetlejuice Jr.
DESCRIPTION:Enjoy a 90 minute performance of Beetlejuice from talented youth. Get tickets here.
URL:https://statelinekids.com/event/beetlejuice-jr/2025-04-12/2/
LOCATION:Nordlof Center\, 118 N. Main Street\, Rockford\, IL\, United States
CATEGORIES:Rockford
END:VEVENT
BEGIN:VEVENT
DTSTART;TZID=America/Chicago:20250412T140000
DTEND;TZID=America/Chicago:20250412T160000
DTSTAMP:20260422T213950
CREATED:20250405T215436Z
LAST-MODIFIED:20250405T215436Z
UID:40112-1744466400-1744473600@statelinekids.com
SUMMARY:Beetlejuice Jr.
DESCRIPTION:Enjoy a 90 minute performance of Beetlejuice from talented youth. Get tickets here.
URL:https://statelinekids.com/event/beetlejuice-jr/2025-04-12/
LOCATION:Nordlof Center\, 118 N. Main Street\, Rockford\, IL\, United States
CATEGORIES:Rockford
END:VEVENT
BEGIN:VEVENT
DTSTART;TZID=America/Chicago:20250411T190000
DTEND;TZID=America/Chicago:20250411T210000
DTSTAMP:20260422T213950
CREATED:20250405T215436Z
LAST-MODIFIED:20250405T215436Z
UID:40111-1744398000-1744405200@statelinekids.com
SUMMARY:Beetlejuice Jr.
DESCRIPTION:Enjoy a 90 minute performance of Beetlejuice from talented youth. Get tickets here.
URL:https://statelinekids.com/event/beetlejuice-jr/2025-04-11/
LOCATION:Nordlof Center\, 118 N. Main Street\, Rockford\, IL\, United States
CATEGORIES:Rockford
END:VEVENT
BEGIN:VEVENT
DTSTART;TZID=America/Chicago:20250410T190000
DTEND;TZID=America/Chicago:20250410T210000
DTSTAMP:20260422T213950
CREATED:20250405T215436Z
LAST-MODIFIED:20250405T215436Z
UID:40109-1744311600-1744318800@statelinekids.com
SUMMARY:Beetlejuice Jr.
DESCRIPTION:Enjoy a 90 minute performance of Beetlejuice from talented youth. Get tickets here.
URL:https://statelinekids.com/event/beetlejuice-jr/2025-04-10/
LOCATION:Nordlof Center\, 118 N. Main Street\, Rockford\, IL\, United States
CATEGORIES:Rockford
END:VEVENT
END:VCALENDAR