BEGIN:VCALENDAR
VERSION:2.0
PRODID:-//Stateline Kids - ECPv6.5.1.3//NONSGML v1.0//EN
CALSCALE:GREGORIAN
METHOD:PUBLISH
X-ORIGINAL-URL:https://statelinekids.com
X-WR-CALDESC:Events for Stateline Kids
REFRESH-INTERVAL;VALUE=DURATION:PT1H
X-Robots-Tag:noindex
X-PUBLISHED-TTL:PT1H
BEGIN:VTIMEZONE
TZID:America/Chicago
BEGIN:DAYLIGHT
TZOFFSETFROM:-0600
TZOFFSETTO:-0500
TZNAME:CDT
DTSTART:20220313T080000
END:DAYLIGHT
BEGIN:STANDARD
TZOFFSETFROM:-0500
TZOFFSETTO:-0600
TZNAME:CST
DTSTART:20221106T070000
END:STANDARD
END:VTIMEZONE
BEGIN:VEVENT
DTSTART;TZID=America/Chicago:20221112T090000
DTEND;TZID=America/Chicago:20221112T170000
DTSTAMP:20260422T171716
CREATED:20221030T193755Z
LAST-MODIFIED:20221030T193755Z
UID:24721-1668243600-1668272400@statelinekids.com
SUMMARY:Arts & Crafts Holidays Spectacular
DESCRIPTION:Shop from 100+ vendors selling home and holiday decor and items. \nCost: $5 per adult / free for kids under 12
URL:https://statelinekids.com/event/arts-crafts-holidays-spectacular/2022-11-12/
LOCATION:Indoor Sports Center\, 8800 E Riverside Blvd\, Loves Park\, IL\, United States
CATEGORIES:Loves Park
END:VEVENT
END:VCALENDAR