BEGIN:VCALENDAR
VERSION:2.0
PRODID:-//Stateline Kids - ECPv6.5.1.3//NONSGML v1.0//EN
CALSCALE:GREGORIAN
METHOD:PUBLISH
X-ORIGINAL-URL:https://statelinekids.com
X-WR-CALDESC:Events for Stateline Kids
REFRESH-INTERVAL;VALUE=DURATION:PT1H
X-Robots-Tag:noindex
X-PUBLISHED-TTL:PT1H
BEGIN:VTIMEZONE
TZID:America/Chicago
BEGIN:DAYLIGHT
TZOFFSETFROM:-0600
TZOFFSETTO:-0500
TZNAME:CDT
DTSTART:20240310T080000
END:DAYLIGHT
BEGIN:STANDARD
TZOFFSETFROM:-0500
TZOFFSETTO:-0600
TZNAME:CST
DTSTART:20241103T070000
END:STANDARD
END:VTIMEZONE
BEGIN:VEVENT
DTSTART;TZID=America/Chicago:20240616T100000
DTEND;TZID=America/Chicago:20240616T170000
DTSTAMP:20260419T225702
CREATED:20240609T184850Z
LAST-MODIFIED:20240609T184850Z
UID:35364-1718532000-1718557200@statelinekids.com
SUMMARY:Art in Bloom
DESCRIPTION:Catch this unique display of floral arrangements that complement artwork from Rockford Art Museum’s permanent collection. \nCost: $10 per pearson / $5 for RAM members
URL:https://statelinekids.com/event/art-in-bloom-2/2024-06-16/
LOCATION:Union Event Space\, 112 N. 2nd Street\, Rockford\, IL\, United States
CATEGORIES:Rockford
END:VEVENT
BEGIN:VEVENT
DTSTART;TZID=America/Chicago:20240615T100000
DTEND;TZID=America/Chicago:20240615T170000
DTSTAMP:20260419T225702
CREATED:20240609T184850Z
LAST-MODIFIED:20240609T184850Z
UID:35363-1718445600-1718470800@statelinekids.com
SUMMARY:Art in Bloom
DESCRIPTION:Catch this unique display of floral arrangements that complement artwork from Rockford Art Museum’s permanent collection. \nCost: $10 per pearson / $5 for RAM members
URL:https://statelinekids.com/event/art-in-bloom-2/2024-06-15/
LOCATION:Union Event Space\, 112 N. 2nd Street\, Rockford\, IL\, United States
CATEGORIES:Rockford
END:VEVENT
BEGIN:VEVENT
DTSTART;TZID=America/Chicago:20240614T100000
DTEND;TZID=America/Chicago:20240614T170000
DTSTAMP:20260419T225702
CREATED:20240609T184850Z
LAST-MODIFIED:20240609T184850Z
UID:35362-1718359200-1718384400@statelinekids.com
SUMMARY:Art in Bloom
DESCRIPTION:Catch this unique display of floral arrangements that complement artwork from Rockford Art Museum’s permanent collection. \nCost: $10 per pearson / $5 for RAM members
URL:https://statelinekids.com/event/art-in-bloom-2/2024-06-14/
LOCATION:Union Event Space\, 112 N. 2nd Street\, Rockford\, IL\, United States
CATEGORIES:Rockford
END:VEVENT
BEGIN:VEVENT
DTSTART;TZID=America/Chicago:20240613T100000
DTEND;TZID=America/Chicago:20240613T170000
DTSTAMP:20260419T225702
CREATED:20240609T184850Z
LAST-MODIFIED:20240609T184850Z
UID:35358-1718272800-1718298000@statelinekids.com
SUMMARY:Art in Bloom
DESCRIPTION:Catch this unique display of floral arrangements that complement artwork from Rockford Art Museum’s permanent collection. \nCost: $10 per pearson / $5 for RAM members
URL:https://statelinekids.com/event/art-in-bloom-2/2024-06-13/
LOCATION:Union Event Space\, 112 N. 2nd Street\, Rockford\, IL\, United States
CATEGORIES:Rockford
END:VEVENT
END:VCALENDAR