BEGIN:VCALENDAR
VERSION:2.0
PRODID:-//Stateline Kids - ECPv6.5.1.3//NONSGML v1.0//EN
CALSCALE:GREGORIAN
METHOD:PUBLISH
X-ORIGINAL-URL:https://statelinekids.com
X-WR-CALDESC:Events for Stateline Kids
REFRESH-INTERVAL;VALUE=DURATION:PT1H
X-Robots-Tag:noindex
X-PUBLISHED-TTL:PT1H
BEGIN:VTIMEZONE
TZID:America/Chicago
BEGIN:DAYLIGHT
TZOFFSETFROM:-0600
TZOFFSETTO:-0500
TZNAME:CDT
DTSTART:20200308T080000
END:DAYLIGHT
BEGIN:STANDARD
TZOFFSETFROM:-0500
TZOFFSETTO:-0600
TZNAME:CST
DTSTART:20201101T070000
END:STANDARD
END:VTIMEZONE
BEGIN:VEVENT
DTSTART;TZID=America/Chicago:20200731T100000
DTEND;TZID=America/Chicago:20200731T170000
DTSTAMP:20260423T001631
CREATED:20200726T164048Z
LAST-MODIFIED:20200726T164048Z
UID:12380-1596189600-1596214800@statelinekids.com
SUMMARY:Adopt a Monarch at Burpee
DESCRIPTION:Raise a monarch from Burpee. Larva will be ready to pick up Friday\, Saturday and Sunday until August 30th. It is free with museum admission and free to members. Sign up here. \nCost: $10 for people 13 and older\, $8 for kids 4-12\, free for kids 3 and under
URL:https://statelinekids.com/event/adopt-a-monarch-at-burpee/2020-07-31/
LOCATION:Burpee Natural History Museum\, 737 N. Main St\, Rockford\, IL\, United States
CATEGORIES:Rockford
END:VEVENT
END:VCALENDAR